BEGIN:VCALENDAR
VERSION:2.0
PRODID:-//EZFacility.com, Inc.//EZL 2.5.5.28621
BEGIN:VEVENT
UID:10166080@ezleagues.ezfacility.com
DTSTAMP:20260426T033546Z
CREATED:20260426T033546Z
DTSTART:20170211T192000Z
DTEND:20170211T201500Z
LOCATION:Harmans Premier Field #5
CONTACT:
SUMMARY:PSC Spirit VS. SAC Challenge
DESCRIPTION:League Name: Youth (WINTER 2) SD2 Sat/Sun U12 Girls\nGame Type:
  Regular\nGame Status: Complete\nHome Team: PSC Spirit\nAway Team: SAC Cha
 llenge\nHome Score: 4\nAway Score: 0
END:VEVENT
BEGIN:VEVENT
UID:10166123@ezleagues.ezfacility.com
DTSTAMP:20260426T033546Z
CREATED:20260426T033546Z
DTSTART:20170219T154000Z
DTEND:20170219T163500Z
LOCATION:Harmans Premier Field #4
CONTACT:
SUMMARY:GSPAA Stingers VS. SAC Challenge
DESCRIPTION:League Name: Youth (WINTER 2) SD2 Sat/Sun U12 Girls\nGame Type:
  Regular\nGame Status: Complete\nHome Team: GSPAA Stingers\nAway Team: SAC
  Challenge\nHome Score: 3\nAway Score: 1
END:VEVENT
BEGIN:VEVENT
UID:10166166@ezleagues.ezfacility.com
DTSTAMP:20260426T033546Z
CREATED:20260426T033546Z
DTSTART:20170225T173000Z
DTEND:20170225T182500Z
LOCATION:Harmans Premier Field #4
CONTACT:
SUMMARY:Misfits VS. SAC Challenge
DESCRIPTION:League Name: Youth (WINTER 2) SD2 Sat/Sun U12 Girls\nGame Type:
  Regular\nGame Status: Complete\nHome Team: Misfits\nAway Team: SAC Challe
 nge\nHome Score: 8\nAway Score: 0
END:VEVENT
BEGIN:VEVENT
UID:10166209@ezleagues.ezfacility.com
DTSTAMP:20260426T033546Z
CREATED:20260426T033546Z
DTSTART:20170305T182500Z
DTEND:20170305T192000Z
LOCATION:Harmans Premier Field #4
CONTACT:
SUMMARY:PSC Strykers VS. SAC Challenge
DESCRIPTION:League Name: Youth (WINTER 2) SD2 Sat/Sun U12 Girls\nGame Type:
  Regular\nGame Status: Complete\nHome Team: PSC Strykers\nAway Team: SAC C
 hallenge\nHome Score: 1\nAway Score: 6
END:VEVENT
BEGIN:VEVENT
UID:10166297@ezleagues.ezfacility.com
DTSTAMP:20260426T033546Z
CREATED:20260426T033546Z
DTSTART:20170318T153500Z
DTEND:20170318T163000Z
LOCATION:Harmans Premier Field #5
CONTACT:
SUMMARY:SAC Challenge VS. Maryland Rush White 
DESCRIPTION:League Name: Youth (WINTER 2) SD2 Sat/Sun U12 Girls\nGame Type:
  Regular\nGame Status: Complete\nHome Team: SAC Challenge\nAway Team: Mary
 land Rush White \nHome Score: 1\nAway Score: 3
END:VEVENT
BEGIN:VEVENT
UID:10166342@ezleagues.ezfacility.com
DTSTAMP:20260426T033546Z
CREATED:20260426T033546Z
DTSTART:20170319T170000Z
DTEND:20170319T175500Z
LOCATION:Jessup Premier Field #1
CONTACT:
SUMMARY:SAC Challenge VS. DAA Rebels
DESCRIPTION:League Name: Youth (WINTER 2) SD2 Sat/Sun U12 Girls\nGame Type:
  Regular\nGame Status: Complete\nHome Team: SAC Challenge\nAway Team: DAA 
 Rebels\nHome Score: 5\nAway Score: 3
END:VEVENT
BEGIN:VEVENT
UID:10166252@ezleagues.ezfacility.com
DTSTAMP:20260426T033546Z
CREATED:20260426T033546Z
DTSTART:20170326T144000Z
DTEND:20170326T153500Z
LOCATION:Harmans Premier Field #4
CONTACT:
SUMMARY:SAC Challenge VS. Baltimore Celtic Dynamos
DESCRIPTION:League Name: Youth (WINTER 2) SD2 Sat/Sun U12 Girls\nGame Type:
  Regular\nGame Status: Complete\nHome Team: SAC Challenge\nAway Team: Balt
 imore Celtic Dynamos\nHome Score: 1\nAway Score: 9
END:VEVENT
END:VCALENDAR
