BEGIN:VCALENDAR
VERSION:2.0
PRODID:-//EZFacility.com, Inc.//EZL 2.5.5.28621
BEGIN:VEVENT
UID:10123648@ezleagues.ezfacility.com
DTSTAMP:20260424T043248Z
CREATED:20260424T043248Z
DTSTART:20170128T221500Z
DTEND:20170128T225500Z
LOCATION:LG Field 2
CONTACT:
SUMMARY:I'm Blind\, I'm Deaf  VS. Celtic FC 
DESCRIPTION:League Name: Men's Open D (Y) - Winter 2\nGame Type: Regular\nG
 ame Status: Complete\nHome Team: I'm Blind, I'm Deaf \nAway Team: Celtic F
 C \nHome Score: 5\nAway Score: 9
END:VEVENT
BEGIN:VEVENT
UID:10123662@ezleagues.ezfacility.com
DTSTAMP:20260424T043248Z
CREATED:20260424T043248Z
DTSTART:20170205T063000Z
DTEND:20170205T071000Z
LOCATION:LG Field 2
CONTACT:
SUMMARY:Celtic FC  VS. Shecanos 
DESCRIPTION:League Name: Men's Open D (Y) - Winter 2\nGame Type: Regular\nG
 ame Status: Complete\nHome Team: Celtic FC \nAway Team: Shecanos \nHome Sc
 ore: 10\nAway Score: 5
END:VEVENT
BEGIN:VEVENT
UID:10123676@ezleagues.ezfacility.com
DTSTAMP:20260424T043248Z
CREATED:20260424T043248Z
DTSTART:20170212T020000Z
DTEND:20170212T024000Z
LOCATION:LG Field 2
CONTACT:
SUMMARY:Celtic FC  VS. Free Agents 
DESCRIPTION:League Name: Men's Open D (Y) - Winter 2\nGame Type: Regular\nG
 ame Status: Complete\nHome Team: Celtic FC \nAway Team: Free Agents \nHome
  Score: 5\nAway Score: 3
END:VEVENT
BEGIN:VEVENT
UID:10123689@ezleagues.ezfacility.com
DTSTAMP:20260424T043248Z
CREATED:20260424T043248Z
DTSTART:20170219T011500Z
DTEND:20170219T015500Z
LOCATION:LG Field 2
CONTACT:
SUMMARY:Dingers  VS. Celtic FC 
DESCRIPTION:League Name: Men's Open D (Y) - Winter 2\nGame Type: Regular\nG
 ame Status: Complete\nHome Team: Dingers \nAway Team: Celtic FC \nHome Sco
 re: 3\nAway Score: 4
END:VEVENT
BEGIN:VEVENT
UID:10123701@ezleagues.ezfacility.com
DTSTAMP:20260424T043248Z
CREATED:20260424T043248Z
DTSTART:20170226T024500Z
DTEND:20170226T032500Z
LOCATION:LG Field 2
CONTACT:
SUMMARY:Outlaws  VS. Celtic FC 
DESCRIPTION:League Name: Men's Open D (Y) - Winter 2\nGame Type: Regular\nG
 ame Status: Complete\nHome Team: Outlaws \nAway Team: Celtic FC \nHome Sco
 re: 3\nAway Score: 11
END:VEVENT
BEGIN:VEVENT
UID:10123739@ezleagues.ezfacility.com
DTSTAMP:20260424T043248Z
CREATED:20260424T043248Z
DTSTART:20170319T031500Z
DTEND:20170319T035500Z
LOCATION:LG Field 2
CONTACT:
SUMMARY:Celtic FC  VS. I'm Blind\, I'm Deaf 
DESCRIPTION:League Name: Men's Open D (Y) - Winter 2\nGame Type: Regular\nG
 ame Status: Complete\nHome Team: Celtic FC \nAway Team: I'm Blind, I'm Dea
 f \nHome Score: 6\nAway Score: 7
END:VEVENT
BEGIN:VEVENT
UID:10123725@ezleagues.ezfacility.com
DTSTAMP:20260424T043248Z
CREATED:20260424T043248Z
DTSTART:20170325T013000Z
DTEND:20170325T021000Z
LOCATION:LG Field 1
CONTACT:
SUMMARY:Celtic FC  VS. Balls Deep 
DESCRIPTION:League Name: Men's Open D (Y) - Winter 2\nGame Type: Regular\nG
 ame Status: Complete\nHome Team: Celtic FC \nAway Team: Balls Deep \nHome 
 Score: 2\nAway Score: 3
END:VEVENT
BEGIN:VEVENT
UID:10123713@ezleagues.ezfacility.com
DTSTAMP:20260424T043248Z
CREATED:20260424T043248Z
DTSTART:20170325T233000Z
DTEND:20170326T001000Z
LOCATION:LG Field 2
CONTACT:
SUMMARY:Mongolia TU  VS. Celtic FC 
DESCRIPTION:League Name: Men's Open D (Y) - Winter 2\nGame Type: Regular\nG
 ame Status: Complete\nHome Team: Mongolia TU \nAway Team: Celtic FC \nHome
  Score: 5\nAway Score: 0
END:VEVENT
END:VCALENDAR
