BEGIN:VCALENDAR
VERSION:2.0
PRODID:-//EZFacility.com, Inc.//EZL 2.5.5.28621
BEGIN:VEVENT
UID:10123649@ezleagues.ezfacility.com
DTSTAMP:20260426T033634Z
CREATED:20260426T033634Z
DTSTART:20170129T011500Z
DTEND:20170129T015500Z
LOCATION:LG Field 2
CONTACT:
SUMMARY:Outlaws  VS. Free Agents 
DESCRIPTION:League Name: Men's Open D (Y) - Winter 2\nGame Type: Regular\nG
 ame Status: Complete\nHome Team: Outlaws \nAway Team: Free Agents \nHome S
 core: 6\nAway Score: 7
END:VEVENT
BEGIN:VEVENT
UID:10123663@ezleagues.ezfacility.com
DTSTAMP:20260426T033634Z
CREATED:20260426T033634Z
DTSTART:20170204T213000Z
DTEND:20170204T221000Z
LOCATION:LG Field 1
CONTACT:
SUMMARY:Free Agents  VS. Mongolia TU 
DESCRIPTION:League Name: Men's Open D (Y) - Winter 2\nGame Type: Regular\nG
 ame Status: Complete\nHome Team: Free Agents \nAway Team: Mongolia TU \nHo
 me Score: 3\nAway Score: 2
END:VEVENT
BEGIN:VEVENT
UID:10123676@ezleagues.ezfacility.com
DTSTAMP:20260426T033634Z
CREATED:20260426T033634Z
DTSTART:20170212T020000Z
DTEND:20170212T024000Z
LOCATION:LG Field 2
CONTACT:
SUMMARY:Celtic FC  VS. Free Agents 
DESCRIPTION:League Name: Men's Open D (Y) - Winter 2\nGame Type: Regular\nG
 ame Status: Complete\nHome Team: Celtic FC \nAway Team: Free Agents \nHome
  Score: 5\nAway Score: 3
END:VEVENT
BEGIN:VEVENT
UID:10123700@ezleagues.ezfacility.com
DTSTAMP:20260426T033634Z
CREATED:20260426T033634Z
DTSTART:20170226T054500Z
DTEND:20170226T062500Z
LOCATION:LG Field 2
CONTACT:
SUMMARY:Shecanos  VS. Free Agents 
DESCRIPTION:League Name: Men's Open D (Y) - Winter 2\nGame Type: Regular\nG
 ame Status: Complete\nHome Team: Shecanos \nAway Team: Free Agents \nHome 
 Score: 7\nAway Score: 2
END:VEVENT
BEGIN:VEVENT
UID:10123712@ezleagues.ezfacility.com
DTSTAMP:20260426T033634Z
CREATED:20260426T033634Z
DTSTART:20170304T234500Z
DTEND:20170305T002500Z
LOCATION:LG Field 2
CONTACT:
SUMMARY:Free Agents  VS. Balls Deep 
DESCRIPTION:League Name: Men's Open D (Y) - Winter 2\nGame Type: Regular\nG
 ame Status: Complete\nHome Team: Free Agents \nAway Team: Balls Deep \nHom
 e Score: 3\nAway Score: 5
END:VEVENT
BEGIN:VEVENT
UID:10123726@ezleagues.ezfacility.com
DTSTAMP:20260426T033634Z
CREATED:20260426T033634Z
DTSTART:20170311T221500Z
DTEND:20170311T225500Z
LOCATION:LG Field 2
CONTACT:
SUMMARY:Free Agents  VS. Dingers 
DESCRIPTION:League Name: Men's Open D (Y) - Winter 2\nGame Type: Regular\nG
 ame Status: Complete\nHome Team: Free Agents \nAway Team: Dingers \nHome S
 core: 8\nAway Score: 8
END:VEVENT
BEGIN:VEVENT
UID:10123688@ezleagues.ezfacility.com
DTSTAMP:20260426T033634Z
CREATED:20260426T033634Z
DTSTART:20170318T000000Z
DTEND:20170318T004000Z
LOCATION:LG Field 1
CONTACT:
SUMMARY:I'm Blind\, I'm Deaf  VS. Free Agents 
DESCRIPTION:League Name: Men's Open D (Y) - Winter 2\nGame Type: Regular\nG
 ame Status: Complete\nHome Team: I'm Blind, I'm Deaf \nAway Team: Free Age
 nts \nHome Score: 7\nAway Score: 4
END:VEVENT
BEGIN:VEVENT
UID:10123740@ezleagues.ezfacility.com
DTSTAMP:20260426T033634Z
CREATED:20260426T033634Z
DTSTART:20170318T190000Z
DTEND:20170318T194000Z
LOCATION:LG Field 2
CONTACT:
SUMMARY:Free Agents  VS. Outlaws 
DESCRIPTION:League Name: Men's Open D (Y) - Winter 2\nGame Type: Regular\nG
 ame Status: Complete\nHome Team: Free Agents \nAway Team: Outlaws \nHome S
 core: 6\nAway Score: 4
END:VEVENT
END:VCALENDAR
