BEGIN:VCALENDAR
VERSION:2.0
PRODID:-//EZFacility.com, Inc.//EZL 2.5.5.28621
BEGIN:VEVENT
UID:10125221@ezleagues.ezfacility.com
DTSTAMP:20260424T044340Z
CREATED:20260424T044340Z
DTSTART:20170128T230000Z
DTEND:20170128T234000Z
LOCATION:SM Field 1
CONTACT:
SUMMARY:Jaguars  VS. Scorpions 
DESCRIPTION:League Name: Boys U7/8 (4v4) - Winter 2 \nGame Type: Regular\nG
 ame Status: Complete\nHome Team: Jaguars \nAway Team: Scorpions \nHome Sco
 re: 2\nAway Score: 4
END:VEVENT
BEGIN:VEVENT
UID:10125230@ezleagues.ezfacility.com
DTSTAMP:20260424T044340Z
CREATED:20260424T044340Z
DTSTART:20170204T183000Z
DTEND:20170204T191000Z
LOCATION:SM Field 1
CONTACT:
SUMMARY:City FC  VS. Scorpions 
DESCRIPTION:League Name: Boys U7/8 (4v4) - Winter 2 \nGame Type: Regular\nG
 ame Status: Complete\nHome Team: City FC \nAway Team: Scorpions \nHome Sco
 re: 4\nAway Score: 2
END:VEVENT
BEGIN:VEVENT
UID:10125241@ezleagues.ezfacility.com
DTSTAMP:20260424T044340Z
CREATED:20260424T044340Z
DTSTART:20170212T003000Z
DTEND:20170212T011000Z
LOCATION:SM Field 1
CONTACT:
SUMMARY:Scorpions  VS. Hurricane Red 
DESCRIPTION:League Name: Boys U7/8 (4v4) - Winter 2 \nGame Type: Regular\nG
 ame Status: Complete\nHome Team: Scorpions \nAway Team: Hurricane Red \nHo
 me Score: 6\nAway Score: 6
END:VEVENT
BEGIN:VEVENT
UID:10125284@ezleagues.ezfacility.com
DTSTAMP:20260424T044340Z
CREATED:20260424T044340Z
DTSTART:20170218T183000Z
DTEND:20170218T191000Z
LOCATION:SM Field 1
CONTACT:
SUMMARY:ODA Black  VS. Scorpions 
DESCRIPTION:League Name: Boys U7/8 (4v4) - Winter 2 \nGame Type: Regular\nG
 ame Status: Complete\nHome Team: ODA Black \nAway Team: Scorpions \nHome S
 core: 3\nAway Score: 5
END:VEVENT
BEGIN:VEVENT
UID:10125293@ezleagues.ezfacility.com
DTSTAMP:20260424T044340Z
CREATED:20260424T044340Z
DTSTART:20170225T230000Z
DTEND:20170225T234000Z
LOCATION:SM Field 1
CONTACT:
SUMMARY:Hurricane Navy  VS. Scorpions 
DESCRIPTION:League Name: Boys U7/8 (4v4) - Winter 2 \nGame Type: Regular\nG
 ame Status: Complete\nHome Team: Hurricane Navy \nAway Team: Scorpions \nH
 ome Score: 3\nAway Score: 10
END:VEVENT
BEGIN:VEVENT
UID:10125274@ezleagues.ezfacility.com
DTSTAMP:20260424T044340Z
CREATED:20260424T044340Z
DTSTART:20170305T003000Z
DTEND:20170305T011000Z
LOCATION:SM Field 1
CONTACT:
SUMMARY:Scorpions  VS. ODA Fire Dragons 
DESCRIPTION:League Name: Boys U7/8 (4v4) - Winter 2 \nGame Type: Regular\nG
 ame Status: Complete\nHome Team: Scorpions \nAway Team: ODA Fire Dragons \
 nHome Score: 2\nAway Score: 5
END:VEVENT
BEGIN:VEVENT
UID:10125252@ezleagues.ezfacility.com
DTSTAMP:20260424T044340Z
CREATED:20260424T044340Z
DTSTART:20170311T230000Z
DTEND:20170311T234000Z
LOCATION:SM Field 1
CONTACT:
SUMMARY:Scorpions  VS. Tulsa Blues FC 
DESCRIPTION:League Name: Boys U7/8 (4v4) - Winter 2 \nGame Type: Regular\nG
 ame Status: Complete\nHome Team: Scorpions \nAway Team: Tulsa Blues FC \nH
 ome Score: 1\nAway Score: 5
END:VEVENT
BEGIN:VEVENT
UID:10125263@ezleagues.ezfacility.com
DTSTAMP:20260424T044340Z
CREATED:20260424T044340Z
DTSTART:20170318T190000Z
DTEND:20170318T194000Z
LOCATION:SM Field 1
CONTACT:
SUMMARY:Scorpions  VS. ODA Gatitos 
DESCRIPTION:League Name: Boys U7/8 (4v4) - Winter 2 \nGame Type: Regular\nG
 ame Status: Complete\nHome Team: Scorpions \nAway Team: ODA Gatitos \nHome
  Score: 5\nAway Score: 7
END:VEVENT
END:VCALENDAR
