BEGIN:VCALENDAR
VERSION:2.0
PRODID:-//EZFacility.com, Inc.//EZL 2.5.5.28621
BEGIN:VEVENT
UID:10131357@ezleagues.ezfacility.com
DTSTAMP:20260423T234447Z
CREATED:20260423T234447Z
DTSTART:20170129T173000Z
DTEND:20170129T182000Z
LOCATION:Field 2
CONTACT:
SUMMARY:Kutztown Cougars VS. Wyomissing
DESCRIPTION:League Name: 2017 Winter Session 2 Indoor Soccer U14 Boys\nGame
  Type: Regular\nGame Status: Complete\nHome Team: Kutztown Cougars\nAway T
 eam: Wyomissing\nHome Score: 3\nAway Score: 10
END:VEVENT
BEGIN:VEVENT
UID:10131360@ezleagues.ezfacility.com
DTSTAMP:20260423T234447Z
CREATED:20260423T234447Z
DTSTART:20170205T185000Z
DTEND:20170205T194000Z
LOCATION:Field 1
CONTACT:
SUMMARY:Wyomissing VS. Exeter U14 Peterson
DESCRIPTION:League Name: 2017 Winter Session 2 Indoor Soccer U14 Boys\nGame
  Type: Regular\nGame Status: Complete\nHome Team: Wyomissing\nAway Team: E
 xeter U14 Peterson\nHome Score: 10\nAway Score: 5
END:VEVENT
BEGIN:VEVENT
UID:10131363@ezleagues.ezfacility.com
DTSTAMP:20260423T234447Z
CREATED:20260423T234447Z
DTSTART:20170212T182000Z
DTEND:20170212T191000Z
LOCATION:Field 1
CONTACT:
SUMMARY:Wyomissing VS. Bullets
DESCRIPTION:League Name: 2017 Winter Session 2 Indoor Soccer U14 Boys\nGame
  Type: Regular\nGame Status: Complete\nHome Team: Wyomissing\nAway Team: B
 ullets\nHome Score: 7\nAway Score: 2
END:VEVENT
BEGIN:VEVENT
UID:10131373@ezleagues.ezfacility.com
DTSTAMP:20260423T234447Z
CREATED:20260423T234447Z
DTSTART:20170226T173000Z
DTEND:20170226T182000Z
LOCATION:Field 2
CONTACT:
SUMMARY:Wyomissing VS. CYSC Avengers
DESCRIPTION:League Name: 2017 Winter Session 2 Indoor Soccer U14 Boys\nGame
  Type: Regular\nGame Status: Complete\nHome Team: Wyomissing\nAway Team: C
 YSC Avengers\nHome Score: 7\nAway Score: 6
END:VEVENT
BEGIN:VEVENT
UID:10131378@ezleagues.ezfacility.com
DTSTAMP:20260423T234447Z
CREATED:20260423T234447Z
DTSTART:20170305T182000Z
DTEND:20170305T191000Z
LOCATION:Field 1
CONTACT:
SUMMARY:TFC Fury VS. Wyomissing
DESCRIPTION:League Name: 2017 Winter Session 2 Indoor Soccer U14 Boys\nGame
  Type: Regular\nGame Status: Complete\nHome Team: TFC Fury\nAway Team: Wyo
 missing\nHome Score: 4\nAway Score: 8
END:VEVENT
BEGIN:VEVENT
UID:10131368@ezleagues.ezfacility.com
DTSTAMP:20260423T234447Z
CREATED:20260423T234447Z
DTSTART:20170308T013000Z
DTEND:20170308T022000Z
LOCATION:Field 1
CONTACT:
SUMMARY:Tigers VS. Wyomissing
DESCRIPTION:League Name: 2017 Winter Session 2 Indoor Soccer U14 Boys\nGame
  Type: Regular\nGame Status: Complete\nHome Team: Tigers\nAway Team: Wyomi
 ssing\nHome Score: 4\nAway Score: 11
END:VEVENT
BEGIN:VEVENT
UID:10158032@ezleagues.ezfacility.com
DTSTAMP:20260423T234447Z
CREATED:20260423T234447Z
DTSTART:20170312T172000Z
DTEND:20170312T181000Z
LOCATION:Field 2
CONTACT:
SUMMARY:Garden Spot VS. Wyomissing
DESCRIPTION:League Name: 2017 Winter Session 2 Indoor Soccer U14 Boys\nGame
  Type: Regular\nGame Status: Complete\nHome Team: Garden Spot\nAway Team: 
 Wyomissing\nHome Score: 2\nAway Score: 10
END:VEVENT
BEGIN:VEVENT
UID:10184495@ezleagues.ezfacility.com
DTSTAMP:20260423T234447Z
CREATED:20260423T234447Z
DTSTART:20170319T163000Z
DTEND:20170319T170000Z
LOCATION:Field 2
CONTACT:
SUMMARY:Wyomissing VS. Tigers
DESCRIPTION:League Name: 2017 Winter Session 2 Indoor Soccer U14 Boys\nGame
  Type: Postseason\nGame Status: Complete\nHome Team: Wyomissing\nAway Team
 : Tigers\nHome Score: 1\nAway Score: 0
END:VEVENT
BEGIN:VEVENT
UID:10252105@ezleagues.ezfacility.com
DTSTAMP:20260423T234447Z
CREATED:20260423T234447Z
DTSTART:20170319T173000Z
DTEND:20170319T180000Z
LOCATION:Field 2
CONTACT:
SUMMARY:Wyomissing VS. Exeter U14 Peterson
DESCRIPTION:League Name: 2017 Winter Session 2 Indoor Soccer U14 Boys\nGame
  Type: Postseason\nGame Status: Complete\nHome Team: Wyomissing\nAway Team
 : Exeter U14 Peterson\nHome Score: 1\nAway Score: 0
END:VEVENT
BEGIN:VEVENT
UID:10252107@ezleagues.ezfacility.com
DTSTAMP:20260423T234447Z
CREATED:20260423T234447Z
DTSTART:20170319T180000Z
DTEND:20170319T183000Z
LOCATION:Field 2
CONTACT:
SUMMARY:Wyomissing VS. CYSC Avengers
DESCRIPTION:League Name: 2017 Winter Session 2 Indoor Soccer U14 Boys\nGame
  Type: Postseason\nGame Status: Complete\nHome Team: Wyomissing\nAway Team
 : CYSC Avengers\nHome Score: 1\nAway Score: 0
END:VEVENT
END:VCALENDAR
