BEGIN:VCALENDAR
VERSION:2.0
PRODID:-//EZFacility.com, Inc.//EZL 2.5.5.28621
BEGIN:VEVENT
UID:10126593@ezleagues.ezfacility.com
DTSTAMP:20260421T214337Z
CREATED:20260421T214337Z
DTSTART:20170128T221500Z
DTEND:20170128T225500Z
LOCATION:LG Field 1
CONTACT:
SUMMARY:The Kraken  VS. BTT
DESCRIPTION:League Name: Coed O30 - Winter 2 \nGame Type: Regular\nGame Sta
 tus: Complete\nHome Team: The Kraken \nAway Team: BTT\nHome Score: 1\nAway
  Score: 5
END:VEVENT
BEGIN:VEVENT
UID:10126645@ezleagues.ezfacility.com
DTSTAMP:20260421T214337Z
CREATED:20260421T214337Z
DTSTART:20170204T230000Z
DTEND:20170204T234000Z
LOCATION:LG Field 1
CONTACT:
SUMMARY:The Kraken  VS. Pineapple People 
DESCRIPTION:League Name: Coed O30 - Winter 2 \nGame Type: Regular\nGame Sta
 tus: Complete\nHome Team: The Kraken \nAway Team: Pineapple People \nHome 
 Score: 0\nAway Score: 3
END:VEVENT
BEGIN:VEVENT
UID:10126573@ezleagues.ezfacility.com
DTSTAMP:20260421T214337Z
CREATED:20260421T214337Z
DTSTART:20170212T024500Z
DTEND:20170212T032500Z
LOCATION:LG Field 1
CONTACT:
SUMMARY:Sapos  VS. The Kraken 
DESCRIPTION:League Name: Coed O30 - Winter 2 \nGame Type: Regular\nGame Sta
 tus: Complete\nHome Team: Sapos \nAway Team: The Kraken \nHome Score: 5\nA
 way Score: 2
END:VEVENT
BEGIN:VEVENT
UID:10126610@ezleagues.ezfacility.com
DTSTAMP:20260421T214337Z
CREATED:20260421T214337Z
DTSTART:20170218T221500Z
DTEND:20170218T225500Z
LOCATION:LG Field 1
CONTACT:
SUMMARY:MB VS. The Kraken 
DESCRIPTION:League Name: Coed O30 - Winter 2 \nGame Type: Regular\nGame Sta
 tus: Complete\nHome Team: MB\nAway Team: The Kraken \nHome Score: 3\nAway 
 Score: 3
END:VEVENT
BEGIN:VEVENT
UID:10126623@ezleagues.ezfacility.com
DTSTAMP:20260421T214337Z
CREATED:20260421T214337Z
DTSTART:20170305T003000Z
DTEND:20170305T011000Z
LOCATION:LG Field 1
CONTACT:
SUMMARY:Pitches Be Crazy VS. The Kraken 
DESCRIPTION:League Name: Coed O30 - Winter 2 \nGame Type: Regular\nGame Sta
 tus: Complete\nHome Team: Pitches Be Crazy\nAway Team: The Kraken \nHome S
 core: 4\nAway Score: 0
END:VEVENT
BEGIN:VEVENT
UID:10126643@ezleagues.ezfacility.com
DTSTAMP:20260421T214337Z
CREATED:20260421T214337Z
DTSTART:20170312T024500Z
DTEND:20170312T032500Z
LOCATION:LG Field 1
CONTACT:
SUMMARY:The Kraken  VS. Benchwarmers 
DESCRIPTION:League Name: Coed O30 - Winter 2 \nGame Type: Regular\nGame Sta
 tus: Complete\nHome Team: The Kraken \nAway Team: Benchwarmers \nHome Scor
 e: 4\nAway Score: 0
END:VEVENT
BEGIN:VEVENT
UID:10126613@ezleagues.ezfacility.com
DTSTAMP:20260421T214337Z
CREATED:20260421T214337Z
DTSTART:20170312T033000Z
DTEND:20170312T041000Z
LOCATION:LG Field 1
CONTACT:
SUMMARY:Ball Busters VS. The Kraken 
DESCRIPTION:League Name: Coed O30 - Winter 2 \nGame Type: Regular\nGame Sta
 tus: Complete\nHome Team: Ball Busters\nAway Team: The Kraken \nHome Score
 : 6\nAway Score: 1
END:VEVENT
BEGIN:VEVENT
UID:10126583@ezleagues.ezfacility.com
DTSTAMP:20260421T214337Z
CREATED:20260421T214337Z
DTSTART:20170319T023000Z
DTEND:20170319T031000Z
LOCATION:LG Field 1
CONTACT:
SUMMARY:Toe Punch VS. The Kraken 
DESCRIPTION:League Name: Coed O30 - Winter 2 \nGame Type: Regular\nGame Sta
 tus: Complete\nHome Team: Toe Punch\nAway Team: The Kraken \nHome Score: 4
 \nAway Score: 0
END:VEVENT
END:VCALENDAR
