BEGIN:VCALENDAR
VERSION:2.0
PRODID:-//EZFacility.com, Inc.//EZL 2.5.5.28621
BEGIN:VEVENT
UID:10157335@ezleagues.ezfacility.com
DTSTAMP:20260420T023714Z
CREATED:20260420T023714Z
DTSTART:20170130T001000Z
DTEND:20170130T010500Z
LOCATION:PFFC Field House - C
CONTACT:
SUMMARY: Gilgamesh FC VS. Sour Patch Kids
DESCRIPTION:League Name: MSL Soccer - Sunday Men's Division #4 South\nGame 
 Type: Regular\nGame Status: Complete\nHome Team:  Gilgamesh FC\nAway Team:
  Sour Patch Kids\nHome Score: 5\nAway Score: 5
END:VEVENT
BEGIN:VEVENT
UID:10157371@ezleagues.ezfacility.com
DTSTAMP:20260420T023714Z
CREATED:20260420T023714Z
DTSTART:20170205T231500Z
DTEND:20170206T001000Z
LOCATION:PFFC Field House - B
CONTACT:
SUMMARY: Gilgamesh FC VS. Les Bleus
DESCRIPTION:League Name: MSL Soccer - Sunday Men's Division #4 South\nGame 
 Type: Regular\nGame Status: Complete\nHome Team:  Gilgamesh FC\nAway Team:
  Les Bleus\nHome Score: 4\nAway Score: 1
END:VEVENT
BEGIN:VEVENT
UID:10157407@ezleagues.ezfacility.com
DTSTAMP:20260420T023714Z
CREATED:20260420T023714Z
DTSTART:20170213T021000Z
DTEND:20170213T030500Z
LOCATION:PFFC Dome - 1
CONTACT:
SUMMARY: Gilgamesh FC VS.  Cartel FC
DESCRIPTION:League Name: MSL Soccer - Sunday Men's Division #4 South\nGame 
 Type: Regular\nGame Status: Complete\nHome Team:  Gilgamesh FC\nAway Team:
   Cartel FC\nHome Score: 5\nAway Score: 1
END:VEVENT
BEGIN:VEVENT
UID:10157445@ezleagues.ezfacility.com
DTSTAMP:20260420T023714Z
CREATED:20260420T023714Z
DTSTART:20170219T231500Z
DTEND:20170220T001000Z
LOCATION:PFFC Field House - D
CONTACT:
SUMMARY: Fat Boyz FC VS.  Gilgamesh FC
DESCRIPTION:League Name: MSL Soccer - Sunday Men's Division #4 South\nGame 
 Type: Regular\nGame Status: Complete\nHome Team:  Fat Boyz FC\nAway Team: 
  Gilgamesh FC\nHome Score: 2\nAway Score: 7
END:VEVENT
BEGIN:VEVENT
UID:10157481@ezleagues.ezfacility.com
DTSTAMP:20260420T023714Z
CREATED:20260420T023714Z
DTSTART:20170227T040000Z
DTEND:20170227T045500Z
LOCATION:PFFC Dome - 1
CONTACT:
SUMMARY: Aldona FC VS.  Gilgamesh FC
DESCRIPTION:League Name: MSL Soccer - Sunday Men's Division #4 South\nGame 
 Type: Regular\nGame Status: Complete\nHome Team:  Aldona FC\nAway Team:  G
 ilgamesh FC\nHome Score: 4\nAway Score: 1
END:VEVENT
BEGIN:VEVENT
UID:10157517@ezleagues.ezfacility.com
DTSTAMP:20260420T023714Z
CREATED:20260420T023714Z
DTSTART:20170306T035000Z
DTEND:20170306T044500Z
LOCATION:PFFC Field House - C
CONTACT:
SUMMARY: Middlebury FC VS.  Gilgamesh FC
DESCRIPTION:League Name: MSL Soccer - Sunday Men's Division #4 South\nGame 
 Type: Regular\nGame Status: Complete\nHome Team:  Middlebury FC\nAway Team
 :  Gilgamesh FC\nHome Score: 4\nAway Score: 1
END:VEVENT
BEGIN:VEVENT
UID:10157594@ezleagues.ezfacility.com
DTSTAMP:20260420T023714Z
CREATED:20260420T023714Z
DTSTART:20170320T015500Z
DTEND:20170320T025000Z
LOCATION:PFFC Field House - B
CONTACT:
SUMMARY: Etobicoke Old Boys VS.  Gilgamesh FC
DESCRIPTION:League Name: MSL Soccer - Sunday Men's Division #4 South\nGame 
 Type: Regular\nGame Status: Complete\nHome Team:  Etobicoke Old Boys\nAway
  Team:  Gilgamesh FC\nHome Score: 1\nAway Score: 6
END:VEVENT
BEGIN:VEVENT
UID:10157630@ezleagues.ezfacility.com
DTSTAMP:20260420T023714Z
CREATED:20260420T023714Z
DTSTART:20170327T011000Z
DTEND:20170327T020500Z
LOCATION:PFFC Dome - 4
CONTACT:
SUMMARY:TG Toronto VS.  Gilgamesh FC
DESCRIPTION:League Name: MSL Soccer - Sunday Men's Division #4 South\nGame 
 Type: Regular\nGame Status: Complete\nHome Team: TG Toronto\nAway Team:  G
 ilgamesh FC\nHome Score: 3\nAway Score: 2
END:VEVENT
BEGIN:VEVENT
UID:10157666@ezleagues.ezfacility.com
DTSTAMP:20260420T023714Z
CREATED:20260420T023714Z
DTSTART:20170403T010000Z
DTEND:20170403T015500Z
LOCATION:PFFC Field House - D
CONTACT:
SUMMARY: Cartel FC VS.  Gilgamesh FC
DESCRIPTION:League Name: MSL Soccer - Sunday Men's Division #4 South\nGame 
 Type: Regular\nGame Status: Complete\nHome Team:  Cartel FC\nAway Team:  G
 ilgamesh FC\nHome Score: 1\nAway Score: 2
END:VEVENT
BEGIN:VEVENT
UID:10157702@ezleagues.ezfacility.com
DTSTAMP:20260420T023714Z
CREATED:20260420T023714Z
DTSTART:20170410T010000Z
DTEND:20170410T015500Z
LOCATION:PFFC Field House - A
CONTACT:
SUMMARY: Gilgamesh FC VS.  Middlebury FC
DESCRIPTION:League Name: MSL Soccer - Sunday Men's Division #4 South\nGame 
 Type: Regular\nGame Status: Complete\nHome Team:  Gilgamesh FC\nAway Team:
   Middlebury FC\nHome Score: 5\nAway Score: 3
END:VEVENT
BEGIN:VEVENT
UID:10157740@ezleagues.ezfacility.com
DTSTAMP:20260420T023714Z
CREATED:20260420T023714Z
DTSTART:20170421T014500Z
DTEND:20170421T024000Z
LOCATION:PFFC Dome - 4
CONTACT:
SUMMARY: Gilgamesh FC VS.  Aldona FC
DESCRIPTION:League Name: MSL Soccer - Sunday Men's Division #4 South\nGame 
 Type: Regular\nGame Status: Complete\nHome Team:  Gilgamesh FC\nAway Team:
   Aldona FC\nHome Score: 4\nAway Score: 1
END:VEVENT
BEGIN:VEVENT
UID:10157778@ezleagues.ezfacility.com
DTSTAMP:20260420T023714Z
CREATED:20260420T023714Z
DTSTART:20170423T221500Z
DTEND:20170423T231000Z
LOCATION:PFFC Field House - A
CONTACT:
SUMMARY: Gilgamesh FC VS.  Wolfpack FC
DESCRIPTION:League Name: MSL Soccer - Sunday Men's Division #4 South\nGame 
 Type: Regular\nGame Status: Complete\nHome Team:  Gilgamesh FC\nAway Team:
   Wolfpack FC\nHome Score: 5\nAway Score: 6
END:VEVENT
BEGIN:VEVENT
UID:10157816@ezleagues.ezfacility.com
DTSTAMP:20260420T023714Z
CREATED:20260420T023714Z
DTSTART:20170430T221500Z
DTEND:20170430T231000Z
LOCATION:PFFC Field House - D
CONTACT:
SUMMARY: Gilgamesh FC VS.  Fat Boyz FC
DESCRIPTION:League Name: MSL Soccer - Sunday Men's Division #4 South\nGame 
 Type: Regular\nGame Status: Complete\nHome Team:  Gilgamesh FC\nAway Team:
   Fat Boyz FC\nHome Score: 2\nAway Score: 2
END:VEVENT
BEGIN:VEVENT
UID:10157519@ezleagues.ezfacility.com
DTSTAMP:20260420T023714Z
CREATED:20260420T023714Z
DTSTART:20170501T235500Z
DTEND:20170502T005000Z
LOCATION:PFFC Dome - 2
CONTACT:
SUMMARY: Wolfpack FC VS.  Gilgamesh FC
DESCRIPTION:League Name: MSL Soccer - Sunday Men's Division #4 South\nGame 
 Type: Regular\nGame Status: Complete\nHome Team:  Wolfpack FC\nAway Team: 
  Gilgamesh FC\nHome Score: 3\nAway Score: 9
END:VEVENT
BEGIN:VEVENT
UID:10304480@ezleagues.ezfacility.com
DTSTAMP:20260420T023714Z
CREATED:20260420T023714Z
DTSTART:20170508T012000Z
DTEND:20170508T021000Z
LOCATION:PFFC Field House - D
CONTACT:
SUMMARY: Gilgamesh FC VS.  Aldona FC
DESCRIPTION:League Name: MSL Soccer - Sunday Men's Division #4 South\nGame 
 Type: Postseason\nGame Status: Complete\nHome Team:  Gilgamesh FC\nAway Te
 am:  Aldona FC\nHome Score: 4\nAway Score: 5
END:VEVENT
END:VCALENDAR
