BEGIN:VCALENDAR
VERSION:2.0
PRODID:-//EZFacility.com, Inc.//EZL 2.5.5.28621
BEGIN:VEVENT
UID:10157342@ezleagues.ezfacility.com
DTSTAMP:20260419T164232Z
CREATED:20260419T164232Z
DTSTART:20170130T010500Z
DTEND:20170130T020000Z
LOCATION:PFFC Field House - B
CONTACT:
SUMMARY: On Da Rocks VS.  MC United
DESCRIPTION:League Name: MSL Soccer - Sunday Men's Division #5 South\nGame 
 Type: Regular\nGame Status: Complete\nHome Team:  On Da Rocks\nAway Team: 
  MC United\nHome Score: 3\nAway Score: 0
END:VEVENT
BEGIN:VEVENT
UID:10157380@ezleagues.ezfacility.com
DTSTAMP:20260419T164232Z
CREATED:20260419T164232Z
DTSTART:20170206T001000Z
DTEND:20170206T010500Z
LOCATION:PFFC Field House - B
CONTACT:
SUMMARY:Real POS FC VS.  MC United
DESCRIPTION:League Name: MSL Soccer - Sunday Men's Division #5 South\nGame 
 Type: Regular\nGame Status: Complete\nHome Team: Real POS FC\nAway Team:  
 MC United\nHome Score: 3\nAway Score: 0
END:VEVENT
BEGIN:VEVENT
UID:10157418@ezleagues.ezfacility.com
DTSTAMP:20260419T164232Z
CREATED:20260419T164232Z
DTSTART:20170213T021000Z
DTEND:20170213T030500Z
LOCATION:PFFC Dome - 4
CONTACT:
SUMMARY:Noize FC VS.  MC United
DESCRIPTION:League Name: MSL Soccer - Sunday Men's Division #5 South\nGame 
 Type: Regular\nGame Status: Complete\nHome Team: Noize FC\nAway Team:  MC 
 United\nHome Score: 6\nAway Score: 2
END:VEVENT
BEGIN:VEVENT
UID:10157455@ezleagues.ezfacility.com
DTSTAMP:20260419T164232Z
CREATED:20260419T164232Z
DTSTART:20170220T025500Z
DTEND:20170220T035000Z
LOCATION:PFFC Field House - C
CONTACT:
SUMMARY: MC United VS.  Red Hooligans
DESCRIPTION:League Name: MSL Soccer - Sunday Men's Division #5 South\nGame 
 Type: Regular\nGame Status: Complete\nHome Team:  MC United\nAway Team:  R
 ed Hooligans\nHome Score: 0\nAway Score: 3
END:VEVENT
BEGIN:VEVENT
UID:10157491@ezleagues.ezfacility.com
DTSTAMP:20260419T164232Z
CREATED:20260419T164232Z
DTSTART:20170227T030500Z
DTEND:20170227T040000Z
LOCATION:PFFC Dome - 4
CONTACT:
SUMMARY: MC United VS. Les Bleus
DESCRIPTION:League Name: MSL Soccer - Sunday Men's Division #5 South\nGame 
 Type: Regular\nGame Status: Complete\nHome Team:  MC United\nAway Team: Le
 s Bleus\nHome Score: 2\nAway Score: 8
END:VEVENT
BEGIN:VEVENT
UID:10157527@ezleagues.ezfacility.com
DTSTAMP:20260419T164232Z
CREATED:20260419T164232Z
DTSTART:20170306T025500Z
DTEND:20170306T035000Z
LOCATION:PFFC Field House - A
CONTACT:
SUMMARY:Dyslexia United FC VS.  MC United
DESCRIPTION:League Name: MSL Soccer - Sunday Men's Division #5 South\nGame 
 Type: Regular\nGame Status: Complete\nHome Team: Dyslexia United FC\nAway 
 Team:  MC United\nHome Score: 3\nAway Score: 0
END:VEVENT
BEGIN:VEVENT
UID:10157563@ezleagues.ezfacility.com
DTSTAMP:20260419T164232Z
CREATED:20260419T164232Z
DTSTART:20170313T025000Z
DTEND:20170313T034500Z
LOCATION:PFFC Field House - D
CONTACT:
SUMMARY: BDB FC VS.  MC United
DESCRIPTION:League Name: MSL Soccer - Sunday Men's Division #5 South\nGame 
 Type: Regular\nGame Status: Complete\nHome Team:  BDB FC\nAway Team:  MC U
 nited\nHome Score: 7\nAway Score: 0
END:VEVENT
BEGIN:VEVENT
UID:10157599@ezleagues.ezfacility.com
DTSTAMP:20260419T164232Z
CREATED:20260419T164232Z
DTSTART:20170320T030000Z
DTEND:20170320T035500Z
LOCATION:PFFC Dome - 4
CONTACT:
SUMMARY: MC United VS.  Cheeseburger Palace
DESCRIPTION:League Name: MSL Soccer - Sunday Men's Division #5 South\nGame 
 Type: Regular\nGame Status: Complete\nHome Team:  MC United\nAway Team:  C
 heeseburger Palace\nHome Score: 1\nAway Score: 7
END:VEVENT
BEGIN:VEVENT
UID:10157637@ezleagues.ezfacility.com
DTSTAMP:20260419T164232Z
CREATED:20260419T164232Z
DTSTART:20170326T212000Z
DTEND:20170326T221500Z
LOCATION:PFFC Field House - C
CONTACT:
SUMMARY: MC United VS.  Cosmos FC
DESCRIPTION:League Name: MSL Soccer - Sunday Men's Division #5 South\nGame 
 Type: Regular\nGame Status: Complete\nHome Team:  MC United\nAway Team:  C
 osmos FC\nHome Score: 2\nAway Score: 4
END:VEVENT
BEGIN:VEVENT
UID:10157675@ezleagues.ezfacility.com
DTSTAMP:20260419T164232Z
CREATED:20260419T164232Z
DTSTART:20170402T212000Z
DTEND:20170402T221500Z
LOCATION:PFFC Field House - C
CONTACT:
SUMMARY: MC United VS.  On Da Rocks
DESCRIPTION:League Name: MSL Soccer - Sunday Men's Division #5 South\nGame 
 Type: Regular\nGame Status: Complete\nHome Team:  MC United\nAway Team:  O
 n Da Rocks\nHome Score: 1\nAway Score: 2
END:VEVENT
BEGIN:VEVENT
UID:10157751@ezleagues.ezfacility.com
DTSTAMP:20260419T164232Z
CREATED:20260419T164232Z
DTSTART:20170419T010000Z
DTEND:20170419T015500Z
LOCATION:PFFC Dome - 1
CONTACT:
SUMMARY: MC United VS. Noize FC
DESCRIPTION:League Name: MSL Soccer - Sunday Men's Division #5 South\nGame 
 Type: Regular\nGame Status: Complete\nHome Team:  MC United\nAway Team: No
 ize FC\nHome Score: 0\nAway Score: 11
END:VEVENT
BEGIN:VEVENT
UID:10157788@ezleagues.ezfacility.com
DTSTAMP:20260419T164232Z
CREATED:20260419T164232Z
DTSTART:20170423T231000Z
DTEND:20170424T000500Z
LOCATION:PFFC Field House - B
CONTACT:
SUMMARY: Red Hooligans VS.  MC United
DESCRIPTION:League Name: MSL Soccer - Sunday Men's Division #5 South\nGame 
 Type: Regular\nGame Status: Complete\nHome Team:  Red Hooligans\nAway Team
 :  MC United\nHome Score: 3\nAway Score: 0
END:VEVENT
BEGIN:VEVENT
UID:10157824@ezleagues.ezfacility.com
DTSTAMP:20260419T164232Z
CREATED:20260419T164232Z
DTSTART:20170501T000500Z
DTEND:20170501T010000Z
LOCATION:PFFC Field House - C
CONTACT:
SUMMARY:Les Bleus VS.  MC United
DESCRIPTION:League Name: MSL Soccer - Sunday Men's Division #5 South\nGame 
 Type: Regular\nGame Status: Complete\nHome Team: Les Bleus\nAway Team:  MC
  United\nHome Score: 5\nAway Score: 2
END:VEVENT
BEGIN:VEVENT
UID:10157713@ezleagues.ezfacility.com
DTSTAMP:20260419T164232Z
CREATED:20260419T164232Z
DTSTART:20170501T230000Z
DTEND:20170501T235500Z
LOCATION:PFFC Dome - 4
CONTACT:
SUMMARY: MC United VS. Real POS FC
DESCRIPTION:League Name: MSL Soccer - Sunday Men's Division #5 South\nGame 
 Type: Regular\nGame Status: Complete\nHome Team:  MC United\nAway Team: Re
 al POS FC\nHome Score: 1\nAway Score: 4
END:VEVENT
BEGIN:VEVENT
UID:10304502@ezleagues.ezfacility.com
DTSTAMP:20260419T164232Z
CREATED:20260419T164232Z
DTSTART:20170507T225000Z
DTEND:20170507T234000Z
LOCATION:PFFC Field House - B
CONTACT:
SUMMARY: Cosmos FC VS.  MC United
DESCRIPTION:League Name: MSL Soccer - Sunday Men's Division #5 South\nGame 
 Type: Postseason\nGame Status: Complete\nHome Team:  Cosmos FC\nAway Team:
   MC United\nHome Score: 2\nAway Score: 1
END:VEVENT
END:VCALENDAR
