BEGIN:VCALENDAR
VERSION:2.0
PRODID:-//EZFacility.com, Inc.//EZL 2.5.5.28621
BEGIN:VEVENT
UID:10157329@ezleagues.ezfacility.com
DTSTAMP:20260421T093525Z
CREATED:20260421T093525Z
DTSTART:20170129T231500Z
DTEND:20170130T001000Z
LOCATION:PFFC Field House - B
CONTACT:
SUMMARY:Anixter VS.  MFC
DESCRIPTION:League Name: MSL Soccer - Sunday Men's Division #6 North\nGame 
 Type: Regular\nGame Status: Complete\nHome Team: Anixter\nAway Team:  MFC\
 nHome Score: 1\nAway Score: 6
END:VEVENT
BEGIN:VEVENT
UID:10157367@ezleagues.ezfacility.com
DTSTAMP:20260421T093525Z
CREATED:20260421T093525Z
DTSTART:20170205T222000Z
DTEND:20170205T231500Z
LOCATION:PFFC Field House - A
CONTACT:
SUMMARY: Nspire A VS.  MFC
DESCRIPTION:League Name: MSL Soccer - Sunday Men's Division #6 North\nGame 
 Type: Regular\nGame Status: Complete\nHome Team:  Nspire A\nAway Team:  MF
 C\nHome Score: 2\nAway Score: 4
END:VEVENT
BEGIN:VEVENT
UID:10157405@ezleagues.ezfacility.com
DTSTAMP:20260421T093525Z
CREATED:20260421T093525Z
DTSTART:20170212T231500Z
DTEND:20170213T001000Z
LOCATION:PFFC Field House - D
CONTACT:
SUMMARY: Mean Machine VS.  MFC
DESCRIPTION:League Name: MSL Soccer - Sunday Men's Division #6 North\nGame 
 Type: Regular\nGame Status: Complete\nHome Team:  Mean Machine\nAway Team:
   MFC\nHome Score: 2\nAway Score: 4
END:VEVENT
BEGIN:VEVENT
UID:10157442@ezleagues.ezfacility.com
DTSTAMP:20260421T093525Z
CREATED:20260421T093525Z
DTSTART:20170219T222000Z
DTEND:20170219T231500Z
LOCATION:PFFC Field House - C
CONTACT:
SUMMARY: MFC VS.  Dixie Normous
DESCRIPTION:League Name: MSL Soccer - Sunday Men's Division #6 North\nGame 
 Type: Regular\nGame Status: Complete\nHome Team:  MFC\nAway Team:  Dixie N
 ormous\nHome Score: 2\nAway Score: 1
END:VEVENT
BEGIN:VEVENT
UID:10157478@ezleagues.ezfacility.com
DTSTAMP:20260421T093525Z
CREATED:20260421T093525Z
DTSTART:20170227T035000Z
DTEND:20170227T044500Z
LOCATION:PFFC Field House - C
CONTACT:
SUMMARY: MFC VS.  Scrambled Legs
DESCRIPTION:League Name: MSL Soccer - Sunday Men's Division #6 North\nGame 
 Type: Regular\nGame Status: Complete\nHome Team:  MFC\nAway Team:  Scrambl
 ed Legs\nHome Score: 7\nAway Score: 0
END:VEVENT
BEGIN:VEVENT
UID:10157514@ezleagues.ezfacility.com
DTSTAMP:20260421T093525Z
CREATED:20260421T093525Z
DTSTART:20170306T030500Z
DTEND:20170306T040000Z
LOCATION:PFFC Dome - 1
CONTACT:
SUMMARY: MFC VS.  JFS FC
DESCRIPTION:League Name: MSL Soccer - Sunday Men's Division #6 North\nGame 
 Type: Regular\nGame Status: Complete\nHome Team:  MFC\nAway Team:  JFS FC\
 nHome Score: 1\nAway Score: 2
END:VEVENT
BEGIN:VEVENT
UID:10157550@ezleagues.ezfacility.com
DTSTAMP:20260421T093525Z
CREATED:20260421T093525Z
DTSTART:20170313T015500Z
DTEND:20170313T025000Z
LOCATION:PFFC Field House - B
CONTACT:
SUMMARY: NK Jadran VS.  MFC
DESCRIPTION:League Name: MSL Soccer - Sunday Men's Division #6 North\nGame 
 Type: Regular\nGame Status: Complete\nHome Team:  NK Jadran\nAway Team:  M
 FC\nHome Score: 3\nAway Score: 1
END:VEVENT
BEGIN:VEVENT
UID:10157588@ezleagues.ezfacility.com
DTSTAMP:20260421T093525Z
CREATED:20260421T093525Z
DTSTART:20170320T011000Z
DTEND:20170320T020500Z
LOCATION:PFFC Dome - 4
CONTACT:
SUMMARY: MFC VS. Anixter
DESCRIPTION:League Name: MSL Soccer - Sunday Men's Division #6 North\nGame 
 Type: Regular\nGame Status: Complete\nHome Team:  MFC\nAway Team: Anixter\
 nHome Score: 4\nAway Score: 1
END:VEVENT
BEGIN:VEVENT
UID:10157664@ezleagues.ezfacility.com
DTSTAMP:20260421T093525Z
CREATED:20260421T093525Z
DTSTART:20170403T000500Z
DTEND:20170403T010000Z
LOCATION:PFFC Field House - D
CONTACT:
SUMMARY: MFC VS.  Mean Machine
DESCRIPTION:League Name: MSL Soccer - Sunday Men's Division #6 North\nGame 
 Type: Regular\nGame Status: Complete\nHome Team:  MFC\nAway Team:  Mean Ma
 chine\nHome Score: 0\nAway Score: 0
END:VEVENT
BEGIN:VEVENT
UID:10157701@ezleagues.ezfacility.com
DTSTAMP:20260421T093525Z
CREATED:20260421T093525Z
DTSTART:20170410T010000Z
DTEND:20170410T015500Z
LOCATION:PFFC Field House - B
CONTACT:
SUMMARY: Dixie Normous VS.  MFC
DESCRIPTION:League Name: MSL Soccer - Sunday Men's Division #6 North\nGame 
 Type: Regular\nGame Status: Complete\nHome Team:  Dixie Normous\nAway Team
 :  MFC\nHome Score: 0\nAway Score: 1
END:VEVENT
BEGIN:VEVENT
UID:10157737@ezleagues.ezfacility.com
DTSTAMP:20260421T093525Z
CREATED:20260421T093525Z
DTSTART:20170422T024500Z
DTEND:20170422T034000Z
LOCATION:PFFC Dome - 1
CONTACT:
SUMMARY: Scrambled Legs VS.  MFC
DESCRIPTION:League Name: MSL Soccer - Sunday Men's Division #6 North\nGame 
 Type: Regular\nGame Status: Complete\nHome Team:  Scrambled Legs\nAway Tea
 m:  MFC\nHome Score: 6\nAway Score: 4
END:VEVENT
BEGIN:VEVENT
UID:10157773@ezleagues.ezfacility.com
DTSTAMP:20260421T093525Z
CREATED:20260421T093525Z
DTSTART:20170423T212000Z
DTEND:20170423T221500Z
LOCATION:PFFC Field House - C
CONTACT:
SUMMARY: JFS FC VS.  MFC
DESCRIPTION:League Name: MSL Soccer - Sunday Men's Division #6 North\nGame 
 Type: Regular\nGame Status: Complete\nHome Team:  JFS FC\nAway Team:  MFC\
 nHome Score: 4\nAway Score: 3
END:VEVENT
BEGIN:VEVENT
UID:10157809@ezleagues.ezfacility.com
DTSTAMP:20260421T093525Z
CREATED:20260421T093525Z
DTSTART:20170501T020500Z
DTEND:20170501T030000Z
LOCATION:PFFC Dome - 4
CONTACT:
SUMMARY: MFC VS.  NK Jadran
DESCRIPTION:League Name: MSL Soccer - Sunday Men's Division #6 North\nGame 
 Type: Regular\nGame Status: Complete\nHome Team:  MFC\nAway Team:  NK Jadr
 an\nHome Score: 0\nAway Score: 4
END:VEVENT
BEGIN:VEVENT
UID:10157626@ezleagues.ezfacility.com
DTSTAMP:20260421T093525Z
CREATED:20260421T093525Z
DTSTART:20170503T014500Z
DTEND:20170503T024000Z
LOCATION:PFFC Dome - 4
CONTACT:
SUMMARY: MFC VS.  Nspire A
DESCRIPTION:League Name: MSL Soccer - Sunday Men's Division #6 North\nGame 
 Type: Regular\nGame Status: Complete\nHome Team:  MFC\nAway Team:  Nspire 
 A\nHome Score: 7\nAway Score: 2
END:VEVENT
BEGIN:VEVENT
UID:10304529@ezleagues.ezfacility.com
DTSTAMP:20260421T093525Z
CREATED:20260421T093525Z
DTSTART:20170508T030000Z
DTEND:20170508T035000Z
LOCATION:PFFC Field House - D
CONTACT:
SUMMARY: MFC VS.  Mean Machine
DESCRIPTION:League Name: MSL Soccer - Sunday Men's Division #6 North\nGame 
 Type: Postseason\nGame Status: Complete\nHome Team:  MFC\nAway Team:  Mean
  Machine\nHome Score: 1\nAway Score: 2
END:VEVENT
END:VCALENDAR
