BEGIN:VCALENDAR
VERSION:2.0
PRODID:-//EZFacility.com, Inc.//EZL 2.5.5.28621
BEGIN:VEVENT
UID:10195898@ezleagues.ezfacility.com
DTSTAMP:20260426T033408Z
CREATED:20260426T033408Z
DTSTART:20170131T005500Z
DTEND:20170131T015000Z
LOCATION:PFFC Field House - A
CONTACT:
SUMMARY:  Jeez VS.   La Roja Azzurri
DESCRIPTION:League Name: MSL Soccer - CoEd Premier League\nGame Type: Regul
 ar\nGame Status: Complete\nHome Team:   Jeez\nAway Team:   La Roja Azzurri
 \nHome Score: 2\nAway Score: 2
END:VEVENT
BEGIN:VEVENT
UID:10195934@ezleagues.ezfacility.com
DTSTAMP:20260426T033408Z
CREATED:20260426T033408Z
DTSTART:20170210T015000Z
DTEND:20170210T024500Z
LOCATION:PFFC Field House - D
CONTACT:
SUMMARY:Dream Team VS.   La Roja Azzurri
DESCRIPTION:League Name: MSL Soccer - CoEd Premier League\nGame Type: Regul
 ar\nGame Status: Complete\nHome Team: Dream Team\nAway Team:   La Roja Azz
 urri\nHome Score: 4\nAway Score: 6
END:VEVENT
BEGIN:VEVENT
UID:10195970@ezleagues.ezfacility.com
DTSTAMP:20260426T033408Z
CREATED:20260426T033408Z
DTSTART:20170214T024500Z
DTEND:20170214T034000Z
LOCATION:PFFC Field House - C
CONTACT:
SUMMARY:  La Roja Azzurri VS. BOA FC
DESCRIPTION:League Name: MSL Soccer - CoEd Premier League\nGame Type: Regul
 ar\nGame Status: Complete\nHome Team:   La Roja Azzurri\nAway Team: BOA FC
 \nHome Score: 1\nAway Score: 0
END:VEVENT
BEGIN:VEVENT
UID:10196006@ezleagues.ezfacility.com
DTSTAMP:20260426T033408Z
CREATED:20260426T033408Z
DTSTART:20170224T034000Z
DTEND:20170224T043500Z
LOCATION:PFFC Field House - C
CONTACT:
SUMMARY:  Cleats and Cleavage VS.   La Roja Azzurri
DESCRIPTION:League Name: MSL Soccer - CoEd Premier League\nGame Type: Regul
 ar\nGame Status: Complete\nHome Team:   Cleats and Cleavage\nAway Team:   
 La Roja Azzurri\nHome Score: 2\nAway Score: 5
END:VEVENT
BEGIN:VEVENT
UID:10196042@ezleagues.ezfacility.com
DTSTAMP:20260426T033408Z
CREATED:20260426T033408Z
DTSTART:20170228T024500Z
DTEND:20170228T034000Z
LOCATION:PFFC Field House - A
CONTACT:
SUMMARY:  AZDR VS.   La Roja Azzurri
DESCRIPTION:League Name: MSL Soccer - CoEd Premier League\nGame Type: Regul
 ar\nGame Status: Complete\nHome Team:   AZDR\nAway Team:   La Roja Azzurri
 \nHome Score: 0\nAway Score: 1
END:VEVENT
BEGIN:VEVENT
UID:10196077@ezleagues.ezfacility.com
DTSTAMP:20260426T033408Z
CREATED:20260426T033408Z
DTSTART:20170307T000000Z
DTEND:20170307T005500Z
LOCATION:PFFC Field House - A
CONTACT:
SUMMARY:  Weekly Flyers VS.   La Roja Azzurri
DESCRIPTION:League Name: MSL Soccer - CoEd Premier League\nGame Type: Regul
 ar\nGame Status: Complete\nHome Team:   Weekly Flyers\nAway Team:   La Roj
 a Azzurri\nHome Score: 1\nAway Score: 3
END:VEVENT
BEGIN:VEVENT
UID:10196111@ezleagues.ezfacility.com
DTSTAMP:20260426T033408Z
CREATED:20260426T033408Z
DTSTART:20170314T005000Z
DTEND:20170314T014500Z
LOCATION:PFFC Field House - D
CONTACT:
SUMMARY:  La Roja Azzurri VS. United FC
DESCRIPTION:League Name: MSL Soccer - CoEd Premier League\nGame Type: Regul
 ar\nGame Status: Complete\nHome Team:   La Roja Azzurri\nAway Team: United
  FC\nHome Score: 5\nAway Score: 2
END:VEVENT
BEGIN:VEVENT
UID:10196145@ezleagues.ezfacility.com
DTSTAMP:20260426T033408Z
CREATED:20260426T033408Z
DTSTART:20170321T024000Z
DTEND:20170321T033500Z
LOCATION:PFFC Field House - D
CONTACT:
SUMMARY:SC FC VS.   La Roja Azzurri
DESCRIPTION:League Name: MSL Soccer - CoEd Premier League\nGame Type: Regul
 ar\nGame Status: Complete\nHome Team: SC FC\nAway Team:   La Roja Azzurri\
 nHome Score: 2\nAway Score: 7
END:VEVENT
BEGIN:VEVENT
UID:10196179@ezleagues.ezfacility.com
DTSTAMP:20260426T033408Z
CREATED:20260426T033408Z
DTSTART:20170328T014500Z
DTEND:20170328T024000Z
LOCATION:PFFC Field House - B
CONTACT:
SUMMARY:Goalmeisters VS.   La Roja Azzurri
DESCRIPTION:League Name: MSL Soccer - CoEd Premier League\nGame Type: Regul
 ar\nGame Status: Complete\nHome Team: Goalmeisters\nAway Team:   La Roja A
 zzurri\nHome Score: 2\nAway Score: 4
END:VEVENT
BEGIN:VEVENT
UID:10196213@ezleagues.ezfacility.com
DTSTAMP:20260426T033408Z
CREATED:20260426T033408Z
DTSTART:20170403T230000Z
DTEND:20170403T235500Z
LOCATION:PFFC Field House - C
CONTACT:
SUMMARY:  La Roja Azzurri VS.   Jeez
DESCRIPTION:League Name: MSL Soccer - CoEd Premier League\nGame Type: Regul
 ar\nGame Status: Complete\nHome Team:   La Roja Azzurri\nAway Team:   Jeez
 \nHome Score: 3\nAway Score: 5
END:VEVENT
BEGIN:VEVENT
UID:10196249@ezleagues.ezfacility.com
DTSTAMP:20260426T033408Z
CREATED:20260426T033408Z
DTSTART:20170414T005000Z
DTEND:20170414T014500Z
LOCATION:PFFC Field House - A
CONTACT:
SUMMARY:  La Roja Azzurri VS. Dream Team
DESCRIPTION:League Name: MSL Soccer - CoEd Premier League\nGame Type: Regul
 ar\nGame Status: Complete\nHome Team:   La Roja Azzurri\nAway Team: Dream 
 Team\nHome Score: 7\nAway Score: 4
END:VEVENT
BEGIN:VEVENT
UID:10196285@ezleagues.ezfacility.com
DTSTAMP:20260426T033408Z
CREATED:20260426T033408Z
DTSTART:20170417T220500Z
DTEND:20170417T230000Z
LOCATION:PFFC Field House - B
CONTACT:
SUMMARY:  La Roja Azzurri VS. BOA FC
DESCRIPTION:League Name: MSL Soccer - CoEd Premier League\nGame Type: Regul
 ar\nGame Status: Complete\nHome Team:   La Roja Azzurri\nAway Team: BOA FC
 \nHome Score: 4\nAway Score: 2
END:VEVENT
BEGIN:VEVENT
UID:10196321@ezleagues.ezfacility.com
DTSTAMP:20260426T033408Z
CREATED:20260426T033408Z
DTSTART:20170428T014500Z
DTEND:20170428T024000Z
LOCATION:PFFC Dome - 1
CONTACT:
SUMMARY:  La Roja Azzurri VS.   Cleats and Cleavage
DESCRIPTION:League Name: MSL Soccer - CoEd Premier League\nGame Type: Regul
 ar\nGame Status: Complete\nHome Team:   La Roja Azzurri\nAway Team:   Clea
 ts and Cleavage\nHome Score: 4\nAway Score: 0
END:VEVENT
BEGIN:VEVENT
UID:10196357@ezleagues.ezfacility.com
DTSTAMP:20260426T033408Z
CREATED:20260426T033408Z
DTSTART:20170505T013500Z
DTEND:20170505T023000Z
LOCATION:PFFC Field House - C
CONTACT:
SUMMARY:  La Roja Azzurri VS.   AZDR
DESCRIPTION:League Name: MSL Soccer - CoEd Premier League\nGame Type: Regul
 ar\nGame Status: Complete\nHome Team:   La Roja Azzurri\nAway Team:   AZDR
 \nHome Score: 4\nAway Score: 1
END:VEVENT
BEGIN:VEVENT
UID:10304228@ezleagues.ezfacility.com
DTSTAMP:20260426T033408Z
CREATED:20260426T033408Z
DTSTART:20170509T012500Z
DTEND:20170509T021500Z
LOCATION:PFFC Field House - B
CONTACT:
SUMMARY:  La Roja Azzurri VS. United FC
DESCRIPTION:League Name: MSL Soccer - CoEd Premier League\nGame Type: Posts
 eason\nGame Status: Complete\nHome Team:   La Roja Azzurri\nAway Team: Uni
 ted FC\nHome Score: 4\nAway Score: 5
END:VEVENT
END:VCALENDAR
