BEGIN:VCALENDAR
VERSION:2.0
PRODID:-//EZFacility.com, Inc.//EZL 2.5.5.28621
BEGIN:VEVENT
UID:10195928@ezleagues.ezfacility.com
DTSTAMP:20260426T033520Z
CREATED:20260426T033520Z
DTSTART:20170131T021500Z
DTEND:20170131T031000Z
LOCATION:PFFC Dome - 3
CONTACT:
SUMMARY:  Leading Tone FC  VS.   XX-XY United
DESCRIPTION:League Name: MSL Soccer - CoEd Serie A \nGame Type: Regular\nGa
 me Status: Complete\nHome Team:   Leading Tone FC \nAway Team:   XX-XY Uni
 ted\nHome Score: 6\nAway Score: 4
END:VEVENT
BEGIN:VEVENT
UID:10195962@ezleagues.ezfacility.com
DTSTAMP:20260426T033520Z
CREATED:20260426T033520Z
DTSTART:20170207T015000Z
DTEND:20170207T024500Z
LOCATION:PFFC Field House - B
CONTACT:
SUMMARY:  Leading Tone FC  VS. Cherry Pickers FC
DESCRIPTION:League Name: MSL Soccer - CoEd Serie A \nGame Type: Regular\nGa
 me Status: Complete\nHome Team:   Leading Tone FC \nAway Team: Cherry Pick
 ers FC\nHome Score: 7\nAway Score: 1
END:VEVENT
BEGIN:VEVENT
UID:10195996@ezleagues.ezfacility.com
DTSTAMP:20260426T033520Z
CREATED:20260426T033520Z
DTSTART:20170214T034000Z
DTEND:20170214T043500Z
LOCATION:PFFC Field House - D
CONTACT:
SUMMARY:  Leading Tone FC  VS.   Pitbulls
DESCRIPTION:League Name: MSL Soccer - CoEd Serie A \nGame Type: Regular\nGa
 me Status: Complete\nHome Team:   Leading Tone FC \nAway Team:   Pitbulls\
 nHome Score: 0\nAway Score: 4
END:VEVENT
BEGIN:VEVENT
UID:10196030@ezleagues.ezfacility.com
DTSTAMP:20260426T033520Z
CREATED:20260426T033520Z
DTSTART:20170221T034000Z
DTEND:20170221T043500Z
LOCATION:PFFC Field House - A
CONTACT:
SUMMARY:  #SquadGoalz VS.   Leading Tone FC 
DESCRIPTION:League Name: MSL Soccer - CoEd Serie A \nGame Type: Regular\nGa
 me Status: Complete\nHome Team:   #SquadGoalz\nAway Team:   Leading Tone F
 C \nHome Score: 0\nAway Score: 3
END:VEVENT
BEGIN:VEVENT
UID:10196066@ezleagues.ezfacility.com
DTSTAMP:20260426T033520Z
CREATED:20260426T033520Z
DTSTART:20170303T000000Z
DTEND:20170303T005500Z
LOCATION:PFFC Field House - C
CONTACT:
SUMMARY:Strikers FC VS.   Leading Tone FC 
DESCRIPTION:League Name: MSL Soccer - CoEd Serie A \nGame Type: Regular\nGa
 me Status: Complete\nHome Team: Strikers FC\nAway Team:   Leading Tone FC 
 \nHome Score: 2\nAway Score: 3
END:VEVENT
BEGIN:VEVENT
UID:10196102@ezleagues.ezfacility.com
DTSTAMP:20260426T033520Z
CREATED:20260426T033520Z
DTSTART:20170307T024500Z
DTEND:20170307T034000Z
LOCATION:PFFC Field House - C
CONTACT:
SUMMARY:  Pinchin United VS.   Leading Tone FC 
DESCRIPTION:League Name: MSL Soccer - CoEd Serie A \nGame Type: Regular\nGa
 me Status: Complete\nHome Team:   Pinchin United\nAway Team:   Leading Ton
 e FC \nHome Score: 3\nAway Score: 4
END:VEVENT
BEGIN:VEVENT
UID:10196138@ezleagues.ezfacility.com
DTSTAMP:20260426T033520Z
CREATED:20260426T033520Z
DTSTART:20170313T220500Z
DTEND:20170313T230000Z
LOCATION:PFFC Field House - C
CONTACT:
SUMMARY:  Peel Shooters FC VS.   Leading Tone FC 
DESCRIPTION:League Name: MSL Soccer - CoEd Serie A \nGame Type: Regular\nGa
 me Status: Complete\nHome Team:   Peel Shooters FC\nAway Team:   Leading T
 one FC \nHome Score: 5\nAway Score: 5
END:VEVENT
BEGIN:VEVENT
UID:10196173@ezleagues.ezfacility.com
DTSTAMP:20260426T033520Z
CREATED:20260426T033520Z
DTSTART:20170324T005000Z
DTEND:20170324T014500Z
LOCATION:PFFC Field House - D
CONTACT:
SUMMARY:  XX-XY United VS.   Leading Tone FC 
DESCRIPTION:League Name: MSL Soccer - CoEd Serie A \nGame Type: Regular\nGa
 me Status: Complete\nHome Team:   XX-XY United\nAway Team:   Leading Tone 
 FC \nHome Score: 0\nAway Score: 6
END:VEVENT
BEGIN:VEVENT
UID:10196207@ezleagues.ezfacility.com
DTSTAMP:20260426T033520Z
CREATED:20260426T033520Z
DTSTART:20170327T220500Z
DTEND:20170327T230000Z
LOCATION:PFFC Field House - B
CONTACT:
SUMMARY:Cherry Pickers FC VS.   Leading Tone FC 
DESCRIPTION:League Name: MSL Soccer - CoEd Serie A \nGame Type: Regular\nGa
 me Status: Complete\nHome Team: Cherry Pickers FC\nAway Team:   Leading To
 ne FC \nHome Score: 2\nAway Score: 6
END:VEVENT
BEGIN:VEVENT
UID:10196241@ezleagues.ezfacility.com
DTSTAMP:20260426T033520Z
CREATED:20260426T033520Z
DTSTART:20170404T014500Z
DTEND:20170404T024000Z
LOCATION:PFFC Field House - A
CONTACT:
SUMMARY:  Pitbulls VS.   Leading Tone FC 
DESCRIPTION:League Name: MSL Soccer - CoEd Serie A \nGame Type: Regular\nGa
 me Status: Complete\nHome Team:   Pitbulls\nAway Team:   Leading Tone FC \
 nHome Score: 1\nAway Score: 4
END:VEVENT
BEGIN:VEVENT
UID:10196275@ezleagues.ezfacility.com
DTSTAMP:20260426T033520Z
CREATED:20260426T033520Z
DTSTART:20170410T220500Z
DTEND:20170410T230000Z
LOCATION:PFFC Field House - D
CONTACT:
SUMMARY:  Leading Tone FC  VS.   #SquadGoalz
DESCRIPTION:League Name: MSL Soccer - CoEd Serie A \nGame Type: Regular\nGa
 me Status: Complete\nHome Team:   Leading Tone FC \nAway Team:   #SquadGoa
 lz\nHome Score: 5\nAway Score: 1
END:VEVENT
BEGIN:VEVENT
UID:10196311@ezleagues.ezfacility.com
DTSTAMP:20260426T033520Z
CREATED:20260426T033520Z
DTSTART:20170418T011500Z
DTEND:20170418T021000Z
LOCATION:PFFC Dome - 2
CONTACT:
SUMMARY:  Leading Tone FC  VS. Strikers FC
DESCRIPTION:League Name: MSL Soccer - CoEd Serie A \nGame Type: Regular\nGa
 me Status: Complete\nHome Team:   Leading Tone FC \nAway Team: Strikers FC
 \nHome Score: 11\nAway Score: 1
END:VEVENT
BEGIN:VEVENT
UID:10196347@ezleagues.ezfacility.com
DTSTAMP:20260426T033520Z
CREATED:20260426T033520Z
DTSTART:20170427T235500Z
DTEND:20170428T005000Z
LOCATION:PFFC Dome - 4
CONTACT:
SUMMARY:  Leading Tone FC  VS.   Pinchin United
DESCRIPTION:League Name: MSL Soccer - CoEd Serie A \nGame Type: Regular\nGa
 me Status: Complete\nHome Team:   Leading Tone FC \nAway Team:   Pinchin U
 nited\nHome Score: 2\nAway Score: 1
END:VEVENT
BEGIN:VEVENT
UID:10196383@ezleagues.ezfacility.com
DTSTAMP:20260426T033520Z
CREATED:20260426T033520Z
DTSTART:20170502T005000Z
DTEND:20170502T014500Z
LOCATION:PFFC Field House - C
CONTACT:
SUMMARY:  Leading Tone FC  VS.   Peel Shooters FC
DESCRIPTION:League Name: MSL Soccer - CoEd Serie A \nGame Type: Regular\nGa
 me Status: Complete\nHome Team:   Leading Tone FC \nAway Team:   Peel Shoo
 ters FC\nHome Score: 5\nAway Score: 9
END:VEVENT
BEGIN:VEVENT
UID:10304234@ezleagues.ezfacility.com
DTSTAMP:20260426T033520Z
CREATED:20260426T033520Z
DTSTART:20170508T220500Z
DTEND:20170508T225500Z
LOCATION:PFFC Field House - A
CONTACT:
SUMMARY:  Leading Tone FC  VS. Cherry Pickers FC
DESCRIPTION:League Name: MSL Soccer - CoEd Serie A \nGame Type: Postseason\
 nGame Status: Complete\nHome Team:   Leading Tone FC \nAway Team: Cherry P
 ickers FC\nHome Score: 3\nAway Score: 2
END:VEVENT
BEGIN:VEVENT
UID:10304238@ezleagues.ezfacility.com
DTSTAMP:20260426T033520Z
CREATED:20260426T033520Z
DTSTART:20170516T012500Z
DTEND:20170516T021500Z
LOCATION:PFFC Field House - A
CONTACT:
SUMMARY:  Leading Tone FC  VS.   Pinchin United
DESCRIPTION:League Name: MSL Soccer - CoEd Serie A \nGame Type: Postseason\
 nGame Status: Complete\nHome Team:   Leading Tone FC \nAway Team:   Pinchi
 n United\nHome Score: 1\nAway Score: 0
END:VEVENT
END:VCALENDAR
