BEGIN:VCALENDAR
VERSION:2.0
PRODID:-//EZFacility.com, Inc.//EZL 2.5.5.28621
BEGIN:VEVENT
UID:10183782@ezleagues.ezfacility.com
DTSTAMP:20260423T184822Z
CREATED:20260423T184822Z
DTSTART:20170201T000000Z
DTEND:20170201T005000Z
LOCATION:zMississauga Valleys Gymnasium
CONTACT:
SUMMARY:Infinity Basketball VS. I - Lucky Balls
DESCRIPTION:League Name: MSL Basketball Rec League - Tuesdays - JORDAN\nGam
 e Type: Regular\nGame Status: Complete\nHome Team: Infinity Basketball\nAw
 ay Team: I - Lucky Balls\nHome Score: 59\nAway Score: 55
END:VEVENT
BEGIN:VEVENT
UID:10175717@ezleagues.ezfacility.com
DTSTAMP:20260423T184822Z
CREATED:20260423T184822Z
DTSTART:20170208T032000Z
DTEND:20170208T041000Z
LOCATION:zMississauga Valley Gymnasium 
CONTACT:
SUMMARY:I - Wolverines VS. Infinity Basketball
DESCRIPTION:League Name: MSL Basketball Rec League - Tuesdays - JORDAN\nGam
 e Type: Regular\nGame Status: Complete\nHome Team: I - Wolverines\nAway Te
 am: Infinity Basketball\nHome Score: 32\nAway Score: 40
END:VEVENT
BEGIN:VEVENT
UID:10175731@ezleagues.ezfacility.com
DTSTAMP:20260423T184822Z
CREATED:20260423T184822Z
DTSTART:20170215T032000Z
DTEND:20170215T041000Z
LOCATION:zMississauga Valley Gymnasium 
CONTACT:
SUMMARY:I - Bad Guys VS. Infinity Basketball
DESCRIPTION:League Name: MSL Basketball Rec League - Tuesdays - JORDAN\nGam
 e Type: Regular\nGame Status: Complete\nHome Team: I - Bad Guys\nAway Team
 : Infinity Basketball\nHome Score: 52\nAway Score: 49
END:VEVENT
BEGIN:VEVENT
UID:10175742@ezleagues.ezfacility.com
DTSTAMP:20260423T184822Z
CREATED:20260423T184822Z
DTSTART:20170222T032000Z
DTEND:20170222T041000Z
LOCATION:zMississauga Valley Gymnasium 
CONTACT:
SUMMARY:Huskies VS. Infinity Basketball
DESCRIPTION:League Name: MSL Basketball Rec League - Tuesdays - JORDAN\nGam
 e Type: Regular\nGame Status: Complete\nHome Team: Huskies\nAway Team: Inf
 inity Basketball\nHome Score: 50\nAway Score: 42
END:VEVENT
BEGIN:VEVENT
UID:10175753@ezleagues.ezfacility.com
DTSTAMP:20260423T184822Z
CREATED:20260423T184822Z
DTSTART:20170301T005000Z
DTEND:20170301T014000Z
LOCATION:zMississauga Valley Gymnasium 
CONTACT:
SUMMARY:Team X VS. Infinity Basketball
DESCRIPTION:League Name: MSL Basketball Rec League - Tuesdays - JORDAN\nGam
 e Type: Regular\nGame Status: Complete\nHome Team: Team X\nAway Team: Infi
 nity Basketball\nHome Score: 41\nAway Score: 51
END:VEVENT
BEGIN:VEVENT
UID:10175764@ezleagues.ezfacility.com
DTSTAMP:20260423T184822Z
CREATED:20260423T184822Z
DTSTART:20170308T005000Z
DTEND:20170308T014000Z
LOCATION:zMississauga Valley Gymnasium 
CONTACT:
SUMMARY:Inferno VS. Infinity Basketball
DESCRIPTION:League Name: MSL Basketball Rec League - Tuesdays - JORDAN\nGam
 e Type: Regular\nGame Status: Complete\nHome Team: Inferno\nAway Team: Inf
 inity Basketball\nHome Score: 31\nAway Score: 83
END:VEVENT
BEGIN:VEVENT
UID:10175777@ezleagues.ezfacility.com
DTSTAMP:20260423T184822Z
CREATED:20260423T184822Z
DTSTART:20170315T004000Z
DTEND:20170315T013000Z
LOCATION:zMississauga Valley Gymnasium 
CONTACT:
SUMMARY:Infinity Basketball VS. I - The Process
DESCRIPTION:League Name: MSL Basketball Rec League - Tuesdays - JORDAN\nGam
 e Type: Regular\nGame Status: Complete\nHome Team: Infinity Basketball\nAw
 ay Team: I - The Process\nHome Score: 69\nAway Score: 64
END:VEVENT
BEGIN:VEVENT
UID:10175790@ezleagues.ezfacility.com
DTSTAMP:20260423T184822Z
CREATED:20260423T184822Z
DTSTART:20170322T031000Z
DTEND:20170322T040000Z
LOCATION:zMississauga Valley Gymnasium 
CONTACT:
SUMMARY:Infinity Basketball VS. All In
DESCRIPTION:League Name: MSL Basketball Rec League - Tuesdays - JORDAN\nGam
 e Type: Regular\nGame Status: Complete\nHome Team: Infinity Basketball\nAw
 ay Team: All In\nHome Score: 51\nAway Score: 39
END:VEVENT
BEGIN:VEVENT
UID:10175803@ezleagues.ezfacility.com
DTSTAMP:20260423T184822Z
CREATED:20260423T184822Z
DTSTART:20170329T004000Z
DTEND:20170329T013000Z
LOCATION:zMississauga Valley Gymnasium 
CONTACT:
SUMMARY:Infinity Basketball VS. TRP Basketball
DESCRIPTION:League Name: MSL Basketball Rec League - Tuesdays - JORDAN\nGam
 e Type: Regular\nGame Status: Complete\nHome Team: Infinity Basketball\nAw
 ay Team: TRP Basketball\nHome Score: 67\nAway Score: 51
END:VEVENT
BEGIN:VEVENT
UID:10175816@ezleagues.ezfacility.com
DTSTAMP:20260423T184822Z
CREATED:20260423T184822Z
DTSTART:20170405T004000Z
DTEND:20170405T013000Z
LOCATION:zMississauga Valley Gymnasium 
CONTACT:
SUMMARY:Infinity Basketball VS. Breakout Kings
DESCRIPTION:League Name: MSL Basketball Rec League - Tuesdays - JORDAN\nGam
 e Type: Regular\nGame Status: Complete\nHome Team: Infinity Basketball\nAw
 ay Team: Breakout Kings\nHome Score: 54\nAway Score: 41
END:VEVENT
BEGIN:VEVENT
UID:10175829@ezleagues.ezfacility.com
DTSTAMP:20260423T184822Z
CREATED:20260423T184822Z
DTSTART:20170412T031000Z
DTEND:20170412T040000Z
LOCATION:zMississauga Valley Gymnasium 
CONTACT:
SUMMARY:Infinity Basketball VS. I - Wolverines
DESCRIPTION:League Name: MSL Basketball Rec League - Tuesdays - JORDAN\nGam
 e Type: Regular\nGame Status: Complete\nHome Team: Infinity Basketball\nAw
 ay Team: I - Wolverines\nHome Score: 50\nAway Score: 44
END:VEVENT
BEGIN:VEVENT
UID:10175842@ezleagues.ezfacility.com
DTSTAMP:20260423T184822Z
CREATED:20260423T184822Z
DTSTART:20170419T022000Z
DTEND:20170419T031000Z
LOCATION:zMississauga Valley Gymnasium 
CONTACT:
SUMMARY:Infinity Basketball VS. I - D-Up
DESCRIPTION:League Name: MSL Basketball Rec League - Tuesdays - JORDAN\nGam
 e Type: Regular\nGame Status: Complete\nHome Team: Infinity Basketball\nAw
 ay Team: I - D-Up\nHome Score: 93\nAway Score: 61
END:VEVENT
BEGIN:VEVENT
UID:10175854@ezleagues.ezfacility.com
DTSTAMP:20260423T184822Z
CREATED:20260423T184822Z
DTSTART:20170426T022000Z
DTEND:20170426T031000Z
LOCATION:zMississauga Valley Gymnasium 
CONTACT:
SUMMARY:I - Goodfellas VS. Infinity Basketball
DESCRIPTION:League Name: MSL Basketball Rec League - Tuesdays - JORDAN\nGam
 e Type: Regular\nGame Status: Complete\nHome Team: I - Goodfellas\nAway Te
 am: Infinity Basketball\nHome Score: 46\nAway Score: 48
END:VEVENT
BEGIN:VEVENT
UID:10175863@ezleagues.ezfacility.com
DTSTAMP:20260423T184822Z
CREATED:20260423T184822Z
DTSTART:20170503T004000Z
DTEND:20170503T013000Z
LOCATION:zMississauga Valley Gymnasium 
CONTACT:
SUMMARY:Infinity Basketball VS. I - The Process
DESCRIPTION:League Name: MSL Basketball Rec League - Tuesdays - JORDAN\nGam
 e Type: Postseason\nGame Status: Complete\nHome Team: Infinity Basketball\
 nAway Team: I - The Process\nHome Score: 71\nAway Score: 46
END:VEVENT
BEGIN:VEVENT
UID:10175873@ezleagues.ezfacility.com
DTSTAMP:20260423T184822Z
CREATED:20260423T184822Z
DTSTART:20170510T004000Z
DTEND:20170510T013000Z
LOCATION:zMississauga Valley Gymnasium 
CONTACT:
SUMMARY:Infinity Basketball VS. Breakout Kings
DESCRIPTION:League Name: MSL Basketball Rec League - Tuesdays - JORDAN\nGam
 e Type: Postseason\nGame Status: Complete\nHome Team: Infinity Basketball\
 nAway Team: Breakout Kings\nHome Score: 60\nAway Score: 52
END:VEVENT
BEGIN:VEVENT
UID:10182723@ezleagues.ezfacility.com
DTSTAMP:20260423T184822Z
CREATED:20260423T184822Z
DTSTART:20170516T235000Z
DTEND:20170517T015000Z
LOCATION:zMississauga Valley Gymnasium 
CONTACT:
SUMMARY:I - Goodfellas VS. Infinity Basketball
DESCRIPTION:League Name: MSL Basketball Rec League - Tuesdays - JORDAN\nGam
 e Type: Postseason\nGame Status: Complete\nHome Team: I - Goodfellas\nAway
  Team: Infinity Basketball\nHome Score: 64\nAway Score: 61
END:VEVENT
END:VCALENDAR
