BEGIN:VCALENDAR
VERSION:2.0
PRODID:-//EZFacility.com, Inc.//EZL 2.5.5.28621
BEGIN:VEVENT
UID:10152659@ezleagues.ezfacility.com
DTSTAMP:20260424T044139Z
CREATED:20260424T044139Z
DTSTART:20170211T163500Z
DTEND:20170211T173000Z
LOCATION:Jessup Premier Field #1
CONTACT:
SUMMARY:CSA '05 VS. Ramos Football Club
DESCRIPTION:League Name: Youth (WINTER 2) SD1 Sat/Sun U12 Boys GOLD\nGame T
 ype: Regular\nGame Status: Complete\nHome Team: CSA '05\nAway Team: Ramos 
 Football Club\nHome Score: 1\nAway Score: 2
END:VEVENT
BEGIN:VEVENT
UID:10152690@ezleagues.ezfacility.com
DTSTAMP:20260424T044139Z
CREATED:20260424T044139Z
DTSTART:20170218T211000Z
DTEND:20170218T220500Z
LOCATION:Jessup Premier Field #2
CONTACT:
SUMMARY:SP Premier Green VS. CSA '05
DESCRIPTION:League Name: Youth (WINTER 2) SD1 Sat/Sun U12 Boys GOLD\nGame T
 ype: Regular\nGame Status: Complete\nHome Team: SP Premier Green\nAway Tea
 m: CSA '05\nHome Score: 3\nAway Score: 7
END:VEVENT
BEGIN:VEVENT
UID:10152752@ezleagues.ezfacility.com
DTSTAMP:20260424T044139Z
CREATED:20260424T044139Z
DTSTART:20170220T180000Z
DTEND:20170220T185500Z
LOCATION:Jessup Premier Field #2
CONTACT:
SUMMARY:Brasil FC '05 VS. CSA '05
DESCRIPTION:League Name: Youth (WINTER 2) SD1 Sat/Sun U12 Boys GOLD\nGame T
 ype: Regular\nGame Status: Complete\nHome Team: Brasil FC '05\nAway Team: 
 CSA '05\nHome Score: 6\nAway Score: 2
END:VEVENT
BEGIN:VEVENT
UID:10152721@ezleagues.ezfacility.com
DTSTAMP:20260424T044139Z
CREATED:20260424T044139Z
DTSTART:20170225T182500Z
DTEND:20170225T192000Z
LOCATION:Jessup Premier Field #2
CONTACT:
SUMMARY:Thunder PSG VS. CSA '05
DESCRIPTION:League Name: Youth (WINTER 2) SD1 Sat/Sun U12 Boys GOLD\nGame T
 ype: Regular\nGame Status: Complete\nHome Team: Thunder PSG\nAway Team: CS
 A '05\nHome Score: 5\nAway Score: 4
END:VEVENT
BEGIN:VEVENT
UID:10152783@ezleagues.ezfacility.com
DTSTAMP:20260424T044139Z
CREATED:20260424T044139Z
DTSTART:20170312T160000Z
DTEND:20170312T165500Z
LOCATION:Jessup Premier Field #1
CONTACT:
SUMMARY:Takoma Galaxy VS. CSA '05
DESCRIPTION:League Name: Youth (WINTER 2) SD1 Sat/Sun U12 Boys GOLD\nGame T
 ype: Regular\nGame Status: Rescheduled\nHome Team: Takoma Galaxy\nAway Tea
 m: CSA '05\n
END:VEVENT
BEGIN:VEVENT
UID:10152814@ezleagues.ezfacility.com
DTSTAMP:20260424T044139Z
CREATED:20260424T044139Z
DTSTART:20170318T134500Z
DTEND:20170318T144000Z
LOCATION:Jessup Premier Field #2
CONTACT:
SUMMARY:CSA '05 VS. SAC Premier Blue U12
DESCRIPTION:League Name: Youth (WINTER 2) SD1 Sat/Sun U12 Boys GOLD\nGame T
 ype: Regular\nGame Status: Complete\nHome Team: CSA '05\nAway Team: SAC Pr
 emier Blue U12\nHome Score: 1\nAway Score: 4
END:VEVENT
BEGIN:VEVENT
UID:10285317@ezleagues.ezfacility.com
DTSTAMP:20260424T044139Z
CREATED:20260424T044139Z
DTSTART:20170325T125000Z
DTEND:20170325T134500Z
LOCATION:Jessup Premier Field #1
CONTACT:
SUMMARY:Takoma Galaxy VS. CSA '05
DESCRIPTION:League Name: Youth (WINTER 2) SD1 Sat/Sun U12 Boys GOLD\nGame T
 ype: Regular\nGame Status: Complete\nHome Team: Takoma Galaxy\nAway Team: 
 CSA '05\nHome Score: 1\nAway Score: 3
END:VEVENT
BEGIN:VEVENT
UID:10152845@ezleagues.ezfacility.com
DTSTAMP:20260424T044139Z
CREATED:20260424T044139Z
DTSTART:20170326T160000Z
DTEND:20170326T165500Z
LOCATION:Jessup Premier Field #1
CONTACT:
SUMMARY:CSA '05 VS. FCI - Atletico (MD)
DESCRIPTION:League Name: Youth (WINTER 2) SD1 Sat/Sun U12 Boys GOLD\nGame T
 ype: Regular\nGame Status: Complete\nHome Team: CSA '05\nAway Team: FCI - 
 Atletico (MD)\nHome Score: 5\nAway Score: 1
END:VEVENT
END:VCALENDAR
