BEGIN:VCALENDAR
VERSION:2.0
PRODID:-//EZFacility.com, Inc.//EZL 2.5.5.28621
BEGIN:VEVENT
UID:10152660@ezleagues.ezfacility.com
DTSTAMP:20260424T044154Z
CREATED:20260424T044154Z
DTSTART:20170211T154000Z
DTEND:20170211T163500Z
LOCATION:Jessup Premier Field #2
CONTACT:
SUMMARY:FCI - Atletico (MD) VS. SP Premier Green
DESCRIPTION:League Name: Youth (WINTER 2) SD1 Sat/Sun U12 Boys GOLD\nGame T
 ype: Regular\nGame Status: Complete\nHome Team: FCI - Atletico (MD)\nAway 
 Team: SP Premier Green\nHome Score: 0\nAway Score: 0
END:VEVENT
BEGIN:VEVENT
UID:10152692@ezleagues.ezfacility.com
DTSTAMP:20260424T044154Z
CREATED:20260424T044154Z
DTSTART:20170218T182500Z
DTEND:20170218T192000Z
LOCATION:Jessup Premier Field #1
CONTACT:
SUMMARY:FCI - Atletico (MD) VS. Brasil FC '05
DESCRIPTION:League Name: Youth (WINTER 2) SD1 Sat/Sun U12 Boys GOLD\nGame T
 ype: Regular\nGame Status: Complete\nHome Team: FCI - Atletico (MD)\nAway 
 Team: Brasil FC '05\nHome Score: 6\nAway Score: 5
END:VEVENT
BEGIN:VEVENT
UID:10152724@ezleagues.ezfacility.com
DTSTAMP:20260424T044154Z
CREATED:20260424T044154Z
DTSTART:20170225T154000Z
DTEND:20170225T162800Z
LOCATION:Jessup Premier Field #2
CONTACT:
SUMMARY:FCI - Atletico (MD) VS. SAC Premier Blue U12
DESCRIPTION:League Name: Youth (WINTER 2) SD1 Sat/Sun U12 Boys GOLD\nGame T
 ype: Regular\nGame Status: Complete\nHome Team: FCI - Atletico (MD)\nAway 
 Team: SAC Premier Blue U12\nHome Score: 2\nAway Score: 2
END:VEVENT
BEGIN:VEVENT
UID:10152785@ezleagues.ezfacility.com
DTSTAMP:20260424T044154Z
CREATED:20260424T044154Z
DTSTART:20170311T163500Z
DTEND:20170311T173000Z
LOCATION:Harmans Premier Field #4
CONTACT:
SUMMARY:Thunder PSG VS. FCI - Atletico (MD)
DESCRIPTION:League Name: Youth (WINTER 2) SD1 Sat/Sun U12 Boys GOLD\nGame T
 ype: Regular\nGame Status: Pending\nHome Team: Thunder PSG\nAway Team: FCI
  - Atletico (MD)\n
END:VEVENT
BEGIN:VEVENT
UID:10152755@ezleagues.ezfacility.com
DTSTAMP:20260424T044154Z
CREATED:20260424T044154Z
DTSTART:20170318T210500Z
DTEND:20170318T220000Z
LOCATION:Jessup Premier Field #2
CONTACT:
SUMMARY:Ramos Football Club VS. FCI - Atletico (MD)
DESCRIPTION:League Name: Youth (WINTER 2) SD1 Sat/Sun U12 Boys GOLD\nGame T
 ype: Regular\nGame Status: Complete\nHome Team: Ramos Football Club\nAway 
 Team: FCI - Atletico (MD)\nHome Score: 3\nAway Score: 2
END:VEVENT
BEGIN:VEVENT
UID:10152815@ezleagues.ezfacility.com
DTSTAMP:20260424T044154Z
CREATED:20260424T044154Z
DTSTART:20170319T170000Z
DTEND:20170319T175500Z
LOCATION:Jessup Premier Field #2
CONTACT:
SUMMARY:Takoma Galaxy VS. FCI - Atletico (MD)
DESCRIPTION:League Name: Youth (WINTER 2) SD1 Sat/Sun U12 Boys GOLD\nGame T
 ype: Regular\nGame Status: Complete\nHome Team: Takoma Galaxy\nAway Team: 
 FCI - Atletico (MD)\nHome Score: 3\nAway Score: 7
END:VEVENT
BEGIN:VEVENT
UID:10152845@ezleagues.ezfacility.com
DTSTAMP:20260424T044154Z
CREATED:20260424T044154Z
DTSTART:20170326T160000Z
DTEND:20170326T165500Z
LOCATION:Jessup Premier Field #1
CONTACT:
SUMMARY:CSA '05 VS. FCI - Atletico (MD)
DESCRIPTION:League Name: Youth (WINTER 2) SD1 Sat/Sun U12 Boys GOLD\nGame T
 ype: Regular\nGame Status: Complete\nHome Team: CSA '05\nAway Team: FCI - 
 Atletico (MD)\nHome Score: 5\nAway Score: 1
END:VEVENT
END:VCALENDAR
