BEGIN:VCALENDAR
VERSION:2.0
PRODID:-//EZFacility.com, Inc.//EZL 2.5.5.28621
BEGIN:VEVENT
UID:10166066@ezleagues.ezfacility.com
DTSTAMP:20260424T043232Z
CREATED:20260424T043232Z
DTSTART:20170212T201500Z
DTEND:20170212T211000Z
LOCATION:Harmans Premier Field #4
CONTACT:
SUMMARY:Pasadena SC Bulldogs VS. SP Sting
DESCRIPTION:League Name: Youth (WINTER 2) SD2 Sat/Sun U10 Girls SILVER\nGam
 e Type: Regular\nGame Status: Complete\nHome Team: Pasadena SC Bulldogs\nA
 way Team: SP Sting\nHome Score: 5\nAway Score: 4
END:VEVENT
BEGIN:VEVENT
UID:10166111@ezleagues.ezfacility.com
DTSTAMP:20260424T043232Z
CREATED:20260424T043232Z
DTSTART:20170219T144500Z
DTEND:20170219T154000Z
LOCATION:Harmans Premier Field #5
CONTACT:
SUMMARY:Pasadena SC Bulldogs VS. Waldorf SC '07 Orange
DESCRIPTION:League Name: Youth (WINTER 2) SD2 Sat/Sun U10 Girls SILVER\nGam
 e Type: Regular\nGame Status: Complete\nHome Team: Pasadena SC Bulldogs\nA
 way Team: Waldorf SC '07 Orange\nHome Score: 2\nAway Score: 1
END:VEVENT
BEGIN:VEVENT
UID:10166156@ezleagues.ezfacility.com
DTSTAMP:20260424T043232Z
CREATED:20260424T043232Z
DTSTART:20170225T135000Z
DTEND:20170225T144500Z
LOCATION:Harmans Premier Field #5
CONTACT:
SUMMARY:Pasadena SC Bulldogs VS. Purple Storm
DESCRIPTION:League Name: Youth (WINTER 2) SD2 Sat/Sun U10 Girls SILVER\nGam
 e Type: Regular\nGame Status: Complete\nHome Team: Pasadena SC Bulldogs\nA
 way Team: Purple Storm\nHome Score: 5\nAway Score: 1
END:VEVENT
BEGIN:VEVENT
UID:10166200@ezleagues.ezfacility.com
DTSTAMP:20260424T043232Z
CREATED:20260424T043232Z
DTSTART:20170305T135000Z
DTEND:20170305T144500Z
LOCATION:Harmans Premier Field #4
CONTACT:
SUMMARY:A3 Blues VS. Pasadena SC Bulldogs
DESCRIPTION:League Name: Youth (WINTER 2) SD2 Sat/Sun U10 Girls SILVER\nGam
 e Type: Regular\nGame Status: Complete\nHome Team: A3 Blues\nAway Team: Pa
 sadena SC Bulldogs\nHome Score: 3\nAway Score: 4
END:VEVENT
BEGIN:VEVENT
UID:10166243@ezleagues.ezfacility.com
DTSTAMP:20260424T043232Z
CREATED:20260424T043232Z
DTSTART:20170312T144000Z
DTEND:20170312T153500Z
LOCATION:Harmans Premier Field #5
CONTACT:
SUMMARY:PSC Piranhas VS. Pasadena SC Bulldogs
DESCRIPTION:League Name: Youth (WINTER 2) SD2 Sat/Sun U10 Girls SILVER\nGam
 e Type: Regular\nGame Status: Complete\nHome Team: PSC Piranhas\nAway Team
 : Pasadena SC Bulldogs\nHome Score: 1\nAway Score: 7
END:VEVENT
BEGIN:VEVENT
UID:10166286@ezleagues.ezfacility.com
DTSTAMP:20260424T043232Z
CREATED:20260424T043232Z
DTSTART:20170319T172500Z
DTEND:20170319T182000Z
LOCATION:Harmans Premier Field #4
CONTACT:
SUMMARY:Tigers VS. Pasadena SC Bulldogs
DESCRIPTION:League Name: Youth (WINTER 2) SD2 Sat/Sun U10 Girls SILVER\nGam
 e Type: Regular\nGame Status: Complete\nHome Team: Tigers\nAway Team: Pasa
 dena SC Bulldogs\nHome Score: 0\nAway Score: 6
END:VEVENT
BEGIN:VEVENT
UID:10166329@ezleagues.ezfacility.com
DTSTAMP:20260424T043232Z
CREATED:20260424T043232Z
DTSTART:20170325T201000Z
DTEND:20170325T210500Z
LOCATION:Harmans Premier Field #4
CONTACT:
SUMMARY:Thunder Fusion VS. Pasadena SC Bulldogs
DESCRIPTION:League Name: Youth (WINTER 2) SD2 Sat/Sun U10 Girls SILVER\nGam
 e Type: Regular\nGame Status: Complete\nHome Team: Thunder Fusion\nAway Te
 am: Pasadena SC Bulldogs\nHome Score: 1\nAway Score: 2
END:VEVENT
END:VCALENDAR
