BEGIN:VCALENDAR
VERSION:2.0
PRODID:-//EZFacility.com, Inc.//EZL 2.5.5.28621
BEGIN:VEVENT
UID:10156998@ezleagues.ezfacility.com
DTSTAMP:20260424T115602Z
CREATED:20260424T115602Z
DTSTART:20170212T215000Z
DTEND:20170212T224000Z
LOCATION:INDOOR FIELD
CONTACT:
SUMMARY:Deschutes Brewery VS. Johnny Law
DESCRIPTION:League Name: Adult Soccer 2017-***FULL***Coed B2 League\nGame T
 ype: Regular\nGame Status: Complete\nHome Team: Deschutes Brewery\nAway Te
 am: Johnny Law\nHome Score: 4\nAway Score: 4
END:VEVENT
BEGIN:VEVENT
UID:10157003@ezleagues.ezfacility.com
DTSTAMP:20260424T115602Z
CREATED:20260424T115602Z
DTSTART:20170219T190000Z
DTEND:20170219T195000Z
LOCATION:INDOOR FIELD
CONTACT:
SUMMARY:Deschutes Brewery VS. The New Guys
DESCRIPTION:League Name: Adult Soccer 2017-***FULL***Coed B2 League\nGame T
 ype: Regular\nGame Status: Complete\nHome Team: Deschutes Brewery\nAway Te
 am: The New Guys\nHome Score: 1\nAway Score: 11
END:VEVENT
BEGIN:VEVENT
UID:10157008@ezleagues.ezfacility.com
DTSTAMP:20260424T115602Z
CREATED:20260424T115602Z
DTSTART:20170226T215000Z
DTEND:20170226T224000Z
LOCATION:INDOOR FIELD
CONTACT:
SUMMARY:Deschutes Brewery VS. Harrf City United
DESCRIPTION:League Name: Adult Soccer 2017-***FULL***Coed B2 League\nGame T
 ype: Regular\nGame Status: Complete\nHome Team: Deschutes Brewery\nAway Te
 am: Harrf City United\nHome Score: 1\nAway Score: 0
END:VEVENT
BEGIN:VEVENT
UID:10157012@ezleagues.ezfacility.com
DTSTAMP:20260424T115602Z
CREATED:20260424T115602Z
DTSTART:20170305T204000Z
DTEND:20170305T213000Z
LOCATION:INDOOR FIELD
CONTACT:
SUMMARY:DJBs VS. Deschutes Brewery
DESCRIPTION:League Name: Adult Soccer 2017-***FULL***Coed B2 League\nGame T
 ype: Regular\nGame Status: Complete\nHome Team: DJBs\nAway Team: Deschutes
  Brewery\nHome Score: 1\nAway Score: 0
END:VEVENT
BEGIN:VEVENT
UID:10157015@ezleagues.ezfacility.com
DTSTAMP:20260424T115602Z
CREATED:20260424T115602Z
DTSTART:20170312T203000Z
DTEND:20170312T212000Z
LOCATION:INDOOR FIELD
CONTACT:
SUMMARY:Panthers VS. Deschutes Brewery
DESCRIPTION:League Name: Adult Soccer 2017-***FULL***Coed B2 League\nGame T
 ype: Regular\nGame Status: Complete\nHome Team: Panthers\nAway Team: Desch
 utes Brewery\nHome Score: 5\nAway Score: 2
END:VEVENT
BEGIN:VEVENT
UID:10157018@ezleagues.ezfacility.com
DTSTAMP:20260424T115602Z
CREATED:20260424T115602Z
DTSTART:20170319T194000Z
DTEND:20170319T203000Z
LOCATION:INDOOR FIELD
CONTACT:
SUMMARY:MSG FC VS. Deschutes Brewery
DESCRIPTION:League Name: Adult Soccer 2017-***FULL***Coed B2 League\nGame T
 ype: Regular\nGame Status: Complete\nHome Team: MSG FC\nAway Team: Deschut
 es Brewery\nHome Score: 1\nAway Score: 0
END:VEVENT
BEGIN:VEVENT
UID:10157021@ezleagues.ezfacility.com
DTSTAMP:20260424T115602Z
CREATED:20260424T115602Z
DTSTART:20170402T203000Z
DTEND:20170402T212000Z
LOCATION:INDOOR FIELD
CONTACT:
SUMMARY:Black Shoes VS. Deschutes Brewery
DESCRIPTION:League Name: Adult Soccer 2017-***FULL***Coed B2 League\nGame T
 ype: Regular\nGame Status: Pending\nHome Team: Black Shoes\nAway Team: Des
 chutes Brewery\n
END:VEVENT
BEGIN:VEVENT
UID:10343204@ezleagues.ezfacility.com
DTSTAMP:20260424T115602Z
CREATED:20260424T115602Z
DTSTART:20170409T180000Z
DTEND:20170409T182500Z
LOCATION:INDOOR FIELD
CONTACT:
SUMMARY:The New Guys VS. Deschutes Brewery
DESCRIPTION:League Name: Adult Soccer 2017-***FULL***Coed B2 League\nGame T
 ype: Regular\nGame Status: Pending\nHome Team: The New Guys\nAway Team: De
 schutes Brewery\n
END:VEVENT
END:VCALENDAR
