BEGIN:VCALENDAR
VERSION:2.0
PRODID:-//EZFacility.com, Inc.//EZL 2.5.5.28621
BEGIN:VEVENT
UID:10166086@ezleagues.ezfacility.com
DTSTAMP:20260424T044057Z
CREATED:20260424T044057Z
DTSTART:20170211T163500Z
DTEND:20170211T173000Z
LOCATION:Harmans Premier Field #5
CONTACT:
SUMMARY:Barcelona  VS. SDFC United
DESCRIPTION:League Name: Youth (WINTER 2) SD2 Sat/Sun U8 Boys SILVER\nGame 
 Type: Regular\nGame Status: Complete\nHome Team: Barcelona \nAway Team: SD
 FC United\nHome Score: 4\nAway Score: 7
END:VEVENT
BEGIN:VEVENT
UID:10166129@ezleagues.ezfacility.com
DTSTAMP:20260424T044057Z
CREATED:20260424T044057Z
DTSTART:20170218T201500Z
DTEND:20170218T211000Z
LOCATION:Harmans Premier Field #5
CONTACT:
SUMMARY:Barcelona  VS. PSC Evolution
DESCRIPTION:League Name: Youth (WINTER 2) SD2 Sat/Sun U8 Boys SILVER\nGame 
 Type: Regular\nGame Status: Complete\nHome Team: Barcelona \nAway Team: PS
 C Evolution\nHome Score: 6\nAway Score: 1
END:VEVENT
BEGIN:VEVENT
UID:10166172@ezleagues.ezfacility.com
DTSTAMP:20260424T044057Z
CREATED:20260424T044057Z
DTSTART:20170226T192000Z
DTEND:20170226T201500Z
LOCATION:Harmans Premier Field #4
CONTACT:
SUMMARY:LF United VS. Barcelona 
DESCRIPTION:League Name: Youth (WINTER 2) SD2 Sat/Sun U8 Boys SILVER\nGame 
 Type: Regular\nGame Status: Complete\nHome Team: LF United\nAway Team: Bar
 celona \nHome Score: 3\nAway Score: 6
END:VEVENT
BEGIN:VEVENT
UID:10166217@ezleagues.ezfacility.com
DTSTAMP:20260424T044057Z
CREATED:20260424T044057Z
DTSTART:20170305T154000Z
DTEND:20170305T163500Z
LOCATION:Harmans Premier Field #5
CONTACT:
SUMMARY:Barcelona  VS. Thunder Ajax
DESCRIPTION:League Name: Youth (WINTER 2) SD2 Sat/Sun U8 Boys SILVER\nGame 
 Type: Regular\nGame Status: Complete\nHome Team: Barcelona \nAway Team: Th
 under Ajax\nHome Score: 3\nAway Score: 0
END:VEVENT
BEGIN:VEVENT
UID:10166262@ezleagues.ezfacility.com
DTSTAMP:20260424T044057Z
CREATED:20260424T044057Z
DTSTART:20170312T134500Z
DTEND:20170312T144000Z
LOCATION:Harmans Premier Field #4
CONTACT:
SUMMARY:Barcelona  VS. Premier White
DESCRIPTION:League Name: Youth (WINTER 2) SD2 Sat/Sun U8 Boys SILVER\nGame 
 Type: Regular\nGame Status: Complete\nHome Team: Barcelona \nAway Team: Pr
 emier White\nHome Score: 5\nAway Score: 2
END:VEVENT
BEGIN:VEVENT
UID:10166306@ezleagues.ezfacility.com
DTSTAMP:20260424T044057Z
CREATED:20260424T044057Z
DTSTART:20170318T191500Z
DTEND:20170318T201000Z
LOCATION:Harmans Premier Field #4
CONTACT:
SUMMARY:SDFC United VS. Barcelona 
DESCRIPTION:League Name: Youth (WINTER 2) SD2 Sat/Sun U8 Boys SILVER\nGame 
 Type: Regular\nGame Status: Complete\nHome Team: SDFC United\nAway Team: B
 arcelona \nHome Score: 3\nAway Score: 5
END:VEVENT
BEGIN:VEVENT
UID:10166349@ezleagues.ezfacility.com
DTSTAMP:20260424T044057Z
CREATED:20260424T044057Z
DTSTART:20170325T125000Z
DTEND:20170325T134500Z
LOCATION:Harmans Premier Field #4
CONTACT:
SUMMARY:PSC Evolution VS. Barcelona 
DESCRIPTION:League Name: Youth (WINTER 2) SD2 Sat/Sun U8 Boys SILVER\nGame 
 Type: Regular\nGame Status: Complete\nHome Team: PSC Evolution\nAway Team:
  Barcelona \nHome Score: 1\nAway Score: 5
END:VEVENT
END:VCALENDAR
