BEGIN:VCALENDAR
VERSION:2.0
PRODID:-//EZFacility.com, Inc.//EZL 2.5.5.28621
BEGIN:VEVENT
UID:10166061@ezleagues.ezfacility.com
DTSTAMP:20260424T043139Z
CREATED:20260424T043139Z
DTSTART:20170212T201500Z
DTEND:20170212T211000Z
LOCATION:Harmans Premier Field #5
CONTACT:
SUMMARY:A3 Blackpool 2006 VS. Pasadena Kickers
DESCRIPTION:League Name: Youth (WINTER 2) SD2 Sat/Sun U11 Girls BRONZE\nGam
 e Type: Regular\nGame Status: Complete\nHome Team: A3 Blackpool 2006\nAway
  Team: Pasadena Kickers\nHome Score: 3\nAway Score: 1
END:VEVENT
BEGIN:VEVENT
UID:10166106@ezleagues.ezfacility.com
DTSTAMP:20260424T043139Z
CREATED:20260424T043139Z
DTSTART:20170218T144500Z
DTEND:20170218T154000Z
LOCATION:Harmans Premier Field #4
CONTACT:
SUMMARY:A3 Blackpool 2006 VS. Galácticas FC
DESCRIPTION:League Name: Youth (WINTER 2) SD2 Sat/Sun U11 Girls BRONZE\nGam
 e Type: Regular\nGame Status: Complete\nHome Team: A3 Blackpool 2006\nAway
  Team: Galácticas FC\nHome Score: 2\nAway Score: 8
END:VEVENT
BEGIN:VEVENT
UID:10166281@ezleagues.ezfacility.com
DTSTAMP:20260424T043139Z
CREATED:20260424T043139Z
DTSTART:20170220T120000Z
DTEND:20170220T125500Z
LOCATION:Harmans Premier Field #5
CONTACT:
SUMMARY:Blue Lightning  VS. A3 Blackpool 2006
DESCRIPTION:League Name: Youth (WINTER 2) SD2 Sat/Sun U11 Girls BRONZE\nGam
 e Type: Regular\nGame Status: Complete\nHome Team: Blue Lightning \nAway T
 eam: A3 Blackpool 2006\nHome Score: 6\nAway Score: 2
END:VEVENT
BEGIN:VEVENT
UID:10166324@ezleagues.ezfacility.com
DTSTAMP:20260424T043139Z
CREATED:20260424T043139Z
DTSTART:20170220T130000Z
DTEND:20170220T135500Z
LOCATION:Harmans Premier Field #4
CONTACT:
SUMMARY: ASA Angels '06 VS. A3 Blackpool 2006
DESCRIPTION:League Name: Youth (WINTER 2) SD2 Sat/Sun U11 Girls BRONZE\nGam
 e Type: Regular\nGame Status: Complete\nHome Team:  ASA Angels '06\nAway T
 eam: A3 Blackpool 2006\nHome Score: 0\nAway Score: 3
END:VEVENT
BEGIN:VEVENT
UID:10166151@ezleagues.ezfacility.com
DTSTAMP:20260424T043139Z
CREATED:20260424T043139Z
DTSTART:20170226T125500Z
DTEND:20170226T135000Z
LOCATION:Harmans Premier Field #4
CONTACT:
SUMMARY:A3 Blackpool 2006 VS. Linthicum Legion
DESCRIPTION:League Name: Youth (WINTER 2) SD2 Sat/Sun U11 Girls BRONZE\nGam
 e Type: Regular\nGame Status: Complete\nHome Team: A3 Blackpool 2006\nAway
  Team: Linthicum Legion\nHome Score: 3\nAway Score: 6
END:VEVENT
BEGIN:VEVENT
UID:10166195@ezleagues.ezfacility.com
DTSTAMP:20260424T043139Z
CREATED:20260424T043139Z
DTSTART:20170305T120000Z
DTEND:20170305T125500Z
LOCATION:Harmans Premier Field #5
CONTACT:
SUMMARY:Galaxy VS. A3 Blackpool 2006
DESCRIPTION:League Name: Youth (WINTER 2) SD2 Sat/Sun U11 Girls BRONZE\nGam
 e Type: Regular\nGame Status: Complete\nHome Team: Galaxy\nAway Team: A3 B
 lackpool 2006\nHome Score: 8\nAway Score: 3
END:VEVENT
BEGIN:VEVENT
UID:10166238@ezleagues.ezfacility.com
DTSTAMP:20260424T043139Z
CREATED:20260424T043139Z
DTSTART:20170312T134500Z
DTEND:20170312T144000Z
LOCATION:Harmans Premier Field #5
CONTACT:
SUMMARY:LTSC Lightning VS. A3 Blackpool 2006
DESCRIPTION:League Name: Youth (WINTER 2) SD2 Sat/Sun U11 Girls BRONZE\nGam
 e Type: Regular\nGame Status: Complete\nHome Team: LTSC Lightning\nAway Te
 am: A3 Blackpool 2006\nHome Score: 8\nAway Score: 0
END:VEVENT
END:VCALENDAR
