BEGIN:VCALENDAR
VERSION:2.0
PRODID:-//EZFacility.com, Inc.//EZL 2.5.5.28621
BEGIN:VEVENT
UID:10210549@ezleagues.ezfacility.com
DTSTAMP:20260424T043934Z
CREATED:20260424T043934Z
DTSTART:20170219T220000Z
DTEND:20170219T225000Z
LOCATION:Harmans Premier Field #5
CONTACT:
SUMMARY:Quarter Life Crisis VS. Baltimore United
DESCRIPTION:League Name: Sun Coed 3 rd SILVER \nGame Type: Regular\nGame St
 atus: Complete\nHome Team: Quarter Life Crisis\nAway Team: Baltimore Unite
 d\nHome Score: 13\nAway Score: 6
END:VEVENT
BEGIN:VEVENT
UID:10210564@ezleagues.ezfacility.com
DTSTAMP:20260424T043934Z
CREATED:20260424T043934Z
DTSTART:20170226T220000Z
DTEND:20170226T225000Z
LOCATION:Harmans Premier Field #5
CONTACT:
SUMMARY:Baltimore United VS. Futbal Bro2
DESCRIPTION:League Name: Sun Coed 3 rd SILVER \nGame Type: Regular\nGame St
 atus: Complete\nHome Team: Baltimore United\nAway Team: Futbal Bro2\nHome 
 Score: 7\nAway Score: 8
END:VEVENT
BEGIN:VEVENT
UID:10210578@ezleagues.ezfacility.com
DTSTAMP:20260424T043934Z
CREATED:20260424T043934Z
DTSTART:20170306T003000Z
DTEND:20170306T012000Z
LOCATION:Harmans Premier Field #4
CONTACT:
SUMMARY:Rust FC VS. Baltimore United
DESCRIPTION:League Name: Sun Coed 3 rd SILVER \nGame Type: Regular\nGame St
 atus: Complete\nHome Team: Rust FC\nAway Team: Baltimore United\nHome Scor
 e: 8\nAway Score: 4
END:VEVENT
BEGIN:VEVENT
UID:10210639@ezleagues.ezfacility.com
DTSTAMP:20260424T043934Z
CREATED:20260424T043934Z
DTSTART:20170313T020000Z
DTEND:20170313T025000Z
LOCATION:Harmans Premier Field #5
CONTACT:
SUMMARY:Futbal Bro2 VS. Baltimore United
DESCRIPTION:League Name: Sun Coed 3 rd SILVER \nGame Type: Regular\nGame St
 atus: Complete\nHome Team: Futbal Bro2\nAway Team: Baltimore United\nHome 
 Score: 7\nAway Score: 5
END:VEVENT
BEGIN:VEVENT
UID:10210608@ezleagues.ezfacility.com
DTSTAMP:20260424T043934Z
CREATED:20260424T043934Z
DTSTART:20170320T010000Z
DTEND:20170320T020000Z
LOCATION:Harmans Premier Field #4
CONTACT:
SUMMARY:Baltimore United VS. Guarani
DESCRIPTION:League Name: Sun Coed 3 rd SILVER \nGame Type: Regular\nGame St
 atus: Complete\nHome Team: Baltimore United\nAway Team: Guarani\nHome Scor
 e: 3\nAway Score: 4
END:VEVENT
BEGIN:VEVENT
UID:10210624@ezleagues.ezfacility.com
DTSTAMP:20260424T043934Z
CREATED:20260424T043934Z
DTSTART:20170327T010000Z
DTEND:20170327T015000Z
LOCATION:Harmans Premier Field #5
CONTACT:
SUMMARY:Baltimore United VS. Quarter Life Crisis
DESCRIPTION:League Name: Sun Coed 3 rd SILVER \nGame Type: Regular\nGame St
 atus: Complete\nHome Team: Baltimore United\nAway Team: Quarter Life Crisi
 s\nHome Score: 3\nAway Score: 5
END:VEVENT
BEGIN:VEVENT
UID:10210592@ezleagues.ezfacility.com
DTSTAMP:20260424T043934Z
CREATED:20260424T043934Z
DTSTART:20170403T010000Z
DTEND:20170403T020000Z
LOCATION:Harmans Premier Field #4
CONTACT:
SUMMARY:Atletico Internacional VS. Baltimore United
DESCRIPTION:League Name: Sun Coed 3 rd SILVER \nGame Type: Regular\nGame St
 atus: Complete\nHome Team: Atletico Internacional\nAway Team: Baltimore Un
 ited\nHome Score: 9\nAway Score: 9
END:VEVENT
BEGIN:VEVENT
UID:10377324@ezleagues.ezfacility.com
DTSTAMP:20260424T043934Z
CREATED:20260424T043934Z
DTSTART:20170424T010000Z
DTEND:20170424T020000Z
LOCATION:Harmans Premier Field #5
CONTACT:
SUMMARY:Rust FC VS. Baltimore United
DESCRIPTION:League Name: Sun Coed 3 rd SILVER \nGame Type: Regular\nGame St
 atus: Complete\nHome Team: Rust FC\nAway Team: Baltimore United\nHome Scor
 e: 7\nAway Score: 3
END:VEVENT
END:VCALENDAR
