BEGIN:VCALENDAR
VERSION:2.0
PRODID:-//EZFacility.com, Inc.//EZL 2.5.5.28621
BEGIN:VEVENT
UID:10274437@ezleagues.ezfacility.com
DTSTAMP:20260424T045151Z
CREATED:20260424T045151Z
DTSTART:20170319T010000Z
DTEND:20170319T023000Z
LOCATION:Rink 1
CONTACT:
SUMMARY:Mighty Ducks VS. Gators
DESCRIPTION:League Name: 2017 Spring Adult Tournament "B" Division\nGame Ty
 pe: Regular\nGame Status: Complete\nHome Team: Mighty Ducks\nAway Team: Ga
 tors\nHome Score: 12\nAway Score: 5
END:VEVENT
BEGIN:VEVENT
UID:10274438@ezleagues.ezfacility.com
DTSTAMP:20260424T045151Z
CREATED:20260424T045151Z
DTSTART:20170323T003000Z
DTEND:20170323T020000Z
LOCATION:Rink 1
CONTACT:
SUMMARY:Cobras VS. Mighty Ducks
DESCRIPTION:League Name: 2017 Spring Adult Tournament "B" Division\nGame Ty
 pe: Regular\nGame Status: Complete\nHome Team: Cobras\nAway Team: Mighty D
 ucks\nHome Score: 3\nAway Score: 8
END:VEVENT
BEGIN:VEVENT
UID:10274518@ezleagues.ezfacility.com
DTSTAMP:20260424T045151Z
CREATED:20260424T045151Z
DTSTART:20170329T004500Z
DTEND:20170329T021500Z
LOCATION:Rink 1
CONTACT:
SUMMARY:Sharks VS. Mighty Ducks
DESCRIPTION:League Name: 2017 Spring Adult Tournament "B" Division\nGame Ty
 pe: Regular\nGame Status: Complete\nHome Team: Sharks\nAway Team: Mighty D
 ucks\nHome Score: 3\nAway Score: 10
END:VEVENT
BEGIN:VEVENT
UID:10274523@ezleagues.ezfacility.com
DTSTAMP:20260424T045151Z
CREATED:20260424T045151Z
DTSTART:20170401T224500Z
DTEND:20170402T001500Z
LOCATION:Rink 1
CONTACT:
SUMMARY:Mighty Ducks VS. Knights
DESCRIPTION:League Name: 2017 Spring Adult Tournament "B" Division\nGame Ty
 pe: Regular\nGame Status: Complete\nHome Team: Mighty Ducks\nAway Team: Kn
 ights\nHome Score: 11\nAway Score: 4
END:VEVENT
BEGIN:VEVENT
UID:10303496@ezleagues.ezfacility.com
DTSTAMP:20260424T045151Z
CREATED:20260424T045151Z
DTSTART:20170407T010000Z
DTEND:20170407T023000Z
LOCATION:Rink 1
CONTACT:
SUMMARY:Mighty Ducks VS. Gators
DESCRIPTION:League Name: 2017 Spring Adult Tournament "B" Division\nGame Ty
 pe: Postseason\nGame Status: Complete\nHome Team: Mighty Ducks\nAway Team:
  Gators\nHome Score: 6\nAway Score: 2
END:VEVENT
END:VCALENDAR
