BEGIN:VCALENDAR
VERSION:2.0
PRODID:-//EZFacility.com, Inc.//EZL 2.5.5.28621
BEGIN:VEVENT
UID:10300402@ezleagues.ezfacility.com
DTSTAMP:20260426T035134Z
CREATED:20260426T035134Z
DTSTART:20170328T003000Z
DTEND:20170328T005800Z
LOCATION:SM Field 1
CONTACT:
SUMMARY:River Rats VS. Seven Dwarfs 
DESCRIPTION:League Name: Women's O30 (4v4) - Spring \nGame Type: Regular\nG
 ame Status: Complete\nHome Team: River Rats\nAway Team: Seven Dwarfs \nHom
 e Score: 3\nAway Score: 0
END:VEVENT
BEGIN:VEVENT
UID:10300386@ezleagues.ezfacility.com
DTSTAMP:20260426T035134Z
CREATED:20260426T035134Z
DTSTART:20170404T010000Z
DTEND:20170404T012800Z
LOCATION:SM Field 1
CONTACT:
SUMMARY:Stomp  VS. River Rats
DESCRIPTION:League Name: Women's O30 (4v4) - Spring \nGame Type: Regular\nG
 ame Status: Complete\nHome Team: Stomp \nAway Team: River Rats\nHome Score
 : 2\nAway Score: 0
END:VEVENT
BEGIN:VEVENT
UID:10300391@ezleagues.ezfacility.com
DTSTAMP:20260426T035134Z
CREATED:20260426T035134Z
DTSTART:20170411T020000Z
DTEND:20170411T022800Z
LOCATION:SM Field 1
CONTACT:
SUMMARY:River Rats VS. Big Kickers 
DESCRIPTION:League Name: Women's O30 (4v4) - Spring \nGame Type: Regular\nG
 ame Status: Complete\nHome Team: River Rats\nAway Team: Big Kickers \nHome
  Score: 2\nAway Score: 8
END:VEVENT
BEGIN:VEVENT
UID:10300396@ezleagues.ezfacility.com
DTSTAMP:20260426T035134Z
CREATED:20260426T035134Z
DTSTART:20170418T020000Z
DTEND:20170418T022800Z
LOCATION:SM Field 1
CONTACT:
SUMMARY:Heffalumps VS. River Rats
DESCRIPTION:League Name: Women's O30 (4v4) - Spring \nGame Type: Regular\nG
 ame Status: Complete\nHome Team: Heffalumps\nAway Team: River Rats\nHome S
 core: 8\nAway Score: 2
END:VEVENT
BEGIN:VEVENT
UID:10300400@ezleagues.ezfacility.com
DTSTAMP:20260426T035134Z
CREATED:20260426T035134Z
DTSTART:20170425T003000Z
DTEND:20170425T005800Z
LOCATION:SM Field 1
CONTACT:
SUMMARY:Suck It Up Buttercup VS. River Rats
DESCRIPTION:League Name: Women's O30 (4v4) - Spring \nGame Type: Regular\nG
 ame Status: Complete\nHome Team: Suck It Up Buttercup\nAway Team: River Ra
 ts\nHome Score: 7\nAway Score: 1
END:VEVENT
BEGIN:VEVENT
UID:10300381@ezleagues.ezfacility.com
DTSTAMP:20260426T035134Z
CREATED:20260426T035134Z
DTSTART:20170502T003000Z
DTEND:20170502T005800Z
LOCATION:SM Field 1
CONTACT:
SUMMARY:River Rats VS. Cheshire Cats
DESCRIPTION:League Name: Women's O30 (4v4) - Spring \nGame Type: Regular\nG
 ame Status: Complete\nHome Team: River Rats\nAway Team: Cheshire Cats\nHom
 e Score: 1\nAway Score: 7
END:VEVENT
END:VCALENDAR
