BEGIN:VCALENDAR
VERSION:2.0
PRODID:-//EZFacility.com, Inc.//EZL 2.5.5.28621
BEGIN:VEVENT
UID:10290420@ezleagues.ezfacility.com
DTSTAMP:20260426T033839Z
CREATED:20260426T033839Z
DTSTART:20170326T131200Z
DTEND:20170326T140400Z
LOCATION:Field   ID 1
CONTACT:
SUMMARY:Raja VS. Flash
DESCRIPTION:League Name: Spring Indoor 2017 Men's 40+\nGame Type: Regular\n
 Game Status: Complete\nHome Team: Raja\nAway Team: Flash\nHome Score: 2\nA
 way Score: 3
END:VEVENT
BEGIN:VEVENT
UID:10305423@ezleagues.ezfacility.com
DTSTAMP:20260426T033839Z
CREATED:20260426T033839Z
DTSTART:20170402T131200Z
DTEND:20170402T140400Z
LOCATION:Field   ID 1
CONTACT:
SUMMARY:Raja VS. Lost  Shepherd
DESCRIPTION:League Name: Spring Indoor 2017 Men's 40+\nGame Type: Regular\n
 Game Status: Complete\nHome Team: Raja\nAway Team: Lost  Shepherd\nHome Sc
 ore: 3\nAway Score: 2
END:VEVENT
BEGIN:VEVENT
UID:10305456@ezleagues.ezfacility.com
DTSTAMP:20260426T033839Z
CREATED:20260426T033839Z
DTSTART:20170409T140300Z
DTEND:20170409T145500Z
LOCATION:Field   ID 1
CONTACT:
SUMMARY:Golden Monkeys VS. Raja
DESCRIPTION:League Name: Spring Indoor 2017 Men's 40+\nGame Type: Regular\n
 Game Status: Complete\nHome Team: Golden Monkeys\nAway Team: Raja\nHome Sc
 ore: 4\nAway Score: 15
END:VEVENT
BEGIN:VEVENT
UID:10305430@ezleagues.ezfacility.com
DTSTAMP:20260426T033839Z
CREATED:20260426T033839Z
DTSTART:20170423T122100Z
DTEND:20170423T131300Z
LOCATION:Field   ID 1
CONTACT:
SUMMARY:FUFC VS. Raja
DESCRIPTION:League Name: Spring Indoor 2017 Men's 40+\nGame Type: Regular\n
 Game Status: Complete\nHome Team: FUFC\nAway Team: Raja\nHome Score: 2\nAw
 ay Score: 13
END:VEVENT
BEGIN:VEVENT
UID:10305452@ezleagues.ezfacility.com
DTSTAMP:20260426T033839Z
CREATED:20260426T033839Z
DTSTART:20170430T140300Z
DTEND:20170430T145500Z
LOCATION:Field   ID 1
CONTACT:
SUMMARY:Dublin SC VS. Raja
DESCRIPTION:League Name: Spring Indoor 2017 Men's 40+\nGame Type: Regular\n
 Game Status: Complete\nHome Team: Dublin SC\nAway Team: Raja\nHome Score: 
 11\nAway Score: 7
END:VEVENT
BEGIN:VEVENT
UID:10305450@ezleagues.ezfacility.com
DTSTAMP:20260426T033839Z
CREATED:20260426T033839Z
DTSTART:20170507T140300Z
DTEND:20170507T145500Z
LOCATION:Field   ID 1
CONTACT:
SUMMARY:Raja VS. United
DESCRIPTION:League Name: Spring Indoor 2017 Men's 40+\nGame Type: Regular\n
 Game Status: Complete\nHome Team: Raja\nAway Team: United\nHome Score: 8\n
 Away Score: 5
END:VEVENT
BEGIN:VEVENT
UID:10305463@ezleagues.ezfacility.com
DTSTAMP:20260426T033839Z
CREATED:20260426T033839Z
DTSTART:20170514T145400Z
DTEND:20170514T154600Z
LOCATION:_
CONTACT:
SUMMARY:Shamrock Rovers VS. Raja
DESCRIPTION:League Name: Spring Indoor 2017 Men's 40+\nGame Type: Regular\n
 Game Status: Complete\nHome Team: Shamrock Rovers\nAway Team: Raja\nHome S
 core: 3\nAway Score: 13
END:VEVENT
END:VCALENDAR
