BEGIN:VCALENDAR
VERSION:2.0
PRODID:-//EZFacility.com, Inc.//EZL 2.5.5.28621
BEGIN:VEVENT
UID:10294784@ezleagues.ezfacility.com
DTSTAMP:20260426T034822Z
CREATED:20260426T034822Z
DTSTART:20170326T014500Z
DTEND:20170326T022500Z
LOCATION:LG Field 2
CONTACT:
SUMMARY:Atletico Roca Viva VS. Maranatha
DESCRIPTION:League Name: Men's Church League - Spring\nGame Type: Regular\n
 Game Status: Complete\nHome Team: Atletico Roca Viva\nAway Team: Maranatha
 \nHome Score: 2\nAway Score: 6
END:VEVENT
BEGIN:VEVENT
UID:10313334@ezleagues.ezfacility.com
DTSTAMP:20260426T034822Z
CREATED:20260426T034822Z
DTSTART:20170409T023000Z
DTEND:20170409T031000Z
LOCATION:LG Field 2
CONTACT:
SUMMARY:Hombres en Victoria  VS. Atletico Roca Viva
DESCRIPTION:League Name: Men's Church League - Spring\nGame Type: Regular\n
 Game Status: Complete\nHome Team: Hombres en Victoria \nAway Team: Atletic
 o Roca Viva\nHome Score: 6\nAway Score: 3
END:VEVENT
BEGIN:VEVENT
UID:10313337@ezleagues.ezfacility.com
DTSTAMP:20260426T034822Z
CREATED:20260426T034822Z
DTSTART:20170415T233000Z
DTEND:20170416T001000Z
LOCATION:LG Field 2
CONTACT:
SUMMARY:Atletico Roca Viva VS. Monte Los Olivos 
DESCRIPTION:League Name: Men's Church League - Spring\nGame Type: Regular\n
 Game Status: Complete\nHome Team: Atletico Roca Viva\nAway Team: Monte Los
  Olivos \nHome Score: 3\nAway Score: 7
END:VEVENT
BEGIN:VEVENT
UID:10313349@ezleagues.ezfacility.com
DTSTAMP:20260426T034822Z
CREATED:20260426T034822Z
DTSTART:20170423T001500Z
DTEND:20170423T005500Z
LOCATION:LG Field 2
CONTACT:
SUMMARY:New Generation  VS. Atletico Roca Viva
DESCRIPTION:League Name: Men's Church League - Spring\nGame Type: Regular\n
 Game Status: Complete\nHome Team: New Generation \nAway Team: Atletico Roc
 a Viva\nHome Score: 6\nAway Score: 1
END:VEVENT
BEGIN:VEVENT
UID:10313362@ezleagues.ezfacility.com
DTSTAMP:20260426T034822Z
CREATED:20260426T034822Z
DTSTART:20170429T224500Z
DTEND:20170429T232500Z
LOCATION:LG Field 2
CONTACT:
SUMMARY:United Church  VS. Atletico Roca Viva
DESCRIPTION:League Name: Men's Church League - Spring\nGame Type: Regular\n
 Game Status: Complete\nHome Team: United Church \nAway Team: Atletico Roca
  Viva\nHome Score: 5\nAway Score: 5
END:VEVENT
BEGIN:VEVENT
UID:10313390@ezleagues.ezfacility.com
DTSTAMP:20260426T034822Z
CREATED:20260426T034822Z
DTSTART:20170506T233000Z
DTEND:20170507T001000Z
LOCATION:LG Field 2
CONTACT:
SUMMARY:Atletico Roca Viva VS. Braden Park 
DESCRIPTION:League Name: Men's Church League - Spring\nGame Type: Regular\n
 Game Status: Complete\nHome Team: Atletico Roca Viva\nAway Team: Braden Pa
 rk \nHome Score: 4\nAway Score: 6
END:VEVENT
BEGIN:VEVENT
UID:10313393@ezleagues.ezfacility.com
DTSTAMP:20260426T034822Z
CREATED:20260426T034822Z
DTSTART:20170514T001500Z
DTEND:20170514T005500Z
LOCATION:LG Field 2
CONTACT:
SUMMARY:Maranatha VS. Atletico Roca Viva
DESCRIPTION:League Name: Men's Church League - Spring\nGame Type: Regular\n
 Game Status: Complete\nHome Team: Maranatha\nAway Team: Atletico Roca Viva
 \nHome Score: 7\nAway Score: 2
END:VEVENT
END:VCALENDAR
