BEGIN:VCALENDAR
VERSION:2.0
PRODID:-//EZFacility.com, Inc.//EZL 2.5.5.28621
BEGIN:VEVENT
UID:10302609@ezleagues.ezfacility.com
DTSTAMP:20260424T043251Z
CREATED:20260424T043251Z
DTSTART:20170329T235400Z
DTEND:20170330T004600Z
LOCATION:Field   ID 2
CONTACT:
SUMMARY:Inter Taxco VS. Red Lions
DESCRIPTION:League Name: Spring Indoor 2017 Men's 30+ East\nGame Type: Regu
 lar\nGame Status: Complete\nHome Team: Inter Taxco\nAway Team: Red Lions\n
 Home Score: 7\nAway Score: 4
END:VEVENT
BEGIN:VEVENT
UID:10317446@ezleagues.ezfacility.com
DTSTAMP:20260424T043251Z
CREATED:20260424T043251Z
DTSTART:20170406T013600Z
DTEND:20170406T022800Z
LOCATION:Field   ID 1
CONTACT:
SUMMARY:Red Lions VS. Gunners
DESCRIPTION:League Name: Spring Indoor 2017 Men's 30+ East\nGame Type: Regu
 lar\nGame Status: Complete\nHome Team: Red Lions\nAway Team: Gunners\nHome
  Score: 4\nAway Score: 4
END:VEVENT
BEGIN:VEVENT
UID:10317447@ezleagues.ezfacility.com
DTSTAMP:20260424T043251Z
CREATED:20260424T043251Z
DTSTART:20170413T013600Z
DTEND:20170413T022800Z
LOCATION:Field   ID 1
CONTACT:
SUMMARY:Hooligans VS. Red Lions
DESCRIPTION:League Name: Spring Indoor 2017 Men's 30+ East\nGame Type: Regu
 lar\nGame Status: Complete\nHome Team: Hooligans\nAway Team: Red Lions\nHo
 me Score: 7\nAway Score: 6
END:VEVENT
BEGIN:VEVENT
UID:10317448@ezleagues.ezfacility.com
DTSTAMP:20260424T043251Z
CREATED:20260424T043251Z
DTSTART:20170420T013600Z
DTEND:20170420T022800Z
LOCATION:Field   ID 2
CONTACT:
SUMMARY:Red Lions VS. Gigondas
DESCRIPTION:League Name: Spring Indoor 2017 Men's 30+ East\nGame Type: Regu
 lar\nGame Status: Complete\nHome Team: Red Lions\nAway Team: Gigondas\nHom
 e Score: 3\nAway Score: 2
END:VEVENT
BEGIN:VEVENT
UID:10317449@ezleagues.ezfacility.com
DTSTAMP:20260424T043251Z
CREATED:20260424T043251Z
DTSTART:20170427T013600Z
DTEND:20170427T022800Z
LOCATION:Field   ID 2
CONTACT:
SUMMARY:Red Lions VS. Quake FC
DESCRIPTION:League Name: Spring Indoor 2017 Men's 30+ East\nGame Type: Regu
 lar\nGame Status: Complete\nHome Team: Red Lions\nAway Team: Quake FC\nHom
 e Score: 9\nAway Score: 5
END:VEVENT
BEGIN:VEVENT
UID:10317450@ezleagues.ezfacility.com
DTSTAMP:20260424T043251Z
CREATED:20260424T043251Z
DTSTART:20170504T013600Z
DTEND:20170504T022800Z
LOCATION:_
CONTACT:
SUMMARY:Red Lions VS. Inter Taxco
DESCRIPTION:League Name: Spring Indoor 2017 Men's 30+ East\nGame Type: Regu
 lar\nGame Status: Complete\nHome Team: Red Lions\nAway Team: Inter Taxco\n
 Home Score: 8\nAway Score: 4
END:VEVENT
BEGIN:VEVENT
UID:10317369@ezleagues.ezfacility.com
DTSTAMP:20260424T043251Z
CREATED:20260424T043251Z
DTSTART:20170511T004400Z
DTEND:20170511T013600Z
LOCATION:Field   ID 1
CONTACT:
SUMMARY:Gunners VS. Red Lions
DESCRIPTION:League Name: Spring Indoor 2017 Men's 30+ East\nGame Type: Regu
 lar\nGame Status: Complete\nHome Team: Gunners\nAway Team: Red Lions\nHome
  Score: 3\nAway Score: 9
END:VEVENT
END:VCALENDAR
