BEGIN:VCALENDAR
VERSION:2.0
PRODID:-//EZFacility.com, Inc.//EZL 2.5.5.28621
BEGIN:VEVENT
UID:10302613@ezleagues.ezfacility.com
DTSTAMP:20260424T044056Z
CREATED:20260424T044056Z
DTSTART:20170330T004500Z
DTEND:20170330T013700Z
LOCATION:Field   ID 3
CONTACT:
SUMMARY:Mostly Engineers VS. FC Zalts
DESCRIPTION:League Name: Spring Indoor 2017 Men's 30+ West\nGame Type: Regu
 lar\nGame Status: Complete\nHome Team: Mostly Engineers\nAway Team: FC Zal
 ts\nHome Score: 5\nAway Score: 5
END:VEVENT
BEGIN:VEVENT
UID:10317457@ezleagues.ezfacility.com
DTSTAMP:20260424T044056Z
CREATED:20260424T044056Z
DTSTART:20170405T235200Z
DTEND:20170406T004400Z
LOCATION:Field   ID 3
CONTACT:
SUMMARY:Monkey Business VS. Mostly Engineers
DESCRIPTION:League Name: Spring Indoor 2017 Men's 30+ West\nGame Type: Regu
 lar\nGame Status: Complete\nHome Team: Monkey Business\nAway Team: Mostly 
 Engineers\nHome Score: 10\nAway Score: 6
END:VEVENT
BEGIN:VEVENT
UID:10317452@ezleagues.ezfacility.com
DTSTAMP:20260424T044056Z
CREATED:20260424T044056Z
DTSTART:20170412T230000Z
DTEND:20170412T235200Z
LOCATION:Field   ID 1
CONTACT:
SUMMARY:Mostly Engineers VS. TBD FC
DESCRIPTION:League Name: Spring Indoor 2017 Men's 30+ West\nGame Type: Regu
 lar\nGame Status: Complete\nHome Team: Mostly Engineers\nAway Team: TBD FC
 \nHome Score: 7\nAway Score: 9
END:VEVENT
BEGIN:VEVENT
UID:10317467@ezleagues.ezfacility.com
DTSTAMP:20260424T044056Z
CREATED:20260424T044056Z
DTSTART:20170420T004400Z
DTEND:20170420T013600Z
LOCATION:Field   ID 1
CONTACT:
SUMMARY:Diversity FC VS. Mostly Engineers
DESCRIPTION:League Name: Spring Indoor 2017 Men's 30+ West\nGame Type: Regu
 lar\nGame Status: Complete\nHome Team: Diversity FC\nAway Team: Mostly Eng
 ineers\nHome Score: 2\nAway Score: 9
END:VEVENT
BEGIN:VEVENT
UID:10317461@ezleagues.ezfacility.com
DTSTAMP:20260424T044056Z
CREATED:20260424T044056Z
DTSTART:20170426T235200Z
DTEND:20170427T004400Z
LOCATION:Field   ID 2
CONTACT:
SUMMARY:Arch City Hooligans VS. Mostly Engineers
DESCRIPTION:League Name: Spring Indoor 2017 Men's 30+ West\nGame Type: Regu
 lar\nGame Status: Complete\nHome Team: Arch City Hooligans\nAway Team: Mos
 tly Engineers\nHome Score: 3\nAway Score: 5
END:VEVENT
BEGIN:VEVENT
UID:10317455@ezleagues.ezfacility.com
DTSTAMP:20260424T044056Z
CREATED:20260424T044056Z
DTSTART:20170503T230000Z
DTEND:20170503T235200Z
LOCATION:_
CONTACT:
SUMMARY:Mostly Engineers VS. FC Links
DESCRIPTION:League Name: Spring Indoor 2017 Men's 30+ West\nGame Type: Regu
 lar\nGame Status: Complete\nHome Team: Mostly Engineers\nAway Team: FC Lin
 ks\nHome Score: 13\nAway Score: 3
END:VEVENT
BEGIN:VEVENT
UID:10317471@ezleagues.ezfacility.com
DTSTAMP:20260424T044056Z
CREATED:20260424T044056Z
DTSTART:20170511T004400Z
DTEND:20170511T013600Z
LOCATION:Field   ID 2
CONTACT:
SUMMARY:FC Red Card VS. Mostly Engineers
DESCRIPTION:League Name: Spring Indoor 2017 Men's 30+ West\nGame Type: Regu
 lar\nGame Status: Complete\nHome Team: FC Red Card\nAway Team: Mostly Engi
 neers\nHome Score: 3\nAway Score: 10
END:VEVENT
END:VCALENDAR
