BEGIN:VCALENDAR
VERSION:2.0
PRODID:-//EZFacility.com, Inc.//EZL 2.5.5.28621
BEGIN:VEVENT
UID:10312129@ezleagues.ezfacility.com
DTSTAMP:20260424T043931Z
CREATED:20260424T043931Z
DTSTART:20170401T220000Z
DTEND:20170401T224000Z
LOCATION:LG Field 1
CONTACT:
SUMMARY:Ball Busters  VS. Pitches Be Crazy
DESCRIPTION:League Name: Coed 030 - Spring  \nGame Type: Regular\nGame Stat
 us: Complete\nHome Team: Ball Busters \nAway Team: Pitches Be Crazy\nHome 
 Score: 6\nAway Score: 2
END:VEVENT
BEGIN:VEVENT
UID:10312154@ezleagues.ezfacility.com
DTSTAMP:20260424T043931Z
CREATED:20260424T043931Z
DTSTART:20170409T023000Z
DTEND:20170409T031000Z
LOCATION:LG Field 1
CONTACT:
SUMMARY:BTT  VS. Ball Busters 
DESCRIPTION:League Name: Coed 030 - Spring  \nGame Type: Regular\nGame Stat
 us: Complete\nHome Team: BTT \nAway Team: Ball Busters \nHome Score: 1\nAw
 ay Score: 3
END:VEVENT
BEGIN:VEVENT
UID:10312105@ezleagues.ezfacility.com
DTSTAMP:20260424T043931Z
CREATED:20260424T043931Z
DTSTART:20170416T040000Z
DTEND:20170416T044000Z
LOCATION:LG Field 1
CONTACT:
SUMMARY:Pineapple People  VS. Ball Busters 
DESCRIPTION:League Name: Coed 030 - Spring  \nGame Type: Regular\nGame Stat
 us: Complete\nHome Team: Pineapple People \nAway Team: Ball Busters \nHome
  Score: 0\nAway Score: 10
END:VEVENT
BEGIN:VEVENT
UID:10312117@ezleagues.ezfacility.com
DTSTAMP:20260424T043931Z
CREATED:20260424T043931Z
DTSTART:20170422T224500Z
DTEND:20170422T232500Z
LOCATION:LG Field 1
CONTACT:
SUMMARY:Sapos  VS. Ball Busters 
DESCRIPTION:League Name: Coed 030 - Spring  \nGame Type: Regular\nGame Stat
 us: Complete\nHome Team: Sapos \nAway Team: Ball Busters \nHome Score: 6\n
 Away Score: 3
END:VEVENT
BEGIN:VEVENT
UID:10312081@ezleagues.ezfacility.com
DTSTAMP:20260424T043931Z
CREATED:20260424T043931Z
DTSTART:20170430T040000Z
DTEND:20170430T044000Z
LOCATION:LG Field 1
CONTACT:
SUMMARY:Ball Busters  VS. Bunny Belly Button Punchers
DESCRIPTION:League Name: Coed 030 - Spring  \nGame Type: Regular\nGame Stat
 us: Complete\nHome Team: Ball Busters \nAway Team: Bunny Belly Button Punc
 hers\nHome Score: 7\nAway Score: 3
END:VEVENT
BEGIN:VEVENT
UID:10312093@ezleagues.ezfacility.com
DTSTAMP:20260424T043931Z
CREATED:20260424T043931Z
DTSTART:20170507T010000Z
DTEND:20170507T014000Z
LOCATION:LG Field 1
CONTACT:
SUMMARY:Ball Busters  VS. Lokomotiv
DESCRIPTION:League Name: Coed 030 - Spring  \nGame Type: Regular\nGame Stat
 us: Complete\nHome Team: Ball Busters \nAway Team: Lokomotiv\nHome Score: 
 10\nAway Score: 0
END:VEVENT
BEGIN:VEVENT
UID:10312141@ezleagues.ezfacility.com
DTSTAMP:20260424T043931Z
CREATED:20260424T043931Z
DTSTART:20170514T031500Z
DTEND:20170514T035500Z
LOCATION:LG Field 1
CONTACT:
SUMMARY:Sublime  VS. Ball Busters 
DESCRIPTION:League Name: Coed 030 - Spring  \nGame Type: Regular\nGame Stat
 us: Complete\nHome Team: Sublime \nAway Team: Ball Busters \nHome Score: 0
 \nAway Score: 6
END:VEVENT
BEGIN:VEVENT
UID:10312165@ezleagues.ezfacility.com
DTSTAMP:20260424T043931Z
CREATED:20260424T043931Z
DTSTART:20170521T023000Z
DTEND:20170521T031000Z
LOCATION:LG Field 1
CONTACT:
SUMMARY:Ball Busters  VS. Something Else
DESCRIPTION:League Name: Coed 030 - Spring  \nGame Type: Regular\nGame Stat
 us: Complete\nHome Team: Ball Busters \nAway Team: Something Else\nHome Sc
 ore: 4\nAway Score: 1
END:VEVENT
END:VCALENDAR
