BEGIN:VCALENDAR
VERSION:2.0
PRODID:-//EZFacility.com, Inc.//EZL 2.5.5.28621
BEGIN:VEVENT
UID:10330486@ezleagues.ezfacility.com
DTSTAMP:20260424T044236Z
CREATED:20260424T044236Z
DTSTART:20170429T000000Z
DTEND:20170429T010000Z
LOCATION:Jessup Premier Field #2
CONTACT:
SUMMARY:Blue Moons - blue VS. Lady Ballers - green
DESCRIPTION:League Name: Fri Moms D1\nGame Type: Regular\nGame Status: Comp
 lete\nHome Team: Blue Moons - blue\nAway Team: Lady Ballers - green\nHome 
 Score: 5\nAway Score: 1
END:VEVENT
END:VCALENDAR
