BEGIN:VCALENDAR
VERSION:2.0
PRODID:-//EZFacility.com, Inc.//EZL 2.5.5.28621
BEGIN:VEVENT
UID:10342022@ezleagues.ezfacility.com
DTSTAMP:20260424T044116Z
CREATED:20260424T044116Z
DTSTART:20170412T004500Z
DTEND:20170412T021500Z
LOCATION:Rink 1
CONTACT:
SUMMARY:Zebras VS. Red Army
DESCRIPTION:League Name: 2017 Spring/Summer Adult 35+ Hockey League\nGame T
 ype: Regular\nGame Status: Complete\nHome Team: Zebras\nAway Team: Red Arm
 y\nHome Score: 6\nAway Score: 3
END:VEVENT
BEGIN:VEVENT
UID:10346282@ezleagues.ezfacility.com
DTSTAMP:20260424T044116Z
CREATED:20260424T044116Z
DTSTART:20170418T230000Z
DTEND:20170419T003000Z
LOCATION:Rink 1
CONTACT:
SUMMARY:Sharks VS. Red Army
DESCRIPTION:League Name: 2017 Spring/Summer Adult 35+ Hockey League\nGame T
 ype: Regular\nGame Status: Complete\nHome Team: Sharks\nAway Team: Red Arm
 y\nHome Score: 5\nAway Score: 1
END:VEVENT
BEGIN:VEVENT
UID:10346289@ezleagues.ezfacility.com
DTSTAMP:20260424T044116Z
CREATED:20260424T044116Z
DTSTART:20170428T004500Z
DTEND:20170428T021500Z
LOCATION:Rink 1
CONTACT:
SUMMARY:Red Army VS. Raptors
DESCRIPTION:League Name: 2017 Spring/Summer Adult 35+ Hockey League\nGame T
 ype: Regular\nGame Status: Complete\nHome Team: Red Army\nAway Team: Rapto
 rs\nHome Score: 1\nAway Score: 2
END:VEVENT
BEGIN:VEVENT
UID:10346291@ezleagues.ezfacility.com
DTSTAMP:20260424T044116Z
CREATED:20260424T044116Z
DTSTART:20170503T004500Z
DTEND:20170503T021500Z
LOCATION:Rink 1
CONTACT:
SUMMARY:Red Army VS. Teal Team Six
DESCRIPTION:League Name: 2017 Spring/Summer Adult 35+ Hockey League\nGame T
 ype: Regular\nGame Status: Complete\nHome Team: Red Army\nAway Team: Teal 
 Team Six\nHome Score: 6\nAway Score: 4
END:VEVENT
BEGIN:VEVENT
UID:10346298@ezleagues.ezfacility.com
DTSTAMP:20260424T044116Z
CREATED:20260424T044116Z
DTSTART:20170512T004500Z
DTEND:20170512T021500Z
LOCATION:Rink 1
CONTACT:
SUMMARY:Red Army VS. Gators
DESCRIPTION:League Name: 2017 Spring/Summer Adult 35+ Hockey League\nGame T
 ype: Regular\nGame Status: Complete\nHome Team: Red Army\nAway Team: Gator
 s\nHome Score: 4\nAway Score: 6
END:VEVENT
BEGIN:VEVENT
UID:10352852@ezleagues.ezfacility.com
DTSTAMP:20260424T044116Z
CREATED:20260424T044116Z
DTSTART:20170519T004500Z
DTEND:20170519T021500Z
LOCATION:Rink 1
CONTACT:
SUMMARY:Red Army VS. Zebras
DESCRIPTION:League Name: 2017 Spring/Summer Adult 35+ Hockey League\nGame T
 ype: Regular\nGame Status: Complete\nHome Team: Red Army\nAway Team: Zebra
 s\nHome Score: 4\nAway Score: 3
END:VEVENT
BEGIN:VEVENT
UID:10352854@ezleagues.ezfacility.com
DTSTAMP:20260424T044116Z
CREATED:20260424T044116Z
DTSTART:20170524T004500Z
DTEND:20170524T021500Z
LOCATION:Rink 1
CONTACT:
SUMMARY:Red Army VS. Sharks
DESCRIPTION:League Name: 2017 Spring/Summer Adult 35+ Hockey League\nGame T
 ype: Regular\nGame Status: Complete\nHome Team: Red Army\nAway Team: Shark
 s\nHome Score: 2\nAway Score: 7
END:VEVENT
BEGIN:VEVENT
UID:10352856@ezleagues.ezfacility.com
DTSTAMP:20260424T044116Z
CREATED:20260424T044116Z
DTSTART:20170530T230000Z
DTEND:20170531T003000Z
LOCATION:Rink 1
CONTACT:
SUMMARY:Raptors VS. Red Army
DESCRIPTION:League Name: 2017 Spring/Summer Adult 35+ Hockey League\nGame T
 ype: Regular\nGame Status: Complete\nHome Team: Raptors\nAway Team: Red Ar
 my\nHome Score: 5\nAway Score: 1
END:VEVENT
BEGIN:VEVENT
UID:10352861@ezleagues.ezfacility.com
DTSTAMP:20260424T044116Z
CREATED:20260424T044116Z
DTSTART:20170609T004500Z
DTEND:20170609T021500Z
LOCATION:Rink 1
CONTACT:
SUMMARY:Teal Team Six VS. Red Army
DESCRIPTION:League Name: 2017 Spring/Summer Adult 35+ Hockey League\nGame T
 ype: Regular\nGame Status: Complete\nHome Team: Teal Team Six\nAway Team: 
 Red Army\nHome Score: 1\nAway Score: 6
END:VEVENT
BEGIN:VEVENT
UID:10352862@ezleagues.ezfacility.com
DTSTAMP:20260424T044116Z
CREATED:20260424T044116Z
DTSTART:20170613T230000Z
DTEND:20170614T003000Z
LOCATION:Rink 1
CONTACT:
SUMMARY:Gators VS. Red Army
DESCRIPTION:League Name: 2017 Spring/Summer Adult 35+ Hockey League\nGame T
 ype: Regular\nGame Status: Complete\nHome Team: Gators\nAway Team: Red Arm
 y\nHome Score: 3\nAway Score: 4
END:VEVENT
BEGIN:VEVENT
UID:10353015@ezleagues.ezfacility.com
DTSTAMP:20260424T044116Z
CREATED:20260424T044116Z
DTSTART:20170620T230000Z
DTEND:20170621T003000Z
LOCATION:Rink 1
CONTACT:
SUMMARY:Zebras VS. Red Army
DESCRIPTION:League Name: 2017 Spring/Summer Adult 35+ Hockey League\nGame T
 ype: Regular\nGame Status: Complete\nHome Team: Zebras\nAway Team: Red Arm
 y\nHome Score: 5\nAway Score: 3
END:VEVENT
BEGIN:VEVENT
UID:10353021@ezleagues.ezfacility.com
DTSTAMP:20260424T044116Z
CREATED:20260424T044116Z
DTSTART:20170630T004500Z
DTEND:20170630T021500Z
LOCATION:Rink 1
CONTACT:
SUMMARY:Sharks VS. Red Army
DESCRIPTION:League Name: 2017 Spring/Summer Adult 35+ Hockey League\nGame T
 ype: Regular\nGame Status: Complete\nHome Team: Sharks\nAway Team: Red Arm
 y\nHome Score: 4\nAway Score: 4
END:VEVENT
BEGIN:VEVENT
UID:10353023@ezleagues.ezfacility.com
DTSTAMP:20260424T044116Z
CREATED:20260424T044116Z
DTSTART:20170712T004500Z
DTEND:20170712T021500Z
LOCATION:Rink 1
CONTACT:
SUMMARY:Raptors VS. Red Army
DESCRIPTION:League Name: 2017 Spring/Summer Adult 35+ Hockey League\nGame T
 ype: Regular\nGame Status: Complete\nHome Team: Raptors\nAway Team: Red Ar
 my\nHome Score: 3\nAway Score: 2
END:VEVENT
BEGIN:VEVENT
UID:10353025@ezleagues.ezfacility.com
DTSTAMP:20260424T044116Z
CREATED:20260424T044116Z
DTSTART:20170718T230000Z
DTEND:20170719T003000Z
LOCATION:Rink 1
CONTACT:
SUMMARY:Red Army VS. Teal Team Six
DESCRIPTION:League Name: 2017 Spring/Summer Adult 35+ Hockey League\nGame T
 ype: Regular\nGame Status: Complete\nHome Team: Red Army\nAway Team: Teal 
 Team Six\nHome Score: 3\nAway Score: 5
END:VEVENT
BEGIN:VEVENT
UID:10353029@ezleagues.ezfacility.com
DTSTAMP:20260424T044116Z
CREATED:20260424T044116Z
DTSTART:20170726T004500Z
DTEND:20170726T021500Z
LOCATION:Rink 1
CONTACT:
SUMMARY:Red Army VS. Gators
DESCRIPTION:League Name: 2017 Spring/Summer Adult 35+ Hockey League\nGame T
 ype: Regular\nGame Status: Complete\nHome Team: Red Army\nAway Team: Gator
 s\nHome Score: 8\nAway Score: 3
END:VEVENT
BEGIN:VEVENT
UID:10353032@ezleagues.ezfacility.com
DTSTAMP:20260424T044116Z
CREATED:20260424T044116Z
DTSTART:20170802T004500Z
DTEND:20170802T021500Z
LOCATION:Rink 1
CONTACT:
SUMMARY:Red Army VS. Zebras
DESCRIPTION:League Name: 2017 Spring/Summer Adult 35+ Hockey League\nGame T
 ype: Regular\nGame Status: Complete\nHome Team: Red Army\nAway Team: Zebra
 s\nHome Score: 3\nAway Score: 1
END:VEVENT
BEGIN:VEVENT
UID:10555415@ezleagues.ezfacility.com
DTSTAMP:20260424T044116Z
CREATED:20260424T044116Z
DTSTART:20170808T230000Z
DTEND:20170809T003000Z
LOCATION:Rink 1
CONTACT:
SUMMARY:Red Army VS. Teal Team Six
DESCRIPTION:League Name: 2017 Spring/Summer Adult 35+ Hockey League\nGame T
 ype: Postseason\nGame Status: Complete\nHome Team: Red Army\nAway Team: Te
 al Team Six\nHome Score: 6\nAway Score: 5
END:VEVENT
BEGIN:VEVENT
UID:10555417@ezleagues.ezfacility.com
DTSTAMP:20260424T044116Z
CREATED:20260424T044116Z
DTSTART:20170809T223000Z
DTEND:20170810T000000Z
LOCATION:Rink 1
CONTACT:
SUMMARY:Sharks VS. Red Army
DESCRIPTION:League Name: 2017 Spring/Summer Adult 35+ Hockey League\nGame T
 ype: Postseason\nGame Status: Complete\nHome Team: Sharks\nAway Team: Red 
 Army\nHome Score: 5\nAway Score: 4
END:VEVENT
BEGIN:VEVENT
UID:10555419@ezleagues.ezfacility.com
DTSTAMP:20260424T044116Z
CREATED:20260424T044116Z
DTSTART:20170815T003000Z
DTEND:20170815T020000Z
LOCATION:Rink 1
CONTACT:
SUMMARY:Zebras VS. Red Army
DESCRIPTION:League Name: 2017 Spring/Summer Adult 35+ Hockey League\nGame T
 ype: Postseason\nGame Status: Complete\nHome Team: Zebras\nAway Team: Red 
 Army\nHome Score: 2\nAway Score: 5
END:VEVENT
BEGIN:VEVENT
UID:10555422@ezleagues.ezfacility.com
DTSTAMP:20260424T044116Z
CREATED:20260424T044116Z
DTSTART:20170818T004500Z
DTEND:20170818T021500Z
LOCATION:Rink 1
CONTACT:
SUMMARY:Red Army VS. Teal Team Six
DESCRIPTION:League Name: 2017 Spring/Summer Adult 35+ Hockey League\nGame T
 ype: Postseason\nGame Status: Complete\nHome Team: Red Army\nAway Team: Te
 al Team Six\nHome Score: 3\nAway Score: 4
END:VEVENT
END:VCALENDAR
