BEGIN:VCALENDAR
VERSION:2.0
PRODID:-//EZFacility.com, Inc.//EZL 2.5.5.28621
BEGIN:VEVENT
UID:10330494@ezleagues.ezfacility.com
DTSTAMP:20260424T153622Z
CREATED:20260424T153622Z
DTSTART:20170505T230000Z
DTEND:20170506T000000Z
LOCATION:Jessup Premier Field #1
CONTACT:
SUMMARY:Goal-diggers - blue VS. Comets - neon orange
DESCRIPTION:League Name: Fri Moms D1\nGame Type: Regular\nGame Status: Comp
 lete\nHome Team: Goal-diggers - blue\nAway Team: Comets - neon orange\nHom
 e Score: 6\nAway Score: 5
END:VEVENT
END:VCALENDAR
