BEGIN:VCALENDAR
VERSION:2.0
PRODID:-//EZFacility.com, Inc.//EZL 2.5.5.28621
BEGIN:VEVENT
UID:10429944@ezleagues.ezfacility.com
DTSTAMP:20260426T034108Z
CREATED:20260426T034108Z
DTSTART:20170521T120000Z
DTEND:20170521T133000Z
LOCATION:Field C
CONTACT:
SUMMARY:Revolution VS. Graywolves
DESCRIPTION:League Name: 2017 Spring Outdoor Men's 40+ 7v7 - Sundays\nGame 
 Type: Regular\nGame Status: Complete\nHome Team: Revolution\nAway Team: Gr
 aywolves\nHome Score: 5\nAway Score: 3
END:VEVENT
BEGIN:VEVENT
UID:10445016@ezleagues.ezfacility.com
DTSTAMP:20260426T034108Z
CREATED:20260426T034108Z
DTSTART:20170604T133000Z
DTEND:20170604T150000Z
LOCATION:Field C
CONTACT:
SUMMARY:Graywolves VS. Pounders
DESCRIPTION:League Name: 2017 Spring Outdoor Men's 40+ 7v7 - Sundays\nGame 
 Type: Regular\nGame Status: Complete\nHome Team: Graywolves\nAway Team: Po
 unders\nHome Score: 8\nAway Score: 5
END:VEVENT
BEGIN:VEVENT
UID:10445025@ezleagues.ezfacility.com
DTSTAMP:20260426T034108Z
CREATED:20260426T034108Z
DTSTART:20170611T133000Z
DTEND:20170611T150000Z
LOCATION:Field E
CONTACT:
SUMMARY:Graywolves VS. Flash
DESCRIPTION:League Name: 2017 Spring Outdoor Men's 40+ 7v7 - Sundays\nGame 
 Type: Regular\nGame Status: Complete\nHome Team: Graywolves\nAway Team: Fl
 ash\nHome Score: 3\nAway Score: 0
END:VEVENT
BEGIN:VEVENT
UID:10445030@ezleagues.ezfacility.com
DTSTAMP:20260426T034108Z
CREATED:20260426T034108Z
DTSTART:20170618T120000Z
DTEND:20170618T133000Z
LOCATION:Field D
CONTACT:
SUMMARY:Green Dragons VS. Graywolves
DESCRIPTION:League Name: 2017 Spring Outdoor Men's 40+ 7v7 - Sundays\nGame 
 Type: Regular\nGame Status: Complete\nHome Team: Green Dragons\nAway Team:
  Graywolves\nHome Score: 3\nAway Score: 4
END:VEVENT
BEGIN:VEVENT
UID:10445044@ezleagues.ezfacility.com
DTSTAMP:20260426T034108Z
CREATED:20260426T034108Z
DTSTART:20170702T120000Z
DTEND:20170702T133000Z
LOCATION:Field G
CONTACT:
SUMMARY:Golden Monkeys VS. Graywolves
DESCRIPTION:League Name: 2017 Spring Outdoor Men's 40+ 7v7 - Sundays\nGame 
 Type: Regular\nGame Status: Complete\nHome Team: Golden Monkeys\nAway Team
 : Graywolves\nHome Score: 13\nAway Score: 4
END:VEVENT
BEGIN:VEVENT
UID:10445050@ezleagues.ezfacility.com
DTSTAMP:20260426T034108Z
CREATED:20260426T034108Z
DTSTART:20170709T120000Z
DTEND:20170709T133000Z
LOCATION:Field D
CONTACT:
SUMMARY:Graywolves VS. Raja
DESCRIPTION:League Name: 2017 Spring Outdoor Men's 40+ 7v7 - Sundays\nGame 
 Type: Regular\nGame Status: Complete\nHome Team: Graywolves\nAway Team: Ra
 ja\nHome Score: 6\nAway Score: 10
END:VEVENT
BEGIN:VEVENT
UID:10445069@ezleagues.ezfacility.com
DTSTAMP:20260426T034108Z
CREATED:20260426T034108Z
DTSTART:20170716T133000Z
DTEND:20170716T150000Z
LOCATION:Field D
CONTACT:
SUMMARY:United VS. Graywolves
DESCRIPTION:League Name: 2017 Spring Outdoor Men's 40+ 7v7 - Sundays\nGame 
 Type: Regular\nGame Status: Complete\nHome Team: United\nAway Team: Graywo
 lves\nHome Score: 8\nAway Score: 4
END:VEVENT
BEGIN:VEVENT
UID:10445072@ezleagues.ezfacility.com
DTSTAMP:20260426T034108Z
CREATED:20260426T034108Z
DTSTART:20170723T120000Z
DTEND:20170723T133000Z
LOCATION:Field_9A
CONTACT:
SUMMARY:Graywolves VS. Atrophy
DESCRIPTION:League Name: 2017 Spring Outdoor Men's 40+ 7v7 - Sundays\nGame 
 Type: Regular\nGame Status: Complete\nHome Team: Graywolves\nAway Team: At
 rophy\nHome Score: 2\nAway Score: 3
END:VEVENT
END:VCALENDAR
