BEGIN:VCALENDAR
VERSION:2.0
PRODID:-//EZFacility.com, Inc.//EZL 2.5.5.28621
BEGIN:VEVENT
UID:10495805@ezleagues.ezfacility.com
DTSTAMP:20260421T133202Z
CREATED:20260421T133202Z
DTSTART:20170609T014500Z
DTEND:20170609T024000Z
LOCATION:PFFC Field House - D
CONTACT:
SUMMARY:  MC United VS. Shinshank Redemption
DESCRIPTION:League Name: MSL Soccer - W/T Men's Division #6 South\nGame Typ
 e: Regular\nGame Status: Complete\nHome Team:   MC United\nAway Team: Shin
 shank Redemption\nHome Score: 1\nAway Score: 1
END:VEVENT
BEGIN:VEVENT
UID:10495830@ezleagues.ezfacility.com
DTSTAMP:20260421T133202Z
CREATED:20260421T133202Z
DTSTART:20170616T014500Z
DTEND:20170616T024000Z
LOCATION:PFFC Field House - C
CONTACT:
SUMMARY:  Galaxy 11 VS.   MC United
DESCRIPTION:League Name: MSL Soccer - W/T Men's Division #6 South\nGame Typ
 e: Regular\nGame Status: Complete\nHome Team:   Galaxy 11\nAway Team:   MC
  United\nHome Score: 0\nAway Score: 2
END:VEVENT
BEGIN:VEVENT
UID:10495854@ezleagues.ezfacility.com
DTSTAMP:20260421T133202Z
CREATED:20260421T133202Z
DTSTART:20170623T005000Z
DTEND:20170623T014500Z
LOCATION:PFFC Field House - A
CONTACT:
SUMMARY:  Here for Beer FC  VS.   MC United
DESCRIPTION:League Name: MSL Soccer - W/T Men's Division #6 South\nGame Typ
 e: Regular\nGame Status: Complete\nHome Team:   Here for Beer FC \nAway Te
 am:   MC United\nHome Score: 7\nAway Score: 0
END:VEVENT
BEGIN:VEVENT
UID:10495878@ezleagues.ezfacility.com
DTSTAMP:20260421T133202Z
CREATED:20260421T133202Z
DTSTART:20170629T014500Z
DTEND:20170629T024000Z
LOCATION:PFFC Field House - D
CONTACT:
SUMMARY:  WMDs  VS.   MC United
DESCRIPTION:League Name: MSL Soccer - W/T Men's Division #6 South\nGame Typ
 e: Regular\nGame Status: Complete\nHome Team:   WMDs \nAway Team:   MC Uni
 ted\nHome Score: 6\nAway Score: 2
END:VEVENT
BEGIN:VEVENT
UID:10495902@ezleagues.ezfacility.com
DTSTAMP:20260421T133202Z
CREATED:20260421T133202Z
DTSTART:20170706T005000Z
DTEND:20170706T014500Z
LOCATION:PFFC Field House - A
CONTACT:
SUMMARY:MSL FC VS.   MC United
DESCRIPTION:League Name: MSL Soccer - W/T Men's Division #6 South\nGame Typ
 e: Regular\nGame Status: Complete\nHome Team: MSL FC\nAway Team:   MC Unit
 ed\nHome Score: 2\nAway Score: 4
END:VEVENT
BEGIN:VEVENT
UID:10495926@ezleagues.ezfacility.com
DTSTAMP:20260421T133202Z
CREATED:20260421T133202Z
DTSTART:20170712T235500Z
DTEND:20170713T005000Z
LOCATION:PFFC Field House - D
CONTACT:
SUMMARY:  MC United VS.   Puush Truu 
DESCRIPTION:League Name: MSL Soccer - W/T Men's Division #6 South\nGame Typ
 e: Regular\nGame Status: Complete\nHome Team:   MC United\nAway Team:   Pu
 ush Truu \nHome Score: 1\nAway Score: 3
END:VEVENT
BEGIN:VEVENT
UID:10495952@ezleagues.ezfacility.com
DTSTAMP:20260421T133202Z
CREATED:20260421T133202Z
DTSTART:20170719T230000Z
DTEND:20170719T235500Z
LOCATION:PFFC Field House - A
CONTACT:
SUMMARY:  MC United VS.   Intuit FC 
DESCRIPTION:League Name: MSL Soccer - W/T Men's Division #6 South\nGame Typ
 e: Regular\nGame Status: Complete\nHome Team:   MC United\nAway Team:   In
 tuit FC \nHome Score: 4\nAway Score: 6
END:VEVENT
BEGIN:VEVENT
UID:10562261@ezleagues.ezfacility.com
DTSTAMP:20260421T133202Z
CREATED:20260421T133202Z
DTSTART:20170727T022000Z
DTEND:20170727T031000Z
LOCATION:PFFC Field House - D
CONTACT:
SUMMARY:  Solomon Islanda AK VS.   MC United
DESCRIPTION:League Name: MSL Soccer - W/T Men's Division #6 South\nGame Typ
 e: Postseason\nGame Status: Complete\nHome Team:   Solomon Islanda AK\nAwa
 y Team:   MC United\nHome Score: 2\nAway Score: 1
END:VEVENT
END:VCALENDAR
