BEGIN:VCALENDAR
VERSION:2.0
PRODID:-//EZFacility.com, Inc.//EZL 2.5.5.28621
BEGIN:VEVENT
UID:10495984@ezleagues.ezfacility.com
DTSTAMP:20260420T085833Z
CREATED:20260420T085833Z
DTSTART:20170608T004500Z
DTEND:20170608T012500Z
LOCATION:Field 2B
CONTACT:
SUMMARY:FC Top Toast VS. Nuix United
DESCRIPTION:League Name: Wednesday Co-Ed  Summer 2017\nGame Type: Regular\n
 Game Status: Complete\nHome Team: FC Top Toast\nAway Team: Nuix United\nHo
 me Score: 1\nAway Score: 3
END:VEVENT
BEGIN:VEVENT
UID:10495987@ezleagues.ezfacility.com
DTSTAMP:20260420T085833Z
CREATED:20260420T085833Z
DTSTART:20170615T003500Z
DTEND:20170615T011500Z
LOCATION:Field 2A
CONTACT:
SUMMARY:Nuix United VS. FA FC
DESCRIPTION:League Name: Wednesday Co-Ed  Summer 2017\nGame Type: Regular\n
 Game Status: Complete\nHome Team: Nuix United\nAway Team: FA FC\nHome Scor
 e: 1\nAway Score: 1
END:VEVENT
BEGIN:VEVENT
UID:10495992@ezleagues.ezfacility.com
DTSTAMP:20260420T085833Z
CREATED:20260420T085833Z
DTSTART:20170622T012000Z
DTEND:20170622T020000Z
LOCATION:Field 2B
CONTACT:
SUMMARY:Nuix United VS. Straight Shooters
DESCRIPTION:League Name: Wednesday Co-Ed  Summer 2017\nGame Type: Regular\n
 Game Status: Complete\nHome Team: Nuix United\nAway Team: Straight Shooter
 s\nHome Score: 1\nAway Score: 2
END:VEVENT
BEGIN:VEVENT
UID:10495993@ezleagues.ezfacility.com
DTSTAMP:20260420T085833Z
CREATED:20260420T085833Z
DTSTART:20170629T003500Z
DTEND:20170629T011500Z
LOCATION:Field 2B
CONTACT:
SUMMARY:Bubble Gum Army VS. Nuix United
DESCRIPTION:League Name: Wednesday Co-Ed  Summer 2017\nGame Type: Regular\n
 Game Status: Complete\nHome Team: Bubble Gum Army\nAway Team: Nuix United\
 nHome Score: 0\nAway Score: 2
END:VEVENT
BEGIN:VEVENT
UID:10496003@ezleagues.ezfacility.com
DTSTAMP:20260420T085833Z
CREATED:20260420T085833Z
DTSTART:20170712T230000Z
DTEND:20170712T234000Z
LOCATION:Field 1B
CONTACT:
SUMMARY:Nuix United VS. Meeseeks Box
DESCRIPTION:League Name: Wednesday Co-Ed  Summer 2017\nGame Type: Regular\n
 Game Status: Complete\nHome Team: Nuix United\nAway Team: Meeseeks Box\nHo
 me Score: 0\nAway Score: 1
END:VEVENT
BEGIN:VEVENT
UID:10496008@ezleagues.ezfacility.com
DTSTAMP:20260420T085833Z
CREATED:20260420T085833Z
DTSTART:20170720T005000Z
DTEND:20170720T013000Z
LOCATION:Field 2A
CONTACT:
SUMMARY:Nuix United VS. FC Top Toast
DESCRIPTION:League Name: Wednesday Co-Ed  Summer 2017\nGame Type: Regular\n
 Game Status: Complete\nHome Team: Nuix United\nAway Team: FC Top Toast\nHo
 me Score: 2\nAway Score: 1
END:VEVENT
BEGIN:VEVENT
UID:10496012@ezleagues.ezfacility.com
DTSTAMP:20260420T085833Z
CREATED:20260420T085833Z
DTSTART:20170726T234500Z
DTEND:20170727T002500Z
LOCATION:Field 2B
CONTACT:
SUMMARY:LuckFintner United VS. Nuix United
DESCRIPTION:League Name: Wednesday Co-Ed  Summer 2017\nGame Type: Regular\n
 Game Status: Complete\nHome Team: LuckFintner United\nAway Team: Nuix Unit
 ed\nHome Score: 0\nAway Score: 3
END:VEVENT
BEGIN:VEVENT
UID:10496015@ezleagues.ezfacility.com
DTSTAMP:20260420T085833Z
CREATED:20260420T085833Z
DTSTART:20170803T000500Z
DTEND:20170803T004500Z
LOCATION:Field 2A
CONTACT:
SUMMARY:FA FC VS. Nuix United
DESCRIPTION:League Name: Wednesday Co-Ed  Summer 2017\nGame Type: Regular\n
 Game Status: Complete\nHome Team: FA FC\nAway Team: Nuix United\nHome Scor
 e: 2\nAway Score: 3
END:VEVENT
BEGIN:VEVENT
UID:10589258@ezleagues.ezfacility.com
DTSTAMP:20260420T085833Z
CREATED:20260420T085833Z
DTSTART:20170810T004500Z
DTEND:20170810T012500Z
LOCATION:Field 3A
CONTACT:
SUMMARY:Nuix United VS. Conshy Crush FC
DESCRIPTION:League Name: Wednesday Co-Ed  Summer 2017\nGame Type: Regular\n
 Game Status: Complete\nHome Team: Nuix United\nAway Team: Conshy Crush FC\
 nHome Score: 0\nAway Score: 1
END:VEVENT
END:VCALENDAR
