BEGIN:VCALENDAR
VERSION:2.0
PRODID:-//EZFacility.com, Inc.//EZL 2.5.5.28621
BEGIN:VEVENT
UID:10487515@ezleagues.ezfacility.com
DTSTAMP:20260426T035134Z
CREATED:20260426T035134Z
DTSTART:20170613T014000Z
DTEND:20170613T023000Z
LOCATION:Field 2
CONTACT:
SUMMARY:Red Rockets VS. Landsharks
DESCRIPTION:League Name: 2017 Summer Co-ed Soccer League\nGame Type: Regula
 r\nGame Status: Complete\nHome Team: Red Rockets\nAway Team: Landsharks\nH
 ome Score: 4\nAway Score: 6
END:VEVENT
BEGIN:VEVENT
UID:10487518@ezleagues.ezfacility.com
DTSTAMP:20260426T035134Z
CREATED:20260426T035134Z
DTSTART:20170620T000000Z
DTEND:20170620T005000Z
LOCATION:Field 2
CONTACT:
SUMMARY:Landsharks VS. Crew
DESCRIPTION:League Name: 2017 Summer Co-ed Soccer League\nGame Type: Regula
 r\nGame Status: Complete\nHome Team: Landsharks\nAway Team: Crew\nHome Sco
 re: 2\nAway Score: 3
END:VEVENT
BEGIN:VEVENT
UID:10487521@ezleagues.ezfacility.com
DTSTAMP:20260426T035134Z
CREATED:20260426T035134Z
DTSTART:20170627T011000Z
DTEND:20170627T020000Z
LOCATION:Field 2
CONTACT:
SUMMARY:Landsharks VS. Diamondbacks
DESCRIPTION:League Name: 2017 Summer Co-ed Soccer League\nGame Type: Regula
 r\nGame Status: Complete\nHome Team: Landsharks\nAway Team: Diamondbacks\n
 Home Score: 11\nAway Score: 0
END:VEVENT
BEGIN:VEVENT
UID:10487527@ezleagues.ezfacility.com
DTSTAMP:20260426T035134Z
CREATED:20260426T035134Z
DTSTART:20170711T014000Z
DTEND:20170711T023000Z
LOCATION:Field 2
CONTACT:
SUMMARY:Landsharks VS. Just Soccer Players
DESCRIPTION:League Name: 2017 Summer Co-ed Soccer League\nGame Type: Regula
 r\nGame Status: Complete\nHome Team: Landsharks\nAway Team: Just Soccer Pl
 ayers\nHome Score: 12\nAway Score: 7
END:VEVENT
BEGIN:VEVENT
UID:10487530@ezleagues.ezfacility.com
DTSTAMP:20260426T035134Z
CREATED:20260426T035134Z
DTSTART:20170718T014000Z
DTEND:20170718T023000Z
LOCATION:Field 2
CONTACT:
SUMMARY:Landsharks VS. Balls To The Wall
DESCRIPTION:League Name: 2017 Summer Co-ed Soccer League\nGame Type: Regula
 r\nGame Status: Complete\nHome Team: Landsharks\nAway Team: Balls To The W
 all\nHome Score: 5\nAway Score: 4
END:VEVENT
BEGIN:VEVENT
UID:10487532@ezleagues.ezfacility.com
DTSTAMP:20260426T035134Z
CREATED:20260426T035134Z
DTSTART:20170725T005000Z
DTEND:20170725T014000Z
LOCATION:Field 2
CONTACT:
SUMMARY:Nothings from Nowhere VS. Landsharks
DESCRIPTION:League Name: 2017 Summer Co-ed Soccer League\nGame Type: Regula
 r\nGame Status: Complete\nHome Team: Nothings from Nowhere\nAway Team: Lan
 dsharks\nHome Score: 2\nAway Score: 6
END:VEVENT
BEGIN:VEVENT
UID:10574598@ezleagues.ezfacility.com
DTSTAMP:20260426T035134Z
CREATED:20260426T035134Z
DTSTART:20170808T003000Z
DTEND:20170808T010000Z
LOCATION:Field 2
CONTACT:
SUMMARY:Landsharks VS. Diamondbacks
DESCRIPTION:League Name: 2017 Summer Co-ed Soccer League\nGame Type: Postse
 ason\nGame Status: Complete\nHome Team: Landsharks\nAway Team: Diamondback
 s\nHome Score: 1\nAway Score: 0
END:VEVENT
BEGIN:VEVENT
UID:10574600@ezleagues.ezfacility.com
DTSTAMP:20260426T035134Z
CREATED:20260426T035134Z
DTSTART:20170808T013000Z
DTEND:20170808T020000Z
LOCATION:Field 2
CONTACT:
SUMMARY:Landsharks VS. Red Rockets
DESCRIPTION:League Name: 2017 Summer Co-ed Soccer League\nGame Type: Postse
 ason\nGame Status: Complete\nHome Team: Landsharks\nAway Team: Red Rockets
 \nHome Score: 0\nAway Score: 1
END:VEVENT
END:VCALENDAR
