BEGIN:VCALENDAR
VERSION:2.0
PRODID:-//EZFacility.com, Inc.//EZL 2.5.5.28621
BEGIN:VEVENT
UID:11595590@ezleagues.ezfacility.com
DTSTAMP:20260426T033725Z
CREATED:20260426T033725Z
DTSTART:20180814T030500Z
DTEND:20180814T040000Z
LOCATION:Jessup Premier Field #1
CONTACT:
SUMMARY:Animals VS. La Raza
DESCRIPTION:League Name: Mon Mens Over 35s 3rd div \nGame Type: Regular\nGa
 me Status: Complete\nHome Team: Animals\nAway Team: La Raza\nHome Score: 3
 \nAway Score: 1
END:VEVENT
BEGIN:VEVENT
UID:11595601@ezleagues.ezfacility.com
DTSTAMP:20260426T033725Z
CREATED:20260426T033725Z
DTSTART:20180820T223000Z
DTEND:20180820T232500Z
LOCATION:Jessup Premier Field #2
CONTACT:
SUMMARY:Dilf's VS. La Raza
DESCRIPTION:League Name: Mon Mens Over 35s 3rd div \nGame Type: Regular\nGa
 me Status: Complete\nHome Team: Dilf's\nAway Team: La Raza\nHome Score: 12
 \nAway Score: 4
END:VEVENT
BEGIN:VEVENT
UID:11595612@ezleagues.ezfacility.com
DTSTAMP:20260426T033725Z
CREATED:20260426T033725Z
DTSTART:20180828T002000Z
DTEND:20180828T011500Z
LOCATION:Jessup Premier Field #2
CONTACT:
SUMMARY:Soccer Dogs VS. La Raza
DESCRIPTION:League Name: Mon Mens Over 35s 3rd div \nGame Type: Regular\nGa
 me Status: Complete\nHome Team: Soccer Dogs\nAway Team: La Raza\nHome Scor
 e: 8\nAway Score: 5
END:VEVENT
BEGIN:VEVENT
UID:11595636@ezleagues.ezfacility.com
DTSTAMP:20260426T033725Z
CREATED:20260426T033725Z
DTSTART:20180911T021000Z
DTEND:20180911T030500Z
LOCATION:Jessup Premier Field #1
CONTACT:
SUMMARY:La Raza VS. Man Chest Hair United
DESCRIPTION:League Name: Mon Mens Over 35s 3rd div \nGame Type: Regular\nGa
 me Status: Complete\nHome Team: La Raza\nAway Team: Man Chest Hair United\
 nHome Score: 2\nAway Score: 3
END:VEVENT
BEGIN:VEVENT
UID:11595649@ezleagues.ezfacility.com
DTSTAMP:20260426T033725Z
CREATED:20260426T033725Z
DTSTART:20180917T223000Z
DTEND:20180917T232500Z
LOCATION:Jessup Premier Field #2
CONTACT:
SUMMARY:La Raza VS. Orange Crush
DESCRIPTION:League Name: Mon Mens Over 35s 3rd div \nGame Type: Regular\nGa
 me Status: Complete\nHome Team: La Raza\nAway Team: Orange Crush\nHome Sco
 re: 2\nAway Score: 3
END:VEVENT
BEGIN:VEVENT
UID:11595662@ezleagues.ezfacility.com
DTSTAMP:20260426T033725Z
CREATED:20260426T033725Z
DTSTART:20180924T232500Z
DTEND:20180925T002000Z
LOCATION:Jessup Premier Field #1
CONTACT:
SUMMARY:La Raza VS. Little Bear
DESCRIPTION:League Name: Mon Mens Over 35s 3rd div \nGame Type: Regular\nGa
 me Status: Complete\nHome Team: La Raza\nAway Team: Little Bear\nHome Scor
 e: 2\nAway Score: 2
END:VEVENT
BEGIN:VEVENT
UID:11595623@ezleagues.ezfacility.com
DTSTAMP:20260426T033725Z
CREATED:20260426T033725Z
DTSTART:20181002T021000Z
DTEND:20181002T030500Z
LOCATION:Jessup Premier Field #2
CONTACT:
SUMMARY:La Raza VS. Milan
DESCRIPTION:League Name: Mon Mens Over 35s 3rd div \nGame Type: Regular\nGa
 me Status: Complete\nHome Team: La Raza\nAway Team: Milan\nHome Score: 3\n
 Away Score: 6
END:VEVENT
BEGIN:VEVENT
UID:11752021@ezleagues.ezfacility.com
DTSTAMP:20260426T033725Z
CREATED:20260426T033725Z
DTSTART:20181008T232500Z
DTEND:20181009T001300Z
LOCATION:Jessup Premier Field #2
CONTACT:
SUMMARY:Little Bear VS. La Raza
DESCRIPTION:League Name: Mon Mens Over 35s 3rd div \nGame Type: Regular\nGa
 me Status: Complete\nHome Team: Little Bear\nAway Team: La Raza\nHome Scor
 e: 8\nAway Score: 4
END:VEVENT
BEGIN:VEVENT
UID:11763765@ezleagues.ezfacility.com
DTSTAMP:20260426T033725Z
CREATED:20260426T033725Z
DTSTART:20181016T030500Z
DTEND:20181016T035300Z
LOCATION:Jessup Premier Field #1
CONTACT:
SUMMARY:Soccer Dogs VS. La Raza
DESCRIPTION:League Name: Mon Mens Over 35s 3rd div \nGame Type: Regular\nGa
 me Status: Complete\nHome Team: Soccer Dogs\nAway Team: La Raza\nHome Scor
 e: 2\nAway Score: 5
END:VEVENT
END:VCALENDAR
