BEGIN:VCALENDAR
VERSION:2.0
PRODID:-//EZFacility.com, Inc.//EZL 2.5.5.28621
BEGIN:VEVENT
UID:10689963@ezleagues.ezfacility.com
DTSTAMP:20260422T042246Z
CREATED:20260422T042246Z
DTSTART:20170917T031000Z
DTEND:20170917T040000Z
LOCATION:Jessup Premier Field #2
CONTACT:
SUMMARY:LA H  VS. Club Deportivo FAS
DESCRIPTION:League Name: Sat Mens Open 2nd div  \nGame Type: Regular\nGame 
 Status: Complete\nHome Team: LA H \nAway Team: Club Deportivo FAS\nHome Sc
 ore: 7\nAway Score: 9
END:VEVENT
BEGIN:VEVENT
UID:10689976@ezleagues.ezfacility.com
DTSTAMP:20260422T042246Z
CREATED:20260422T042246Z
DTSTART:20170923T235000Z
DTEND:20170924T004000Z
LOCATION:Jessup Premier Field #2
CONTACT:
SUMMARY:LA H  VS. Los Ranchos
DESCRIPTION:League Name: Sat Mens Open 2nd div  \nGame Type: Regular\nGame 
 Status: Complete\nHome Team: LA H \nAway Team: Los Ranchos\nHome Score: 4\
 nAway Score: 8
END:VEVENT
BEGIN:VEVENT
UID:10689989@ezleagues.ezfacility.com
DTSTAMP:20260422T042246Z
CREATED:20260422T042246Z
DTSTART:20171001T022000Z
DTEND:20171001T031000Z
LOCATION:Jessup Premier Field #1
CONTACT:
SUMMARY:LA H  VS. Deportivo Atletico
DESCRIPTION:League Name: Sat Mens Open 2nd div  \nGame Type: Regular\nGame 
 Status: Complete\nHome Team: LA H \nAway Team: Deportivo Atletico\nHome Sc
 ore: 8\nAway Score: 4
END:VEVENT
BEGIN:VEVENT
UID:10690001@ezleagues.ezfacility.com
DTSTAMP:20260422T042246Z
CREATED:20260422T042246Z
DTSTART:20171007T230000Z
DTEND:20171007T235000Z
LOCATION:Jessup Premier Field #1
CONTACT:
SUMMARY:Team Kevin VS. LA H 
DESCRIPTION:League Name: Sat Mens Open 2nd div  \nGame Type: Regular\nGame 
 Status: Complete\nHome Team: Team Kevin\nAway Team: LA H \nHome Score: 6\n
 Away Score: 5
END:VEVENT
BEGIN:VEVENT
UID:10690012@ezleagues.ezfacility.com
DTSTAMP:20260422T042246Z
CREATED:20260422T042246Z
DTSTART:20171014T235000Z
DTEND:20171015T004000Z
LOCATION:Jessup Premier Field #1
CONTACT:
SUMMARY:Deportivo Chal VS. LA H 
DESCRIPTION:League Name: Sat Mens Open 2nd div  \nGame Type: Regular\nGame 
 Status: Complete\nHome Team: Deportivo Chal\nAway Team: LA H \nHome Score:
  5\nAway Score: 4
END:VEVENT
BEGIN:VEVENT
UID:10690023@ezleagues.ezfacility.com
DTSTAMP:20260422T042246Z
CREATED:20260422T042246Z
DTSTART:20171022T022000Z
DTEND:20171022T031000Z
LOCATION:Jessup Premier Field #2
CONTACT:
SUMMARY:Sanantonio FC VS. LA H 
DESCRIPTION:League Name: Sat Mens Open 2nd div  \nGame Type: Regular\nGame 
 Status: Complete\nHome Team: Sanantonio FC\nAway Team: LA H \nHome Score: 
 4\nAway Score: 2
END:VEVENT
BEGIN:VEVENT
UID:10690034@ezleagues.ezfacility.com
DTSTAMP:20260422T042246Z
CREATED:20260422T042246Z
DTSTART:20171028T230000Z
DTEND:20171028T235000Z
LOCATION:Jessup Premier Field #1
CONTACT:
SUMMARY:Boom VS. LA H 
DESCRIPTION:League Name: Sat Mens Open 2nd div  \nGame Type: Regular\nGame 
 Status: Complete\nHome Team: Boom\nAway Team: LA H \nHome Score: 6\nAway S
 core: 4
END:VEVENT
BEGIN:VEVENT
UID:10852557@ezleagues.ezfacility.com
DTSTAMP:20260422T042246Z
CREATED:20260422T042246Z
DTSTART:20171104T235000Z
DTEND:20171105T003800Z
LOCATION:Jessup Premier Field #1
CONTACT:
SUMMARY:Team Kevin VS. LA H 
DESCRIPTION:League Name: Sat Mens Open 2nd div  \nGame Type: Regular\nGame 
 Status: Complete\nHome Team: Team Kevin\nAway Team: LA H \nHome Score: 3\n
 Away Score: 4
END:VEVENT
BEGIN:VEVENT
UID:10885274@ezleagues.ezfacility.com
DTSTAMP:20260422T042246Z
CREATED:20260422T042246Z
DTSTART:20171112T005000Z
DTEND:20171112T013800Z
LOCATION:Jessup Premier Field #1
CONTACT:
SUMMARY:Sanantonio FC VS. LA H 
DESCRIPTION:League Name: Sat Mens Open 2nd div  \nGame Type: Regular\nGame 
 Status: Complete\nHome Team: Sanantonio FC\nAway Team: LA H \nHome Score: 
 2\nAway Score: 3
END:VEVENT
END:VCALENDAR
