BEGIN:VCALENDAR
VERSION:2.0
PRODID:-//EZFacility.com, Inc.//EZL 2.5.5.28621
BEGIN:VEVENT
UID:10689962@ezleagues.ezfacility.com
DTSTAMP:20260420T130238Z
CREATED:20260420T130238Z
DTSTART:20170917T004000Z
DTEND:20170917T013000Z
LOCATION:Jessup Premier Field #2
CONTACT:
SUMMARY:Boom VS. Team Kevin
DESCRIPTION:League Name: Sat Mens Open 2nd div  \nGame Type: Regular\nGame 
 Status: Complete\nHome Team: Boom\nAway Team: Team Kevin\nHome Score: 6\nA
 way Score: 5
END:VEVENT
BEGIN:VEVENT
UID:10689975@ezleagues.ezfacility.com
DTSTAMP:20260420T130238Z
CREATED:20260420T130238Z
DTSTART:20170924T013000Z
DTEND:20170924T022000Z
LOCATION:Jessup Premier Field #2
CONTACT:
SUMMARY:Team Kevin VS. Deportivo Chal
DESCRIPTION:League Name: Sat Mens Open 2nd div  \nGame Type: Regular\nGame 
 Status: Complete\nHome Team: Team Kevin\nAway Team: Deportivo Chal\nHome S
 core: 2\nAway Score: 4
END:VEVENT
BEGIN:VEVENT
UID:10689988@ezleagues.ezfacility.com
DTSTAMP:20260420T130238Z
CREATED:20260420T130238Z
DTSTART:20170930T235000Z
DTEND:20171001T004000Z
LOCATION:Jessup Premier Field #2
CONTACT:
SUMMARY:Team Kevin VS. Sanantonio FC
DESCRIPTION:League Name: Sat Mens Open 2nd div  \nGame Type: Regular\nGame 
 Status: Complete\nHome Team: Team Kevin\nAway Team: Sanantonio FC\nHome Sc
 ore: 2\nAway Score: 3
END:VEVENT
BEGIN:VEVENT
UID:10690001@ezleagues.ezfacility.com
DTSTAMP:20260420T130238Z
CREATED:20260420T130238Z
DTSTART:20171007T230000Z
DTEND:20171007T235000Z
LOCATION:Jessup Premier Field #1
CONTACT:
SUMMARY:Team Kevin VS. LA H 
DESCRIPTION:League Name: Sat Mens Open 2nd div  \nGame Type: Regular\nGame 
 Status: Complete\nHome Team: Team Kevin\nAway Team: LA H \nHome Score: 6\n
 Away Score: 5
END:VEVENT
BEGIN:VEVENT
UID:10690013@ezleagues.ezfacility.com
DTSTAMP:20260420T130238Z
CREATED:20260420T130238Z
DTSTART:20171014T230000Z
DTEND:20171014T235000Z
LOCATION:Jessup Premier Field #1
CONTACT:
SUMMARY:Club Deportivo FAS VS. Team Kevin
DESCRIPTION:League Name: Sat Mens Open 2nd div  \nGame Type: Regular\nGame 
 Status: Complete\nHome Team: Club Deportivo FAS\nAway Team: Team Kevin\nHo
 me Score: 5\nAway Score: 0
END:VEVENT
BEGIN:VEVENT
UID:10690024@ezleagues.ezfacility.com
DTSTAMP:20260420T130238Z
CREATED:20260420T130238Z
DTSTART:20171022T004000Z
DTEND:20171022T013000Z
LOCATION:Jessup Premier Field #1
CONTACT:
SUMMARY:Los Ranchos VS. Team Kevin
DESCRIPTION:League Name: Sat Mens Open 2nd div  \nGame Type: Regular\nGame 
 Status: Complete\nHome Team: Los Ranchos\nAway Team: Team Kevin\nHome Scor
 e: 1\nAway Score: 4
END:VEVENT
BEGIN:VEVENT
UID:10690035@ezleagues.ezfacility.com
DTSTAMP:20260420T130238Z
CREATED:20260420T130238Z
DTSTART:20171029T013000Z
DTEND:20171029T022000Z
LOCATION:Jessup Premier Field #2
CONTACT:
SUMMARY:Deportivo Atletico VS. Team Kevin
DESCRIPTION:League Name: Sat Mens Open 2nd div  \nGame Type: Regular\nGame 
 Status: Complete\nHome Team: Deportivo Atletico\nAway Team: Team Kevin\nHo
 me Score: 6\nAway Score: 1
END:VEVENT
BEGIN:VEVENT
UID:10852557@ezleagues.ezfacility.com
DTSTAMP:20260420T130238Z
CREATED:20260420T130238Z
DTSTART:20171104T235000Z
DTEND:20171105T003800Z
LOCATION:Jessup Premier Field #1
CONTACT:
SUMMARY:Team Kevin VS. LA H 
DESCRIPTION:League Name: Sat Mens Open 2nd div  \nGame Type: Regular\nGame 
 Status: Complete\nHome Team: Team Kevin\nAway Team: LA H \nHome Score: 3\n
 Away Score: 4
END:VEVENT
BEGIN:VEVENT
UID:10885275@ezleagues.ezfacility.com
DTSTAMP:20260420T130238Z
CREATED:20260420T130238Z
DTSTART:20171112T041000Z
DTEND:20171112T045800Z
LOCATION:Jessup Premier Field #2
CONTACT:
SUMMARY:Deportivo Chal VS. Team Kevin
DESCRIPTION:League Name: Sat Mens Open 2nd div  \nGame Type: Regular\nGame 
 Status: Complete\nHome Team: Deportivo Chal\nAway Team: Team Kevin\nHome S
 core: 7\nAway Score: 4
END:VEVENT
END:VCALENDAR
