BEGIN:VCALENDAR
VERSION:2.0
PRODID:-//EZFacility.com, Inc.//EZL 2.5.5.28621
BEGIN:VEVENT
UID:10912492@ezleagues.ezfacility.com
DTSTAMP:20260424T183654Z
CREATED:20260424T183654Z
DTSTART:20171119T013000Z
DTEND:20171119T022000Z
LOCATION:Jessup Premier Field #2
CONTACT:
SUMMARY:Inter FC VS. International 
DESCRIPTION:League Name: Sat Mens Open 1st div  \nGame Type: Regular\nGame 
 Status: Complete\nHome Team: Inter FC\nAway Team: International \nHome Sco
 re: 3\nAway Score: 4
END:VEVENT
BEGIN:VEVENT
UID:10912507@ezleagues.ezfacility.com
DTSTAMP:20260424T183654Z
CREATED:20260424T183654Z
DTSTART:20171125T230000Z
DTEND:20171125T235000Z
LOCATION:Jessup Premier Field #2
CONTACT:
SUMMARY:International  VS. Motagua De Columbia
DESCRIPTION:League Name: Sat Mens Open 1st div  \nGame Type: Regular\nGame 
 Status: Complete\nHome Team: International \nAway Team: Motagua De Columbi
 a\nHome Score: 5\nAway Score: 2
END:VEVENT
BEGIN:VEVENT
UID:10912522@ezleagues.ezfacility.com
DTSTAMP:20260424T183654Z
CREATED:20260424T183654Z
DTSTART:20171202T230000Z
DTEND:20171202T235000Z
LOCATION:Jessup Premier Field #2
CONTACT:
SUMMARY:International  VS. Club Deportivo FAS
DESCRIPTION:League Name: Sat Mens Open 1st div  \nGame Type: Regular\nGame 
 Status: Complete\nHome Team: International \nAway Team: Club Deportivo FAS
 \nHome Score: 4\nAway Score: 4
END:VEVENT
BEGIN:VEVENT
UID:10912537@ezleagues.ezfacility.com
DTSTAMP:20260424T183654Z
CREATED:20260424T183654Z
DTSTART:20171210T040000Z
DTEND:20171210T045000Z
LOCATION:Jessup Premier Field #1
CONTACT:
SUMMARY:International  VS. Herbalife 
DESCRIPTION:League Name: Sat Mens Open 1st div  \nGame Type: Regular\nGame 
 Status: Complete\nHome Team: International \nAway Team: Herbalife \nHome S
 core: 6\nAway Score: 4
END:VEVENT
BEGIN:VEVENT
UID:10912551@ezleagues.ezfacility.com
DTSTAMP:20260424T183654Z
CREATED:20260424T183654Z
DTSTART:20171217T031000Z
DTEND:20171217T040000Z
LOCATION:Jessup Premier Field #1
CONTACT:
SUMMARY:Merengues FC VS. International 
DESCRIPTION:League Name: Sat Mens Open 1st div  \nGame Type: Regular\nGame 
 Status: Complete\nHome Team: Merengues FC\nAway Team: International \nHome
  Score: 3\nAway Score: 6
END:VEVENT
BEGIN:VEVENT
UID:10912564@ezleagues.ezfacility.com
DTSTAMP:20260424T183654Z
CREATED:20260424T183654Z
DTSTART:20180106T235000Z
DTEND:20180107T004000Z
LOCATION:Jessup Premier Field #1
CONTACT:
SUMMARY:Las Brisas VS. International 
DESCRIPTION:League Name: Sat Mens Open 1st div  \nGame Type: Regular\nGame 
 Status: Complete\nHome Team: Las Brisas\nAway Team: International \nHome S
 core: 1\nAway Score: 8
END:VEVENT
BEGIN:VEVENT
UID:10912577@ezleagues.ezfacility.com
DTSTAMP:20260424T183654Z
CREATED:20260424T183654Z
DTSTART:20180114T004000Z
DTEND:20180114T013000Z
LOCATION:Jessup Premier Field #1
CONTACT:
SUMMARY:Guadalupano VS. International 
DESCRIPTION:League Name: Sat Mens Open 1st div  \nGame Type: Regular\nGame 
 Status: Complete\nHome Team: Guadalupano\nAway Team: International \nHome 
 Score: 1\nAway Score: 7
END:VEVENT
BEGIN:VEVENT
UID:11124945@ezleagues.ezfacility.com
DTSTAMP:20260424T183654Z
CREATED:20260424T183654Z
DTSTART:20180121T031000Z
DTEND:20180121T035800Z
LOCATION:Jessup Premier Field #1
CONTACT:
SUMMARY:International  VS. Inter FC
DESCRIPTION:League Name: Sat Mens Open 1st div  \nGame Type: Regular\nGame 
 Status: Complete\nHome Team: International \nAway Team: Inter FC\nHome Sco
 re: 6\nAway Score: 5
END:VEVENT
BEGIN:VEVENT
UID:11160708@ezleagues.ezfacility.com
DTSTAMP:20260424T183654Z
CREATED:20260424T183654Z
DTSTART:20180128T022000Z
DTEND:20180128T030800Z
LOCATION:Jessup Premier Field #1
CONTACT:
SUMMARY:Club Deportivo FAS VS. International 
DESCRIPTION:League Name: Sat Mens Open 1st div  \nGame Type: Regular\nGame 
 Status: Complete\nHome Team: Club Deportivo FAS\nAway Team: International 
 \nHome Score: 2\nAway Score: 5
END:VEVENT
END:VCALENDAR
