BEGIN:VCALENDAR
VERSION:2.0
PRODID:-//EZFacility.com, Inc.//EZL 2.5.5.28621
BEGIN:VEVENT
UID:10912488@ezleagues.ezfacility.com
DTSTAMP:20260422T065511Z
CREATED:20260422T065511Z
DTSTART:20171119T040000Z
DTEND:20171119T045000Z
LOCATION:Jessup Premier Field #1
CONTACT:
SUMMARY:Los Ranchos VS. Boom
DESCRIPTION:League Name: Sat Mens Open 2nd div  \nGame Type: Regular\nGame 
 Status: Complete\nHome Team: Los Ranchos\nAway Team: Boom\nHome Score: 5\n
 Away Score: 3
END:VEVENT
BEGIN:VEVENT
UID:10912501@ezleagues.ezfacility.com
DTSTAMP:20260422T065511Z
CREATED:20260422T065511Z
DTSTART:20171126T004000Z
DTEND:20171126T013000Z
LOCATION:Jessup Premier Field #2
CONTACT:
SUMMARY:Alemania VS. Boom
DESCRIPTION:League Name: Sat Mens Open 2nd div  \nGame Type: Regular\nGame 
 Status: Complete\nHome Team: Alemania\nAway Team: Boom\nHome Score: 8\nAwa
 y Score: 1
END:VEVENT
BEGIN:VEVENT
UID:10912517@ezleagues.ezfacility.com
DTSTAMP:20260422T065511Z
CREATED:20260422T065511Z
DTSTART:20171203T013000Z
DTEND:20171203T022000Z
LOCATION:Jessup Premier Field #2
CONTACT:
SUMMARY:Boom VS. Inti Puca City
DESCRIPTION:League Name: Sat Mens Open 2nd div  \nGame Type: Regular\nGame 
 Status: Complete\nHome Team: Boom\nAway Team: Inti Puca City\nHome Score: 
 3\nAway Score: 0
END:VEVENT
BEGIN:VEVENT
UID:10912532@ezleagues.ezfacility.com
DTSTAMP:20260422T065511Z
CREATED:20260422T065511Z
DTSTART:20171209T230000Z
DTEND:20171209T235000Z
LOCATION:Jessup Premier Field #2
CONTACT:
SUMMARY:Boom VS. Unatletico Madrd
DESCRIPTION:League Name: Sat Mens Open 2nd div  \nGame Type: Regular\nGame 
 Status: Complete\nHome Team: Boom\nAway Team: Unatletico Madrd\nHome Score
 : 3\nAway Score: 6
END:VEVENT
BEGIN:VEVENT
UID:10912547@ezleagues.ezfacility.com
DTSTAMP:20260422T065511Z
CREATED:20260422T065511Z
DTSTART:20171216T235000Z
DTEND:20171217T004000Z
LOCATION:Jessup Premier Field #1
CONTACT:
SUMMARY:Boom VS. San Antonio FC
DESCRIPTION:League Name: Sat Mens Open 2nd div  \nGame Type: Regular\nGame 
 Status: Complete\nHome Team: Boom\nAway Team: San Antonio FC\nHome Score: 
 5\nAway Score: 8
END:VEVENT
BEGIN:VEVENT
UID:10912561@ezleagues.ezfacility.com
DTSTAMP:20260422T065511Z
CREATED:20260422T065511Z
DTSTART:20180107T004000Z
DTEND:20180107T013000Z
LOCATION:Jessup Premier Field #1
CONTACT:
SUMMARY:Boom VS. Deportivo Chal
DESCRIPTION:League Name: Sat Mens Open 2nd div  \nGame Type: Regular\nGame 
 Status: Complete\nHome Team: Boom\nAway Team: Deportivo Chal\nHome Score: 
 3\nAway Score: 7
END:VEVENT
BEGIN:VEVENT
UID:10912575@ezleagues.ezfacility.com
DTSTAMP:20260422T065511Z
CREATED:20260422T065511Z
DTSTART:20180113T230000Z
DTEND:20180113T235000Z
LOCATION:Jessup Premier Field #1
CONTACT:
SUMMARY:SFC VS. Boom
DESCRIPTION:League Name: Sat Mens Open 2nd div  \nGame Type: Regular\nGame 
 Status: Complete\nHome Team: SFC\nAway Team: Boom\nHome Score: 0\nAway Sco
 re: 6
END:VEVENT
BEGIN:VEVENT
UID:11124951@ezleagues.ezfacility.com
DTSTAMP:20260422T065511Z
CREATED:20260422T065511Z
DTSTART:20180120T235000Z
DTEND:20180121T003800Z
LOCATION:Jessup Premier Field #2
CONTACT:
SUMMARY:No Hesi FC VS. Boom
DESCRIPTION:League Name: Sat Mens Open 2nd div  \nGame Type: Regular\nGame 
 Status: Complete\nHome Team: No Hesi FC\nAway Team: Boom\nHome Score: 0\nA
 way Score: 2
END:VEVENT
BEGIN:VEVENT
UID:11160715@ezleagues.ezfacility.com
DTSTAMP:20260422T065511Z
CREATED:20260422T065511Z
DTSTART:20180127T230000Z
DTEND:20180127T234800Z
LOCATION:Jessup Premier Field #1
CONTACT:
SUMMARY:Boom VS. SFC
DESCRIPTION:League Name: Sat Mens Open 2nd div  \nGame Type: Regular\nGame 
 Status: Complete\nHome Team: Boom\nAway Team: SFC\nHome Score: 7\nAway Sco
 re: 1
END:VEVENT
END:VCALENDAR
