BEGIN:VCALENDAR
VERSION:2.0
PRODID:-//EZFacility.com, Inc.//EZL 2.5.5.28621
BEGIN:VEVENT
UID:11184644@ezleagues.ezfacility.com
DTSTAMP:20260426T034103Z
CREATED:20260426T034103Z
DTSTART:20180203T235000Z
DTEND:20180204T004000Z
LOCATION:Jessup Premier Field #2
CONTACT:
SUMMARY:Los Galacticos VS. FC Celtic 
DESCRIPTION:League Name: Sat Mens Open 1st div   \nGame Type: Regular\nGame
  Status: Complete\nHome Team: Los Galacticos\nAway Team: FC Celtic \nHome 
 Score: 3\nAway Score: 5
END:VEVENT
BEGIN:VEVENT
UID:11184658@ezleagues.ezfacility.com
DTSTAMP:20260426T034103Z
CREATED:20260426T034103Z
DTSTART:20180211T022000Z
DTEND:20180211T031000Z
LOCATION:Jessup Premier Field #2
CONTACT:
SUMMARY:Inter FC VS. Los Galacticos
DESCRIPTION:League Name: Sat Mens Open 1st div   \nGame Type: Regular\nGame
  Status: Complete\nHome Team: Inter FC\nAway Team: Los Galacticos\nHome Sc
 ore: 3\nAway Score: 4
END:VEVENT
BEGIN:VEVENT
UID:11184672@ezleagues.ezfacility.com
DTSTAMP:20260426T034103Z
CREATED:20260426T034103Z
DTSTART:20180217T230000Z
DTEND:20180217T235000Z
LOCATION:Jessup Premier Field #2
CONTACT:
SUMMARY:CD Alianza VS. Los Galacticos
DESCRIPTION:League Name: Sat Mens Open 1st div   \nGame Type: Regular\nGame
  Status: Complete\nHome Team: CD Alianza\nAway Team: Los Galacticos\nHome 
 Score: 6\nAway Score: 2
END:VEVENT
BEGIN:VEVENT
UID:11184686@ezleagues.ezfacility.com
DTSTAMP:20260426T034103Z
CREATED:20260426T034103Z
DTSTART:20180225T004000Z
DTEND:20180225T013000Z
LOCATION:Jessup Premier Field #1
CONTACT:
SUMMARY:Los Ranchos VS. Los Galacticos
DESCRIPTION:League Name: Sat Mens Open 1st div   \nGame Type: Regular\nGame
  Status: Complete\nHome Team: Los Ranchos\nAway Team: Los Galacticos\nHome
  Score: 6\nAway Score: 4
END:VEVENT
BEGIN:VEVENT
UID:11184699@ezleagues.ezfacility.com
DTSTAMP:20260426T034103Z
CREATED:20260426T034103Z
DTSTART:20180304T031000Z
DTEND:20180304T040000Z
LOCATION:Jessup Premier Field #1
CONTACT:
SUMMARY:La Paz VS. Los Galacticos
DESCRIPTION:League Name: Sat Mens Open 1st div   \nGame Type: Regular\nGame
  Status: Complete\nHome Team: La Paz\nAway Team: Los Galacticos\nHome Scor
 e: 3\nAway Score: 5
END:VEVENT
BEGIN:VEVENT
UID:11184714@ezleagues.ezfacility.com
DTSTAMP:20260426T034103Z
CREATED:20260426T034103Z
DTSTART:20180311T004000Z
DTEND:20180311T013000Z
LOCATION:Jessup Premier Field #1
CONTACT:
SUMMARY:Los Galacticos VS. Arsenal
DESCRIPTION:League Name: Sat Mens Open 1st div   \nGame Type: Regular\nGame
  Status: Complete\nHome Team: Los Galacticos\nAway Team: Arsenal\nHome Sco
 re: 3\nAway Score: 5
END:VEVENT
BEGIN:VEVENT
UID:11184728@ezleagues.ezfacility.com
DTSTAMP:20260426T034103Z
CREATED:20260426T034103Z
DTSTART:20180318T021000Z
DTEND:20180318T030000Z
LOCATION:Jessup Premier Field #2
CONTACT:
SUMMARY:Los Galacticos VS. Club Deportivo  FAS
DESCRIPTION:League Name: Sat Mens Open 1st div   \nGame Type: Regular\nGame
  Status: Complete\nHome Team: Los Galacticos\nAway Team: Club Deportivo  F
 AS\nHome Score: 4\nAway Score: 10
END:VEVENT
BEGIN:VEVENT
UID:11298579@ezleagues.ezfacility.com
DTSTAMP:20260426T034103Z
CREATED:20260426T034103Z
DTSTART:20180324T225000Z
DTEND:20180324T233800Z
LOCATION:Jessup Premier Field #2
CONTACT:
SUMMARY:La Paz VS. Los Galacticos
DESCRIPTION:League Name: Sat Mens Open 1st div   \nGame Type: Regular\nGame
  Status: Complete\nHome Team: La Paz\nAway Team: Los Galacticos\nHome Scor
 e: 0\nAway Score: 3
END:VEVENT
BEGIN:VEVENT
UID:11312530@ezleagues.ezfacility.com
DTSTAMP:20260426T034103Z
CREATED:20260426T034103Z
DTSTART:20180331T225000Z
DTEND:20180331T233800Z
LOCATION:Jessup Premier Field #1
CONTACT:
SUMMARY:Los Galacticos VS. Inter FC
DESCRIPTION:League Name: Sat Mens Open 1st div   \nGame Type: Regular\nGame
  Status: Complete\nHome Team: Los Galacticos\nAway Team: Inter FC\nHome Sc
 ore: 4\nAway Score: 2
END:VEVENT
END:VCALENDAR
