BEGIN:VCALENDAR
VERSION:2.0
PRODID:-//EZFacility.com, Inc.//EZL 2.5.5.28621
BEGIN:VEVENT
UID:11008796@ezleagues.ezfacility.com
DTSTAMP:20260426T033653Z
CREATED:20260426T033653Z
DTSTART:20171221T023000Z
DTEND:20171221T032000Z
LOCATION:Harmans Premier Field #4
CONTACT:
SUMMARY:Fuzzy Pandas VS. Kakaismessi
DESCRIPTION:League Name: Wed Coed Open 4th div Eagles \nGame Type: Regular\
 nGame Status: Complete\nHome Team: Fuzzy Pandas\nAway Team: Kakaismessi\nH
 ome Score: 6\nAway Score: 4
END:VEVENT
BEGIN:VEVENT
UID:11008818@ezleagues.ezfacility.com
DTSTAMP:20260426T033653Z
CREATED:20260426T033653Z
DTSTART:20180104T032000Z
DTEND:20180104T041000Z
LOCATION:Harmans Premier Field #5
CONTACT:
SUMMARY:Kakaismessi VS. Monkey Business
DESCRIPTION:League Name: Wed Coed Open 4th div Eagles \nGame Type: Regular\
 nGame Status: Complete\nHome Team: Kakaismessi\nAway Team: Monkey Business
 \nHome Score: 7\nAway Score: 3
END:VEVENT
BEGIN:VEVENT
UID:11008828@ezleagues.ezfacility.com
DTSTAMP:20260426T033653Z
CREATED:20260426T033653Z
DTSTART:20180111T000000Z
DTEND:20180111T005000Z
LOCATION:Harmans Premier Field #5
CONTACT:
SUMMARY:Cruz Azul VS. Kakaismessi
DESCRIPTION:League Name: Wed Coed Open 4th div Eagles \nGame Type: Regular\
 nGame Status: Complete\nHome Team: Cruz Azul\nAway Team: Kakaismessi\nHome
  Score: 10\nAway Score: 4
END:VEVENT
BEGIN:VEVENT
UID:11008837@ezleagues.ezfacility.com
DTSTAMP:20260426T033653Z
CREATED:20260426T033653Z
DTSTART:20180118T032000Z
DTEND:20180118T041000Z
LOCATION:Harmans Premier Field #4
CONTACT:
SUMMARY:TBG VS. Kakaismessi
DESCRIPTION:League Name: Wed Coed Open 4th div Eagles \nGame Type: Regular\
 nGame Status: Complete\nHome Team: TBG\nAway Team: Kakaismessi\nHome Score
 : 8\nAway Score: 9
END:VEVENT
BEGIN:VEVENT
UID:11008846@ezleagues.ezfacility.com
DTSTAMP:20260426T033653Z
CREATED:20260426T033653Z
DTSTART:20180125T041000Z
DTEND:20180125T050000Z
LOCATION:Harmans Premier Field #5
CONTACT:
SUMMARY:Kakaismessi VS. Fuzzy Pandas
DESCRIPTION:League Name: Wed Coed Open 4th div Eagles \nGame Type: Regular\
 nGame Status: Complete\nHome Team: Kakaismessi\nAway Team: Fuzzy Pandas\nH
 ome Score: 6\nAway Score: 6
END:VEVENT
BEGIN:VEVENT
UID:11008857@ezleagues.ezfacility.com
DTSTAMP:20260426T033653Z
CREATED:20260426T033653Z
DTSTART:20180201T014000Z
DTEND:20180201T023000Z
LOCATION:Harmans Premier Field #5
CONTACT:
SUMMARY:Kakaismessi VS. Surf 'n Turf
DESCRIPTION:League Name: Wed Coed Open 4th div Eagles \nGame Type: Regular\
 nGame Status: Complete\nHome Team: Kakaismessi\nAway Team: Surf 'n Turf\nH
 ome Score: 6\nAway Score: 1
END:VEVENT
BEGIN:VEVENT
UID:11008807@ezleagues.ezfacility.com
DTSTAMP:20260426T033653Z
CREATED:20260426T033653Z
DTSTART:20180208T014000Z
DTEND:20180208T023000Z
LOCATION:Harmans Premier Field #5
CONTACT:
SUMMARY:Surf 'n Turf VS. Kakaismessi
DESCRIPTION:League Name: Wed Coed Open 4th div Eagles \nGame Type: Regular\
 nGame Status: Complete\nHome Team: Surf 'n Turf\nAway Team: Kakaismessi\nH
 ome Score: 2\nAway Score: 5
END:VEVENT
BEGIN:VEVENT
UID:11216892@ezleagues.ezfacility.com
DTSTAMP:20260426T033653Z
CREATED:20260426T033653Z
DTSTART:20180215T032000Z
DTEND:20180215T041000Z
LOCATION:Harmans Premier Field #4
CONTACT:
SUMMARY:Kakaismessi VS. Monkey Business
DESCRIPTION:League Name: Wed Coed Open 4th div Eagles \nGame Type: Regular\
 nGame Status: Complete\nHome Team: Kakaismessi\nAway Team: Monkey Business
 \nHome Score: 6\nAway Score: 7
END:VEVENT
BEGIN:VEVENT
UID:11231962@ezleagues.ezfacility.com
DTSTAMP:20260426T033653Z
CREATED:20260426T033653Z
DTSTART:20180222T023000Z
DTEND:20180222T032000Z
LOCATION:Harmans Premier Field #5
CONTACT:
SUMMARY:Kakaismessi VS. Surf 'n Turf
DESCRIPTION:League Name: Wed Coed Open 4th div Eagles \nGame Type: Regular\
 nGame Status: Complete\nHome Team: Kakaismessi\nAway Team: Surf 'n Turf\nH
 ome Score: 6\nAway Score: 2
END:VEVENT
END:VCALENDAR
