BEGIN:VCALENDAR
VERSION:2.0
PRODID:-//EZFacility.com, Inc.//EZL 2.5.5.28621
BEGIN:VEVENT
UID:11213421@ezleagues.ezfacility.com
DTSTAMP:20260426T034853Z
CREATED:20260426T034853Z
DTSTART:20180215T233000Z
DTEND:20180216T002500Z
LOCATION:Harmans Premier Field #4
CONTACT:
SUMMARY:Hawks VS. Force Majeure
DESCRIPTION:League Name: Thurs Mens Over 35s 3rd div \nGame Type: Regular\n
 Game Status: Complete\nHome Team: Hawks\nAway Team: Force Majeure\nHome Sc
 ore: 5\nAway Score: 1
END:VEVENT
BEGIN:VEVENT
UID:11213433@ezleagues.ezfacility.com
DTSTAMP:20260426T034853Z
CREATED:20260426T034853Z
DTSTART:20180222T233000Z
DTEND:20180223T002500Z
LOCATION:Harmans Premier Field #4
CONTACT:
SUMMARY:Hawks VS. Naptown United
DESCRIPTION:League Name: Thurs Mens Over 35s 3rd div \nGame Type: Regular\n
 Game Status: Complete\nHome Team: Hawks\nAway Team: Naptown United\nHome S
 core: 4\nAway Score: 1
END:VEVENT
BEGIN:VEVENT
UID:11213445@ezleagues.ezfacility.com
DTSTAMP:20260426T034853Z
CREATED:20260426T034853Z
DTSTART:20180301T233000Z
DTEND:20180302T002500Z
LOCATION:Harmans Premier Field #5
CONTACT:
SUMMARY:Chelsea FC VS. Hawks
DESCRIPTION:League Name: Thurs Mens Over 35s 3rd div \nGame Type: Regular\n
 Game Status: Complete\nHome Team: Chelsea FC\nAway Team: Hawks\nHome Score
 : 5\nAway Score: 3
END:VEVENT
BEGIN:VEVENT
UID:11213457@ezleagues.ezfacility.com
DTSTAMP:20260426T034853Z
CREATED:20260426T034853Z
DTSTART:20180308T233000Z
DTEND:20180309T002500Z
LOCATION:Harmans Premier Field #5
CONTACT:
SUMMARY:Soccer Dogs VS. Hawks
DESCRIPTION:League Name: Thurs Mens Over 35s 3rd div \nGame Type: Regular\n
 Game Status: Complete\nHome Team: Soccer Dogs\nAway Team: Hawks\nHome Scor
 e: 3\nAway Score: 5
END:VEVENT
BEGIN:VEVENT
UID:11213469@ezleagues.ezfacility.com
DTSTAMP:20260426T034853Z
CREATED:20260426T034853Z
DTSTART:20180315T223000Z
DTEND:20180315T232500Z
LOCATION:Harmans Premier Field #5
CONTACT:
SUMMARY:Feetballers VS. Hawks
DESCRIPTION:League Name: Thurs Mens Over 35s 3rd div \nGame Type: Regular\n
 Game Status: Complete\nHome Team: Feetballers\nAway Team: Hawks\nHome Scor
 e: 4\nAway Score: 5
END:VEVENT
BEGIN:VEVENT
UID:11213481@ezleagues.ezfacility.com
DTSTAMP:20260426T034853Z
CREATED:20260426T034853Z
DTSTART:20180322T223000Z
DTEND:20180322T232500Z
LOCATION:Harmans Premier Field #5
CONTACT:
SUMMARY:Memphis United VS. Hawks
DESCRIPTION:League Name: Thurs Mens Over 35s 3rd div \nGame Type: Regular\n
 Game Status: Complete\nHome Team: Memphis United\nAway Team: Hawks\nHome S
 core: 4\nAway Score: 6
END:VEVENT
BEGIN:VEVENT
UID:11213493@ezleagues.ezfacility.com
DTSTAMP:20260426T034853Z
CREATED:20260426T034853Z
DTSTART:20180329T223000Z
DTEND:20180329T232500Z
LOCATION:Harmans Premier Field #4
CONTACT:
SUMMARY:Hawks VS. F and S United
DESCRIPTION:League Name: Thurs Mens Over 35s 3rd div \nGame Type: Regular\n
 Game Status: Complete\nHome Team: Hawks\nAway Team: F and S United\nHome S
 core: 3\nAway Score: 2
END:VEVENT
BEGIN:VEVENT
UID:11327964@ezleagues.ezfacility.com
DTSTAMP:20260426T034853Z
CREATED:20260426T034853Z
DTSTART:20180406T002000Z
DTEND:20180406T011500Z
LOCATION:Harmans Premier Field #4
CONTACT:
SUMMARY:Hawks VS. F and S United
DESCRIPTION:League Name: Thurs Mens Over 35s 3rd div \nGame Type: Regular\n
 Game Status: Complete\nHome Team: Hawks\nAway Team: F and S United\nHome S
 core: 5\nAway Score: 4
END:VEVENT
BEGIN:VEVENT
UID:11352739@ezleagues.ezfacility.com
DTSTAMP:20260426T034853Z
CREATED:20260426T034853Z
DTSTART:20180412T232500Z
DTEND:20180413T002000Z
LOCATION:Harmans Premier Field #4
CONTACT:
SUMMARY:Hawks VS. Memphis United
DESCRIPTION:League Name: Thurs Mens Over 35s 3rd div \nGame Type: Regular\n
 Game Status: Complete\nHome Team: Hawks\nAway Team: Memphis United\nHome S
 core: 3\nAway Score: 2
END:VEVENT
END:VCALENDAR
