BEGIN:VCALENDAR
VERSION:2.0
PRODID:-//EZFacility.com, Inc.//EZL 2.5.5.28621
BEGIN:VEVENT
UID:11213424@ezleagues.ezfacility.com
DTSTAMP:20260424T041359Z
CREATED:20260424T041359Z
DTSTART:20180216T012000Z
DTEND:20180216T021500Z
LOCATION:Harmans Premier Field #5
CONTACT:
SUMMARY:Naptown United VS. Feetballers
DESCRIPTION:League Name: Thurs Mens Over 35s 3rd div \nGame Type: Regular\n
 Game Status: Complete\nHome Team: Naptown United\nAway Team: Feetballers\n
 Home Score: 3\nAway Score: 3
END:VEVENT
BEGIN:VEVENT
UID:11213433@ezleagues.ezfacility.com
DTSTAMP:20260424T041359Z
CREATED:20260424T041359Z
DTSTART:20180222T233000Z
DTEND:20180223T002500Z
LOCATION:Harmans Premier Field #4
CONTACT:
SUMMARY:Hawks VS. Naptown United
DESCRIPTION:League Name: Thurs Mens Over 35s 3rd div \nGame Type: Regular\n
 Game Status: Complete\nHome Team: Hawks\nAway Team: Naptown United\nHome S
 core: 4\nAway Score: 1
END:VEVENT
BEGIN:VEVENT
UID:11213448@ezleagues.ezfacility.com
DTSTAMP:20260424T041359Z
CREATED:20260424T041359Z
DTSTART:20180302T021500Z
DTEND:20180302T031000Z
LOCATION:Harmans Premier Field #5
CONTACT:
SUMMARY:F and S United VS. Naptown United
DESCRIPTION:League Name: Thurs Mens Over 35s 3rd div \nGame Type: Regular\n
 Game Status: Complete\nHome Team: F and S United\nAway Team: Naptown Unite
 d\nHome Score: 3\nAway Score: 5
END:VEVENT
BEGIN:VEVENT
UID:11213459@ezleagues.ezfacility.com
DTSTAMP:20260424T041359Z
CREATED:20260424T041359Z
DTSTART:20180309T040500Z
DTEND:20180309T050000Z
LOCATION:Harmans Premier Field #5
CONTACT:
SUMMARY:Force Majeure VS. Naptown United
DESCRIPTION:League Name: Thurs Mens Over 35s 3rd div \nGame Type: Regular\n
 Game Status: Complete\nHome Team: Force Majeure\nAway Team: Naptown United
 \nHome Score: 2\nAway Score: 2
END:VEVENT
BEGIN:VEVENT
UID:11213470@ezleagues.ezfacility.com
DTSTAMP:20260424T041359Z
CREATED:20260424T041359Z
DTSTART:20180315T232500Z
DTEND:20180316T002000Z
LOCATION:Harmans Premier Field #5
CONTACT:
SUMMARY:Naptown United VS. Memphis United
DESCRIPTION:League Name: Thurs Mens Over 35s 3rd div \nGame Type: Regular\n
 Game Status: Complete\nHome Team: Naptown United\nAway Team: Memphis Unite
 d\nHome Score: 4\nAway Score: 6
END:VEVENT
BEGIN:VEVENT
UID:11213482@ezleagues.ezfacility.com
DTSTAMP:20260424T041359Z
CREATED:20260424T041359Z
DTSTART:20180323T011500Z
DTEND:20180323T021000Z
LOCATION:Harmans Premier Field #5
CONTACT:
SUMMARY:Naptown United VS. Chelsea FC
DESCRIPTION:League Name: Thurs Mens Over 35s 3rd div \nGame Type: Regular\n
 Game Status: Complete\nHome Team: Naptown United\nAway Team: Chelsea FC\nH
 ome Score: 3\nAway Score: 5
END:VEVENT
BEGIN:VEVENT
UID:11213495@ezleagues.ezfacility.com
DTSTAMP:20260424T041359Z
CREATED:20260424T041359Z
DTSTART:20180330T002000Z
DTEND:20180330T011500Z
LOCATION:Harmans Premier Field #5
CONTACT:
SUMMARY:Naptown United VS. Soccer Dogs
DESCRIPTION:League Name: Thurs Mens Over 35s 3rd div \nGame Type: Regular\n
 Game Status: Complete\nHome Team: Naptown United\nAway Team: Soccer Dogs\n
 Home Score: 6\nAway Score: 5
END:VEVENT
BEGIN:VEVENT
UID:11327966@ezleagues.ezfacility.com
DTSTAMP:20260424T041359Z
CREATED:20260424T041359Z
DTSTART:20180406T030500Z
DTEND:20180406T040000Z
LOCATION:Harmans Premier Field #5
CONTACT:
SUMMARY:Feetballers VS. Naptown United
DESCRIPTION:League Name: Thurs Mens Over 35s 3rd div \nGame Type: Regular\n
 Game Status: Complete\nHome Team: Feetballers\nAway Team: Naptown United\n
 Home Score: 10\nAway Score: 2
END:VEVENT
BEGIN:VEVENT
UID:11352745@ezleagues.ezfacility.com
DTSTAMP:20260424T041359Z
CREATED:20260424T041359Z
DTSTART:20180413T002000Z
DTEND:20180413T011500Z
LOCATION:Harmans Premier Field #5
CONTACT:
SUMMARY:Naptown United VS. Force Majeure
DESCRIPTION:League Name: Thurs Mens Over 35s 3rd div \nGame Type: Regular\n
 Game Status: Complete\nHome Team: Naptown United\nAway Team: Force Majeure
 \nHome Score: 3\nAway Score: 2
END:VEVENT
END:VCALENDAR
