BEGIN:VCALENDAR
VERSION:2.0
PRODID:-//EZFacility.com, Inc.//EZL 2.5.5.28621
BEGIN:VEVENT
UID:10560093@ezleagues.ezfacility.com
DTSTAMP:20260426T034056Z
CREATED:20260426T034056Z
DTSTART:20170718T000000Z
DTEND:20170718T010000Z
LOCATION:Bridgeville RollerPlex
CONTACT:
SUMMARY:Mighty Ducks VS. Eruption Army
DESCRIPTION:League Name: z Archive 2017 Summer PUCK Deep South 1\nGame Type
 : Regular\nGame Status: Complete\nHome Team: Mighty Ducks\nAway Team: Erup
 tion Army\nHome Score: 5\nAway Score: 6
END:VEVENT
BEGIN:VEVENT
UID:10560098@ezleagues.ezfacility.com
DTSTAMP:20260426T034056Z
CREATED:20260426T034056Z
DTSTART:20170725T010000Z
DTEND:20170725T020000Z
LOCATION:Bridgeville RollerPlex
CONTACT:
SUMMARY:Eruption Army VS. Hog Hunters
DESCRIPTION:League Name: z Archive 2017 Summer PUCK Deep South 1\nGame Type
 : Regular\nGame Status: Complete\nHome Team: Eruption Army\nAway Team: Hog
  Hunters\nHome Score: 7\nAway Score: 3
END:VEVENT
BEGIN:VEVENT
UID:10560102@ezleagues.ezfacility.com
DTSTAMP:20260426T034056Z
CREATED:20260426T034056Z
DTSTART:20170801T000000Z
DTEND:20170801T010000Z
LOCATION:Bridgeville RollerPlex
CONTACT:
SUMMARY:Raging Hogs VS. Eruption Army
DESCRIPTION:League Name: z Archive 2017 Summer PUCK Deep South 1\nGame Type
 : Regular\nGame Status: Complete\nHome Team: Raging Hogs\nAway Team: Erupt
 ion Army\nHome Score: 9\nAway Score: 4
END:VEVENT
BEGIN:VEVENT
UID:10560106@ezleagues.ezfacility.com
DTSTAMP:20260426T034056Z
CREATED:20260426T034056Z
DTSTART:20170808T000000Z
DTEND:20170808T010000Z
LOCATION:Bridgeville RollerPlex
CONTACT:
SUMMARY: Misfits VS. Eruption Army
DESCRIPTION:League Name: z Archive 2017 Summer PUCK Deep South 1\nGame Type
 : Regular\nGame Status: Complete\nHome Team:  Misfits\nAway Team: Eruption
  Army\nHome Score: 6\nAway Score: 5
END:VEVENT
BEGIN:VEVENT
UID:10560109@ezleagues.ezfacility.com
DTSTAMP:20260426T034056Z
CREATED:20260426T034056Z
DTSTART:20170815T010000Z
DTEND:20170815T020000Z
LOCATION:Bridgeville RollerPlex
CONTACT:
SUMMARY:Team Darlene VS. Eruption Army
DESCRIPTION:League Name: z Archive 2017 Summer PUCK Deep South 1\nGame Type
 : Regular\nGame Status: Complete\nHome Team: Team Darlene\nAway Team: Erup
 tion Army\nHome Score: 4\nAway Score: 3
END:VEVENT
BEGIN:VEVENT
UID:10560113@ezleagues.ezfacility.com
DTSTAMP:20260426T034056Z
CREATED:20260426T034056Z
DTSTART:20170822T000000Z
DTEND:20170822T010000Z
LOCATION:Bridgeville RollerPlex
CONTACT:
SUMMARY:Rockets VS. Eruption Army
DESCRIPTION:League Name: z Archive 2017 Summer PUCK Deep South 1\nGame Type
 : Regular\nGame Status: Complete\nHome Team: Rockets\nAway Team: Eruption 
 Army\nHome Score: 3\nAway Score: 1
END:VEVENT
BEGIN:VEVENT
UID:10560117@ezleagues.ezfacility.com
DTSTAMP:20260426T034056Z
CREATED:20260426T034056Z
DTSTART:20170829T010000Z
DTEND:20170829T020000Z
LOCATION:Bridgeville RollerPlex
CONTACT:
SUMMARY:Eruption Army VS. BullDawgz 
DESCRIPTION:League Name: z Archive 2017 Summer PUCK Deep South 1\nGame Type
 : Regular\nGame Status: Complete\nHome Team: Eruption Army\nAway Team: Bul
 lDawgz \nHome Score: 6\nAway Score: 5
END:VEVENT
BEGIN:VEVENT
UID:10560126@ezleagues.ezfacility.com
DTSTAMP:20260426T034056Z
CREATED:20260426T034056Z
DTSTART:20170912T030000Z
DTEND:20170912T040000Z
LOCATION:Bridgeville RollerPlex
CONTACT:
SUMMARY:Eruption Army VS. Hog Hunters
DESCRIPTION:League Name: z Archive 2017 Summer PUCK Deep South 1\nGame Type
 : Regular\nGame Status: Complete\nHome Team: Eruption Army\nAway Team: Hog
  Hunters\nHome Score: 8\nAway Score: 0
END:VEVENT
BEGIN:VEVENT
UID:10560121@ezleagues.ezfacility.com
DTSTAMP:20260426T034056Z
CREATED:20260426T034056Z
DTSTART:20170916T160000Z
DTEND:20170916T170000Z
LOCATION:Bridgeville RollerPlex
CONTACT:
SUMMARY:Eruption Army VS. Mighty Ducks
DESCRIPTION:League Name: z Archive 2017 Summer PUCK Deep South 1\nGame Type
 : Regular\nGame Status: Complete\nHome Team: Eruption Army\nAway Team: Mig
 hty Ducks\nHome Score: 3\nAway Score: 10
END:VEVENT
BEGIN:VEVENT
UID:10560130@ezleagues.ezfacility.com
DTSTAMP:20260426T034056Z
CREATED:20260426T034056Z
DTSTART:20170919T020000Z
DTEND:20170919T030000Z
LOCATION:Bridgeville RollerPlex
CONTACT:
SUMMARY:Eruption Army VS. Raging Hogs
DESCRIPTION:League Name: z Archive 2017 Summer PUCK Deep South 1\nGame Type
 : Regular\nGame Status: Complete\nHome Team: Eruption Army\nAway Team: Rag
 ing Hogs\nHome Score: 4\nAway Score: 7
END:VEVENT
BEGIN:VEVENT
UID:10732317@ezleagues.ezfacility.com
DTSTAMP:20260426T034056Z
CREATED:20260426T034056Z
DTSTART:20171003T010000Z
DTEND:20171003T020000Z
LOCATION:Bridgeville RollerPlex
CONTACT:
SUMMARY: Misfits VS. Eruption Army
DESCRIPTION:League Name: z Archive 2017 Summer PUCK Deep South 1\nGame Type
 : Postseason\nGame Status: Complete\nHome Team:  Misfits\nAway Team: Erupt
 ion Army\nHome Score: 6\nAway Score: 3
END:VEVENT
END:VCALENDAR
