BEGIN:VCALENDAR
VERSION:2.0
PRODID:-//EZFacility.com, Inc.//EZL 2.5.5.28621
BEGIN:VEVENT
UID:10560095@ezleagues.ezfacility.com
DTSTAMP:20260426T033746Z
CREATED:20260426T033746Z
DTSTART:20170722T210000Z
DTEND:20170722T220000Z
LOCATION:Bridgeville RollerPlex
CONTACT:
SUMMARY:Team Darlene VS. Raging Hogs
DESCRIPTION:League Name: z Archive 2017 Summer PUCK Deep South 1\nGame Type
 : Regular\nGame Status: Complete\nHome Team: Team Darlene\nAway Team: Ragi
 ng Hogs\nHome Score: 3\nAway Score: 4
END:VEVENT
BEGIN:VEVENT
UID:10560100@ezleagues.ezfacility.com
DTSTAMP:20260426T033746Z
CREATED:20260426T033746Z
DTSTART:20170729T180000Z
DTEND:20170729T190000Z
LOCATION:Bridgeville RollerPlex
CONTACT:
SUMMARY:Rockets VS. Raging Hogs
DESCRIPTION:League Name: z Archive 2017 Summer PUCK Deep South 1\nGame Type
 : Regular\nGame Status: Complete\nHome Team: Rockets\nAway Team: Raging Ho
 gs\nHome Score: 6\nAway Score: 3
END:VEVENT
BEGIN:VEVENT
UID:10560102@ezleagues.ezfacility.com
DTSTAMP:20260426T033746Z
CREATED:20260426T033746Z
DTSTART:20170801T000000Z
DTEND:20170801T010000Z
LOCATION:Bridgeville RollerPlex
CONTACT:
SUMMARY:Raging Hogs VS. Eruption Army
DESCRIPTION:League Name: z Archive 2017 Summer PUCK Deep South 1\nGame Type
 : Regular\nGame Status: Complete\nHome Team: Raging Hogs\nAway Team: Erupt
 ion Army\nHome Score: 9\nAway Score: 4
END:VEVENT
BEGIN:VEVENT
UID:10560105@ezleagues.ezfacility.com
DTSTAMP:20260426T033746Z
CREATED:20260426T033746Z
DTSTART:20170812T180000Z
DTEND:20170812T190000Z
LOCATION:Bridgeville RollerPlex
CONTACT:
SUMMARY:Mighty Ducks VS. Raging Hogs
DESCRIPTION:League Name: z Archive 2017 Summer PUCK Deep South 1\nGame Type
 : Regular\nGame Status: Complete\nHome Team: Mighty Ducks\nAway Team: Ragi
 ng Hogs\nHome Score: 1\nAway Score: 4
END:VEVENT
BEGIN:VEVENT
UID:10560112@ezleagues.ezfacility.com
DTSTAMP:20260426T033746Z
CREATED:20260426T033746Z
DTSTART:20170819T230000Z
DTEND:20170820T000000Z
LOCATION:Bridgeville RollerPlex
CONTACT:
SUMMARY:Hog Hunters VS. Raging Hogs
DESCRIPTION:League Name: z Archive 2017 Summer PUCK Deep South 1\nGame Type
 : Regular\nGame Status: Complete\nHome Team: Hog Hunters\nAway Team: Ragin
 g Hogs\nHome Score: 5\nAway Score: 9
END:VEVENT
BEGIN:VEVENT
UID:10560115@ezleagues.ezfacility.com
DTSTAMP:20260426T033746Z
CREATED:20260426T033746Z
DTSTART:20170826T200000Z
DTEND:20170826T210000Z
LOCATION:Bridgeville RollerPlex
CONTACT:
SUMMARY:Raging Hogs VS. BullDawgz 
DESCRIPTION:League Name: z Archive 2017 Summer PUCK Deep South 1\nGame Type
 : Regular\nGame Status: Complete\nHome Team: Raging Hogs\nAway Team: BullD
 awgz \nHome Score: 6\nAway Score: 4
END:VEVENT
BEGIN:VEVENT
UID:10560119@ezleagues.ezfacility.com
DTSTAMP:20260426T033746Z
CREATED:20260426T033746Z
DTSTART:20170902T180000Z
DTEND:20170902T190000Z
LOCATION:Bridgeville RollerPlex
CONTACT:
SUMMARY:Raging Hogs VS.  Misfits
DESCRIPTION:League Name: z Archive 2017 Summer PUCK Deep South 1\nGame Type
 : Regular\nGame Status: Complete\nHome Team: Raging Hogs\nAway Team:  Misf
 its\nHome Score: 7\nAway Score: 2
END:VEVENT
BEGIN:VEVENT
UID:10560123@ezleagues.ezfacility.com
DTSTAMP:20260426T033746Z
CREATED:20260426T033746Z
DTSTART:20170909T230000Z
DTEND:20170910T000000Z
LOCATION:Bridgeville RollerPlex
CONTACT:
SUMMARY:Raging Hogs VS. Team Darlene
DESCRIPTION:League Name: z Archive 2017 Summer PUCK Deep South 1\nGame Type
 : Regular\nGame Status: Complete\nHome Team: Raging Hogs\nAway Team: Team 
 Darlene\nHome Score: 5\nAway Score: 3
END:VEVENT
BEGIN:VEVENT
UID:10560128@ezleagues.ezfacility.com
DTSTAMP:20260426T033746Z
CREATED:20260426T033746Z
DTSTART:20170916T200000Z
DTEND:20170916T210000Z
LOCATION:Bridgeville RollerPlex
CONTACT:
SUMMARY:Raging Hogs VS. Rockets
DESCRIPTION:League Name: z Archive 2017 Summer PUCK Deep South 1\nGame Type
 : Regular\nGame Status: Complete\nHome Team: Raging Hogs\nAway Team: Rocke
 ts\nHome Score: 5\nAway Score: 6
END:VEVENT
BEGIN:VEVENT
UID:10560130@ezleagues.ezfacility.com
DTSTAMP:20260426T033746Z
CREATED:20260426T033746Z
DTSTART:20170919T020000Z
DTEND:20170919T030000Z
LOCATION:Bridgeville RollerPlex
CONTACT:
SUMMARY:Eruption Army VS. Raging Hogs
DESCRIPTION:League Name: z Archive 2017 Summer PUCK Deep South 1\nGame Type
 : Regular\nGame Status: Complete\nHome Team: Eruption Army\nAway Team: Rag
 ing Hogs\nHome Score: 4\nAway Score: 7
END:VEVENT
BEGIN:VEVENT
UID:10732315@ezleagues.ezfacility.com
DTSTAMP:20260426T033746Z
CREATED:20260426T033746Z
DTSTART:20171001T000000Z
DTEND:20171001T010000Z
LOCATION:Bridgeville RollerPlex
CONTACT:
SUMMARY:Raging Hogs VS. Team Darlene
DESCRIPTION:League Name: z Archive 2017 Summer PUCK Deep South 1\nGame Type
 : Postseason\nGame Status: Complete\nHome Team: Raging Hogs\nAway Team: Te
 am Darlene\nHome Score: 11\nAway Score: 4
END:VEVENT
BEGIN:VEVENT
UID:10746123@ezleagues.ezfacility.com
DTSTAMP:20260426T033746Z
CREATED:20260426T033746Z
DTSTART:20171007T200000Z
DTEND:20171007T210000Z
LOCATION:Bridgeville RollerPlex
CONTACT:
SUMMARY:Raging Hogs VS. Mighty Ducks
DESCRIPTION:League Name: z Archive 2017 Summer PUCK Deep South 1\nGame Type
 : Postseason\nGame Status: Complete\nHome Team: Raging Hogs\nAway Team: Mi
 ghty Ducks\nHome Score: 5\nAway Score: 3
END:VEVENT
BEGIN:VEVENT
UID:10746124@ezleagues.ezfacility.com
DTSTAMP:20260426T033746Z
CREATED:20260426T033746Z
DTSTART:20171007T230000Z
DTEND:20171008T000000Z
LOCATION:Bridgeville RollerPlex
CONTACT:
SUMMARY:Raging Hogs VS. Rockets
DESCRIPTION:League Name: z Archive 2017 Summer PUCK Deep South 1\nGame Type
 : Postseason\nGame Status: Complete\nHome Team: Raging Hogs\nAway Team: Ro
 ckets\nHome Score: 6\nAway Score: 4
END:VEVENT
END:VCALENDAR
