BEGIN:VCALENDAR
VERSION:2.0
PRODID:-//EZFacility.com, Inc.//EZL 2.5.5.28621
BEGIN:VEVENT
UID:10623379@ezleagues.ezfacility.com
DTSTAMP:20260426T033634Z
CREATED:20260426T033634Z
DTSTART:20170831T013000Z
DTEND:20170831T023000Z
LOCATION:ESL Stephanie Mullins DDS Ct
CONTACT:
SUMMARY:Odessa Bulldogs (Waibel) VS. Xtreme (Huhman) 
DESCRIPTION:League Name: Indep Fall Session - Varsity Boys\nGame Type: Regu
 lar\nGame Status: Complete\nHome Team: Odessa Bulldogs (Waibel)\nAway Team
 : Xtreme (Huhman) \nHome Score: 58\nAway Score: 71
END:VEVENT
BEGIN:VEVENT
UID:10647085@ezleagues.ezfacility.com
DTSTAMP:20260426T033634Z
CREATED:20260426T033634Z
DTSTART:20170907T013000Z
DTEND:20170907T023000Z
LOCATION:ESL Stephanie Mullins DDS Ct
CONTACT:
SUMMARY:Odessa Bulldogs (Waibel) VS. LS Timberwolves (Kinder)
DESCRIPTION:League Name: Indep Fall Session - Varsity Boys\nGame Type: Regu
 lar\nGame Status: Complete\nHome Team: Odessa Bulldogs (Waibel)\nAway Team
 : LS Timberwolves (Kinder)\nHome Score: 25\nAway Score: 51
END:VEVENT
BEGIN:VEVENT
UID:10647091@ezleagues.ezfacility.com
DTSTAMP:20260426T033634Z
CREATED:20260426T033634Z
DTSTART:20170928T003000Z
DTEND:20170928T013000Z
LOCATION:ESL Stephanie Mullins DDS Ct
CONTACT:
SUMMARY:Xtreme (Huhman)  VS. Odessa Bulldogs (Waibel)
DESCRIPTION:League Name: Indep Fall Session - Varsity Boys\nGame Type: Regu
 lar\nGame Status: Complete\nHome Team: Xtreme (Huhman) \nAway Team: Odessa
  Bulldogs (Waibel)\nHome Score: 48\nAway Score: 52
END:VEVENT
BEGIN:VEVENT
UID:10647093@ezleagues.ezfacility.com
DTSTAMP:20260426T033634Z
CREATED:20260426T033634Z
DTSTART:20170928T013000Z
DTEND:20170928T023000Z
LOCATION:ESL Stephanie Mullins DDS Ct
CONTACT:
SUMMARY:KCHD Varsity (Berger) VS. Odessa Bulldogs (Waibel)
DESCRIPTION:League Name: Indep Fall Session - Varsity Boys\nGame Type: Regu
 lar\nGame Status: Complete\nHome Team: KCHD Varsity (Berger)\nAway Team: O
 dessa Bulldogs (Waibel)\nHome Score: 60\nAway Score: 30
END:VEVENT
BEGIN:VEVENT
UID:10647097@ezleagues.ezfacility.com
DTSTAMP:20260426T033634Z
CREATED:20260426T033634Z
DTSTART:20171005T013000Z
DTEND:20171005T023000Z
LOCATION:ESL The Albin CPA Firm\, LLC Ct
CONTACT:
SUMMARY:LS Timberwolves (Kinder) VS. Odessa Bulldogs (Waibel)
DESCRIPTION:League Name: Indep Fall Session - Varsity Boys\nGame Type: Regu
 lar\nGame Status: Complete\nHome Team: LS Timberwolves (Kinder)\nAway Team
 : Odessa Bulldogs (Waibel)\nHome Score: 53\nAway Score: 30
END:VEVENT
BEGIN:VEVENT
UID:10647101@ezleagues.ezfacility.com
DTSTAMP:20260426T033634Z
CREATED:20260426T033634Z
DTSTART:20171019T003000Z
DTEND:20171019T013000Z
LOCATION:ESL The Albin CPA Firm\, LLC Ct
CONTACT:
SUMMARY:Odessa Bulldogs (Waibel) VS. Magic (Jones)
DESCRIPTION:League Name: Indep Fall Session - Varsity Boys\nGame Type: Regu
 lar\nGame Status: Complete\nHome Team: Odessa Bulldogs (Waibel)\nAway Team
 : Magic (Jones)\nHome Score: 51\nAway Score: 56
END:VEVENT
BEGIN:VEVENT
UID:10647103@ezleagues.ezfacility.com
DTSTAMP:20260426T033634Z
CREATED:20260426T033634Z
DTSTART:20171026T003000Z
DTEND:20171026T013000Z
LOCATION:ESL Stephanie Mullins DDS Ct
CONTACT:
SUMMARY:Odessa Bulldogs (Waibel) VS. KCHD Varsity (Berger)
DESCRIPTION:League Name: Indep Fall Session - Varsity Boys\nGame Type: Regu
 lar\nGame Status: Complete\nHome Team: Odessa Bulldogs (Waibel)\nAway Team
 : KCHD Varsity (Berger)\nHome Score: 44\nAway Score: 64
END:VEVENT
BEGIN:VEVENT
UID:10647088@ezleagues.ezfacility.com
DTSTAMP:20260426T033634Z
CREATED:20260426T033634Z
DTSTART:20171026T233000Z
DTEND:20171027T003000Z
LOCATION:SAC Main Court
CONTACT:
SUMMARY:Magic (Jones) VS. Odessa Bulldogs (Waibel)
DESCRIPTION:League Name: Indep Fall Session - Varsity Boys\nGame Type: Regu
 lar\nGame Status: Complete\nHome Team: Magic (Jones)\nAway Team: Odessa Bu
 lldogs (Waibel)\nHome Score: 67\nAway Score: 52
END:VEVENT
END:VCALENDAR
