BEGIN:VCALENDAR
VERSION:2.0
PRODID:-//EZFacility.com, Inc.//EZL 2.5.5.28621
BEGIN:VEVENT
UID:944209@ezleagues.ezfacility.com
DTSTAMP:20260426T033719Z
CREATED:20260426T033719Z
DTSTART:20070909T160000Z
DTEND:20070909T180000Z
LOCATION:Chaparral (East)
CONTACT:
SUMMARY:Fusion FC VS. Zenith
DESCRIPTION:League Name: Fall 2007 Division 2B\nGame Type: Regular\nGame St
 atus: Complete\nHome Team: Fusion FC\nAway Team: Zenith\nHome Score: 2\nAw
 ay Score: 6
END:VEVENT
BEGIN:VEVENT
UID:944214@ezleagues.ezfacility.com
DTSTAMP:20260426T033719Z
CREATED:20260426T033719Z
DTSTART:20070916T160000Z
DTEND:20070916T180000Z
LOCATION:Chaparral (East)
CONTACT:
SUMMARY:Srbija VS. Zenith
DESCRIPTION:League Name: Fall 2007 Division 2B\nGame Type: Regular\nGame St
 atus: Complete\nHome Team: Srbija\nAway Team: Zenith\nHome Score: 2\nAway 
 Score: 4
END:VEVENT
BEGIN:VEVENT
UID:944218@ezleagues.ezfacility.com
DTSTAMP:20260426T033719Z
CREATED:20260426T033719Z
DTSTART:20070923T140000Z
DTEND:20070923T160000Z
LOCATION:Chaparral (East)
CONTACT:
SUMMARY:Zenith VS. Eagles
DESCRIPTION:League Name: Fall 2007 Division 2B\nGame Type: Regular\nGame St
 atus: Complete\nHome Team: Zenith\nAway Team: Eagles\nHome Score: 0\nAway 
 Score: 1
END:VEVENT
BEGIN:VEVENT
UID:944222@ezleagues.ezfacility.com
DTSTAMP:20260426T033719Z
CREATED:20260426T033719Z
DTSTART:20070930T120000Z
DTEND:20070930T140000Z
LOCATION:Chaparral (East)
CONTACT:
SUMMARY:Sirocco VS. Zenith
DESCRIPTION:League Name: Fall 2007 Division 2B\nGame Type: Regular\nGame St
 atus: Complete\nHome Team: Sirocco\nAway Team: Zenith\nHome Score: 6\nAway
  Score: 0
END:VEVENT
BEGIN:VEVENT
UID:944230@ezleagues.ezfacility.com
DTSTAMP:20260426T033719Z
CREATED:20260426T033719Z
DTSTART:20071014T080000Z
DTEND:20071014T100000Z
LOCATION:Chaparral (East)
CONTACT:
SUMMARY:Zenith VS. Killer Bees
DESCRIPTION:League Name: Fall 2007 Division 2B\nGame Type: Regular\nGame St
 atus: Complete\nHome Team: Zenith\nAway Team: Killer Bees\nHome Score: 4\n
 Away Score: 1
END:VEVENT
BEGIN:VEVENT
UID:944236@ezleagues.ezfacility.com
DTSTAMP:20260426T033719Z
CREATED:20260426T033719Z
DTSTART:20071021T120000Z
DTEND:20071021T140000Z
LOCATION:Chaparral (East)
CONTACT:
SUMMARY:Los Galacticos VS. Zenith
DESCRIPTION:League Name: Fall 2007 Division 2B\nGame Type: Regular\nGame St
 atus: Complete\nHome Team: Los Galacticos\nAway Team: Zenith\nHome Score: 
 1\nAway Score: 1
END:VEVENT
BEGIN:VEVENT
UID:944242@ezleagues.ezfacility.com
DTSTAMP:20260426T033719Z
CREATED:20260426T033719Z
DTSTART:20071028T100000Z
DTEND:20071028T120000Z
LOCATION:Chaparral (East)
CONTACT:
SUMMARY:Zenith VS. Korona
DESCRIPTION:League Name: Fall 2007 Division 2B\nGame Type: Regular\nGame St
 atus: Complete\nHome Team: Zenith\nAway Team: Korona\nHome Score: 1\nAway 
 Score: 4
END:VEVENT
BEGIN:VEVENT
UID:944248@ezleagues.ezfacility.com
DTSTAMP:20260426T033719Z
CREATED:20260426T033719Z
DTSTART:20071104T140000Z
DTEND:20071104T160000Z
LOCATION:McDowell Mtn (North)
CONTACT:
SUMMARY:St. Nicolas VS. Zenith
DESCRIPTION:League Name: Fall 2007 Division 2B\nGame Type: Regular\nGame St
 atus: Complete\nHome Team: St. Nicolas\nAway Team: Zenith\nHome Score: 4\n
 Away Score: 5
END:VEVENT
BEGIN:VEVENT
UID:944226@ezleagues.ezfacility.com
DTSTAMP:20260426T033719Z
CREATED:20260426T033719Z
DTSTART:20071111T160000Z
DTEND:20071111T180000Z
LOCATION:Chaparral (East)
CONTACT:
SUMMARY:Zenith VS. Diversity United
DESCRIPTION:League Name: Fall 2007 Division 2B\nGame Type: Regular\nGame St
 atus: Complete\nHome Team: Zenith\nAway Team: Diversity United\nHome Score
 : 1\nAway Score: 3
END:VEVENT
END:VCALENDAR
