BEGIN:VCALENDAR
VERSION:2.0
PRODID:-//EZFacility.com, Inc.//EZL 2.5.5.28621
BEGIN:VEVENT
UID:10659032@ezleagues.ezfacility.com
DTSTAMP:20260424T044004Z
CREATED:20260424T044004Z
DTSTART:20170910T170000Z
DTEND:20170910T183000Z
LOCATION:Copper Ridge
CONTACT:
SUMMARY:SSMI VS. Winged Bull
DESCRIPTION:League Name: Fall 2017 Division C\nGame Type: Regular\nGame Sta
 tus: Complete\nHome Team: SSMI\nAway Team: Winged Bull\nHome Score: 3\nAwa
 y Score: 4
END:VEVENT
BEGIN:VEVENT
UID:10659026@ezleagues.ezfacility.com
DTSTAMP:20260424T044004Z
CREATED:20260424T044004Z
DTSTART:20170917T190000Z
DTEND:20170917T203000Z
LOCATION:Copper Ridge
CONTACT:
SUMMARY:Winged Bull VS. Cuervos FC
DESCRIPTION:League Name: Fall 2017 Division C\nGame Type: Regular\nGame Sta
 tus: Complete\nHome Team: Winged Bull\nAway Team: Cuervos FC\nHome Score: 
 4\nAway Score: 0
END:VEVENT
BEGIN:VEVENT
UID:10659041@ezleagues.ezfacility.com
DTSTAMP:20260424T044004Z
CREATED:20260424T044004Z
DTSTART:20170924T190000Z
DTEND:20170924T203000Z
LOCATION:Chaparral (West)
CONTACT:
SUMMARY:See U Next Sunday - SUNS VS. Winged Bull
DESCRIPTION:League Name: Fall 2017 Division C\nGame Type: Regular\nGame Sta
 tus: Complete\nHome Team: See U Next Sunday - SUNS\nAway Team: Winged Bull
 \nHome Score: 3\nAway Score: 5
END:VEVENT
BEGIN:VEVENT
UID:10659035@ezleagues.ezfacility.com
DTSTAMP:20260424T044004Z
CREATED:20260424T044004Z
DTSTART:20171001T170000Z
DTEND:20171001T183000Z
LOCATION:McDowell Mtn (Back)
CONTACT:
SUMMARY:Winged Bull VS. Korona FC
DESCRIPTION:League Name: Fall 2017 Division C\nGame Type: Regular\nGame Sta
 tus: Complete\nHome Team: Winged Bull\nAway Team: Korona FC\nHome Score: 8
 \nAway Score: 3
END:VEVENT
BEGIN:VEVENT
UID:10659020@ezleagues.ezfacility.com
DTSTAMP:20260424T044004Z
CREATED:20260424T044004Z
DTSTART:20171008T150000Z
DTEND:20171008T163000Z
LOCATION:McDowell Mtn (Back)
CONTACT:
SUMMARY:Rick's Real Scottsdale City VS. Winged Bull
DESCRIPTION:League Name: Fall 2017 Division C\nGame Type: Regular\nGame Sta
 tus: Complete\nHome Team: Rick's Real Scottsdale City\nAway Team: Winged B
 ull\nHome Score: 0\nAway Score: 11
END:VEVENT
BEGIN:VEVENT
UID:10659024@ezleagues.ezfacility.com
DTSTAMP:20260424T044004Z
CREATED:20260424T044004Z
DTSTART:20171015T190000Z
DTEND:20171015T203000Z
LOCATION:McDowell Mtn (Back)
CONTACT:
SUMMARY:Winged Bull VS. Lightspeed FC
DESCRIPTION:League Name: Fall 2017 Division C\nGame Type: Regular\nGame Sta
 tus: Complete\nHome Team: Winged Bull\nAway Team: Lightspeed FC\nHome Scor
 e: 2\nAway Score: 4
END:VEVENT
BEGIN:VEVENT
UID:10659626@ezleagues.ezfacility.com
DTSTAMP:20260424T044004Z
CREATED:20260424T044004Z
DTSTART:20171029T150000Z
DTEND:20171029T163000Z
LOCATION:McDowell Mtn (Back)
CONTACT:
SUMMARY:Winged Bull VS. SSMI
DESCRIPTION:League Name: Fall 2017 Division C\nGame Type: Regular\nGame Sta
 tus: Complete\nHome Team: Winged Bull\nAway Team: SSMI\nHome Score: 4\nAwa
 y Score: 0
END:VEVENT
BEGIN:VEVENT
UID:10659630@ezleagues.ezfacility.com
DTSTAMP:20260424T044004Z
CREATED:20260424T044004Z
DTSTART:20171105T190000Z
DTEND:20171105T203000Z
LOCATION:McDowell Mtn (Back)
CONTACT:
SUMMARY:Cuervos FC VS. Winged Bull
DESCRIPTION:League Name: Fall 2017 Division C\nGame Type: Regular\nGame Sta
 tus: Complete\nHome Team: Cuervos FC\nAway Team: Winged Bull\nHome Score: 
 1\nAway Score: 1
END:VEVENT
END:VCALENDAR
