BEGIN:VCALENDAR
VERSION:2.0
PRODID:-//EZFacility.com, Inc.//EZL 2.5.5.28621
BEGIN:VEVENT
UID:10691093@ezleagues.ezfacility.com
DTSTAMP:20260426T034034Z
CREATED:20260426T034034Z
DTSTART:20170924T150000Z
DTEND:20170924T160000Z
LOCATION:Basketball Court South
CONTACT:
SUMMARY:Hawks VS. Pirates
DESCRIPTION:League Name: Adult Basketball Fall 2017 \nGame Type: Regular\nG
 ame Status: Complete\nHome Team: Hawks\nAway Team: Pirates\nHome Score: 75
 \nAway Score: 78
END:VEVENT
BEGIN:VEVENT
UID:10691097@ezleagues.ezfacility.com
DTSTAMP:20260426T034034Z
CREATED:20260426T034034Z
DTSTART:20171001T150000Z
DTEND:20171001T160000Z
LOCATION:Basketball Court South
CONTACT:
SUMMARY:Hawks VS. Wilke Enginuity
DESCRIPTION:League Name: Adult Basketball Fall 2017 \nGame Type: Regular\nG
 ame Status: Complete\nHome Team: Hawks\nAway Team: Wilke Enginuity\nHome S
 core: 39\nAway Score: 64
END:VEVENT
BEGIN:VEVENT
UID:10691101@ezleagues.ezfacility.com
DTSTAMP:20260426T034034Z
CREATED:20260426T034034Z
DTSTART:20171008T160000Z
DTEND:20171008T170000Z
LOCATION:Basketball Court South
CONTACT:
SUMMARY:Hawks VS. Kawhi is Still Better Than Lebron
DESCRIPTION:League Name: Adult Basketball Fall 2017 \nGame Type: Regular\nG
 ame Status: Complete\nHome Team: Hawks\nAway Team: Kawhi is Still Better T
 han Lebron\nHome Score: 41\nAway Score: 71
END:VEVENT
BEGIN:VEVENT
UID:10691105@ezleagues.ezfacility.com
DTSTAMP:20260426T034034Z
CREATED:20260426T034034Z
DTSTART:20171015T140000Z
DTEND:20171015T150000Z
LOCATION:Basketball Court South
CONTACT:
SUMMARY:Buzzer Beaters VS. Hawks
DESCRIPTION:League Name: Adult Basketball Fall 2017 \nGame Type: Regular\nG
 ame Status: Complete\nHome Team: Buzzer Beaters\nAway Team: Hawks\nHome Sc
 ore: 65\nAway Score: 60
END:VEVENT
BEGIN:VEVENT
UID:10691109@ezleagues.ezfacility.com
DTSTAMP:20260426T034034Z
CREATED:20260426T034034Z
DTSTART:20171022T150000Z
DTEND:20171022T160000Z
LOCATION:Basketball Court South
CONTACT:
SUMMARY:ESPN VS. Hawks
DESCRIPTION:League Name: Adult Basketball Fall 2017 \nGame Type: Regular\nG
 ame Status: Complete\nHome Team: ESPN\nAway Team: Hawks\nHome Score: 87\nA
 way Score: 38
END:VEVENT
BEGIN:VEVENT
UID:10691113@ezleagues.ezfacility.com
DTSTAMP:20260426T034034Z
CREATED:20260426T034034Z
DTSTART:20171029T150000Z
DTEND:20171029T160000Z
LOCATION:Basketball Court South
CONTACT:
SUMMARY:Hand Down Man Down VS. Hawks
DESCRIPTION:League Name: Adult Basketball Fall 2017 \nGame Type: Regular\nG
 ame Status: Complete\nHome Team: Hand Down Man Down\nAway Team: Hawks\nHom
 e Score: 50\nAway Score: 36
END:VEVENT
BEGIN:VEVENT
UID:10691117@ezleagues.ezfacility.com
DTSTAMP:20260426T034034Z
CREATED:20260426T034034Z
DTSTART:20171105T150000Z
DTEND:20171105T160000Z
LOCATION:Basketball Court South
CONTACT:
SUMMARY:Hawks VS. Gamblers
DESCRIPTION:League Name: Adult Basketball Fall 2017 \nGame Type: Regular\nG
 ame Status: Complete\nHome Team: Hawks\nAway Team: Gamblers\nHome Score: 4
 7\nAway Score: 26
END:VEVENT
END:VCALENDAR
