BEGIN:VCALENDAR
VERSION:2.0
PRODID:-//EZFacility.com, Inc.//EZL 2.5.5.28621
BEGIN:VEVENT
UID:10691096@ezleagues.ezfacility.com
DTSTAMP:20260426T033831Z
CREATED:20260426T033831Z
DTSTART:20170924T130000Z
DTEND:20170924T140000Z
LOCATION:Basketball Court South
CONTACT:
SUMMARY:Buzzer Beaters VS. ESPN
DESCRIPTION:League Name: Adult Basketball Fall 2017 \nGame Type: Regular\nG
 ame Status: Complete\nHome Team: Buzzer Beaters\nAway Team: ESPN\nHome Sco
 re: 48\nAway Score: 53
END:VEVENT
BEGIN:VEVENT
UID:10691100@ezleagues.ezfacility.com
DTSTAMP:20260426T033831Z
CREATED:20260426T033831Z
DTSTART:20171001T160000Z
DTEND:20171001T170000Z
LOCATION:Basketball Court South
CONTACT:
SUMMARY:ESPN VS. Hand Down Man Down
DESCRIPTION:League Name: Adult Basketball Fall 2017 \nGame Type: Regular\nG
 ame Status: Complete\nHome Team: ESPN\nAway Team: Hand Down Man Down\nHome
  Score: 48\nAway Score: 46
END:VEVENT
BEGIN:VEVENT
UID:10691103@ezleagues.ezfacility.com
DTSTAMP:20260426T033831Z
CREATED:20260426T033831Z
DTSTART:20171008T130000Z
DTEND:20171008T140000Z
LOCATION:Basketball Court South
CONTACT:
SUMMARY:ESPN VS. Pirates
DESCRIPTION:League Name: Adult Basketball Fall 2017 \nGame Type: Regular\nG
 ame Status: Complete\nHome Team: ESPN\nAway Team: Pirates\nHome Score: 56\
 nAway Score: 64
END:VEVENT
BEGIN:VEVENT
UID:10691106@ezleagues.ezfacility.com
DTSTAMP:20260426T033831Z
CREATED:20260426T033831Z
DTSTART:20171015T150000Z
DTEND:20171015T160000Z
LOCATION:Basketball Court South
CONTACT:
SUMMARY:Kawhi is Still Better Than Lebron VS. ESPN
DESCRIPTION:League Name: Adult Basketball Fall 2017 \nGame Type: Regular\nG
 ame Status: Complete\nHome Team: Kawhi is Still Better Than Lebron\nAway T
 eam: ESPN\nHome Score: 52\nAway Score: 57
END:VEVENT
BEGIN:VEVENT
UID:10691109@ezleagues.ezfacility.com
DTSTAMP:20260426T033831Z
CREATED:20260426T033831Z
DTSTART:20171022T150000Z
DTEND:20171022T160000Z
LOCATION:Basketball Court South
CONTACT:
SUMMARY:ESPN VS. Hawks
DESCRIPTION:League Name: Adult Basketball Fall 2017 \nGame Type: Regular\nG
 ame Status: Complete\nHome Team: ESPN\nAway Team: Hawks\nHome Score: 87\nA
 way Score: 38
END:VEVENT
BEGIN:VEVENT
UID:10691114@ezleagues.ezfacility.com
DTSTAMP:20260426T033831Z
CREATED:20260426T033831Z
DTSTART:20171029T160000Z
DTEND:20171029T170000Z
LOCATION:Basketball Court South
CONTACT:
SUMMARY:ESPN VS. Gamblers
DESCRIPTION:League Name: Adult Basketball Fall 2017 \nGame Type: Regular\nG
 ame Status: Complete\nHome Team: ESPN\nAway Team: Gamblers\nHome Score: 76
 \nAway Score: 49
END:VEVENT
BEGIN:VEVENT
UID:10691119@ezleagues.ezfacility.com
DTSTAMP:20260426T033831Z
CREATED:20260426T033831Z
DTSTART:20171105T140000Z
DTEND:20171105T150000Z
LOCATION:Basketball Court South
CONTACT:
SUMMARY:ESPN VS. Wilke Enginuity
DESCRIPTION:League Name: Adult Basketball Fall 2017 \nGame Type: Regular\nG
 ame Status: Complete\nHome Team: ESPN\nAway Team: Wilke Enginuity\nHome Sc
 ore: 54\nAway Score: 52
END:VEVENT
BEGIN:VEVENT
UID:10691124@ezleagues.ezfacility.com
DTSTAMP:20260426T033831Z
CREATED:20260426T033831Z
DTSTART:20171112T160000Z
DTEND:20171112T170000Z
LOCATION:Basketball Court South
CONTACT:
SUMMARY:ESPN VS. Buzzer Beaters
DESCRIPTION:League Name: Adult Basketball Fall 2017 \nGame Type: Regular\nG
 ame Status: Complete\nHome Team: ESPN\nAway Team: Buzzer Beaters\nHome Sco
 re: 76\nAway Score: 65
END:VEVENT
BEGIN:VEVENT
UID:10691128@ezleagues.ezfacility.com
DTSTAMP:20260426T033831Z
CREATED:20260426T033831Z
DTSTART:20171119T170000Z
DTEND:20171119T180000Z
LOCATION:Basketball Court South
CONTACT:
SUMMARY:Hand Down Man Down VS. ESPN
DESCRIPTION:League Name: Adult Basketball Fall 2017 \nGame Type: Regular\nG
 ame Status: Complete\nHome Team: Hand Down Man Down\nAway Team: ESPN\nHome
  Score: 62\nAway Score: 60
END:VEVENT
BEGIN:VEVENT
UID:10691131@ezleagues.ezfacility.com
DTSTAMP:20260426T033831Z
CREATED:20260426T033831Z
DTSTART:20171203T160000Z
DTEND:20171203T170000Z
LOCATION:Basketball Court South
CONTACT:
SUMMARY:Pirates VS. ESPN
DESCRIPTION:League Name: Adult Basketball Fall 2017 \nGame Type: Regular\nG
 ame Status: Complete\nHome Team: Pirates\nAway Team: ESPN\nHome Score: 64\
 nAway Score: 53
END:VEVENT
BEGIN:VEVENT
UID:10985481@ezleagues.ezfacility.com
DTSTAMP:20260426T033831Z
CREATED:20260426T033831Z
DTSTART:20171210T160000Z
DTEND:20171210T170000Z
LOCATION:Basketball Court South
CONTACT:
SUMMARY:Gamblers VS. ESPN
DESCRIPTION:League Name: Adult Basketball Fall 2017 \nGame Type: Postseason
 \nGame Status: Complete\nHome Team: Gamblers\nAway Team: ESPN\nHome Score:
  36\nAway Score: 62
END:VEVENT
BEGIN:VEVENT
UID:10985483@ezleagues.ezfacility.com
DTSTAMP:20260426T033831Z
CREATED:20260426T033831Z
DTSTART:20171217T150000Z
DTEND:20171217T160000Z
LOCATION:Basketball Court South
CONTACT:
SUMMARY:Buzzer Beaters VS. ESPN
DESCRIPTION:League Name: Adult Basketball Fall 2017 \nGame Type: Postseason
 \nGame Status: Pending\nHome Team: Buzzer Beaters\nAway Team: ESPN\n
END:VEVENT
BEGIN:VEVENT
UID:10985484@ezleagues.ezfacility.com
DTSTAMP:20260426T033831Z
CREATED:20260426T033831Z
DTSTART:20171217T160000Z
DTEND:20171217T170000Z
LOCATION:Basketball Court South
CONTACT:
SUMMARY:Kawhi is Still Better Than Lebron VS. ESPN
DESCRIPTION:League Name: Adult Basketball Fall 2017 \nGame Type: Postseason
 \nGame Status: Complete\nHome Team: Kawhi is Still Better Than Lebron\nAwa
 y Team: ESPN\nHome Score: 43\nAway Score: 64
END:VEVENT
END:VCALENDAR
