BEGIN:VCALENDAR
VERSION:2.0
PRODID:-//EZFacility.com, Inc.//EZL 2.5.5.28621
BEGIN:VEVENT
UID:10717907@ezleagues.ezfacility.com
DTSTAMP:20260424T032032Z
CREATED:20260424T032032Z
DTSTART:20170921T230000Z
DTEND:20170921T234000Z
LOCATION:zClarkson 
CONTACT:
SUMMARY:I - Savs VS. I -YRN
DESCRIPTION:League Name: MSL Basketball League - Thursday\nGame Type: Regul
 ar\nGame Status: Complete\nHome Team: I - Savs\nAway Team: I -YRN\nHome Sc
 ore: 0\nAway Score: 20
END:VEVENT
BEGIN:VEVENT
UID:10717905@ezleagues.ezfacility.com
DTSTAMP:20260424T032032Z
CREATED:20260424T032032Z
DTSTART:20170929T004000Z
DTEND:20170929T012000Z
LOCATION:zClarkson 
CONTACT:
SUMMARY:I - Savs VS. Warriors
DESCRIPTION:League Name: MSL Basketball League - Thursday\nGame Type: Regul
 ar\nGame Status: Complete\nHome Team: I - Savs\nAway Team: Warriors\nHome 
 Score: 52\nAway Score: 56
END:VEVENT
BEGIN:VEVENT
UID:10717836@ezleagues.ezfacility.com
DTSTAMP:20260424T032032Z
CREATED:20260424T032032Z
DTSTART:20171006T004000Z
DTEND:20171006T012000Z
LOCATION:zClarkson 
CONTACT:
SUMMARY:Warriors VS. I - Savs
DESCRIPTION:League Name: MSL Basketball League - Thursday\nGame Type: Regul
 ar\nGame Status: Complete\nHome Team: Warriors\nAway Team: I - Savs\nHome 
 Score: 46\nAway Score: 52
END:VEVENT
BEGIN:VEVENT
UID:10717842@ezleagues.ezfacility.com
DTSTAMP:20260424T032032Z
CREATED:20260424T032032Z
DTSTART:20171013T022000Z
DTEND:20171013T030000Z
LOCATION:zClarkson 
CONTACT:
SUMMARY:Ducks VS. I - Savs
DESCRIPTION:League Name: MSL Basketball League - Thursday\nGame Type: Regul
 ar\nGame Status: Complete\nHome Team: Ducks\nAway Team: I - Savs\nHome Sco
 re: 43\nAway Score: 60
END:VEVENT
BEGIN:VEVENT
UID:10717848@ezleagues.ezfacility.com
DTSTAMP:20260424T032032Z
CREATED:20260424T032032Z
DTSTART:20171020T013000Z
DTEND:20171020T021000Z
LOCATION:zClarkson 
CONTACT:
SUMMARY:Looney Tunes VS. I - Savs
DESCRIPTION:League Name: MSL Basketball League - Thursday\nGame Type: Regul
 ar\nGame Status: Complete\nHome Team: Looney Tunes\nAway Team: I - Savs\nH
 ome Score: 53\nAway Score: 75
END:VEVENT
BEGIN:VEVENT
UID:10717854@ezleagues.ezfacility.com
DTSTAMP:20260424T032032Z
CREATED:20260424T032032Z
DTSTART:20171027T013000Z
DTEND:20171027T021000Z
LOCATION:zClarkson 
CONTACT:
SUMMARY:I -YRN VS. I - Savs
DESCRIPTION:League Name: MSL Basketball League - Thursday\nGame Type: Regul
 ar\nGame Status: Complete\nHome Team: I -YRN\nAway Team: I - Savs\nHome Sc
 ore: 62\nAway Score: 57
END:VEVENT
BEGIN:VEVENT
UID:10717859@ezleagues.ezfacility.com
DTSTAMP:20260424T032032Z
CREATED:20260424T032032Z
DTSTART:20171103T022000Z
DTEND:20171103T030000Z
LOCATION:zClarkson 
CONTACT:
SUMMARY:I - The Veterans VS. I - Savs
DESCRIPTION:League Name: MSL Basketball League - Thursday\nGame Type: Regul
 ar\nGame Status: Complete\nHome Team: I - The Veterans\nAway Team: I - Sav
 s\nHome Score: 54\nAway Score: 49
END:VEVENT
BEGIN:VEVENT
UID:10717865@ezleagues.ezfacility.com
DTSTAMP:20260424T032032Z
CREATED:20260424T032032Z
DTSTART:20171110T000000Z
DTEND:20171110T004000Z
LOCATION:zClarkson 
CONTACT:
SUMMARY:The Minorities VS. I - Savs
DESCRIPTION:League Name: MSL Basketball League - Thursday\nGame Type: Regul
 ar\nGame Status: Complete\nHome Team: The Minorities\nAway Team: I - Savs\
 nHome Score: 31\nAway Score: 94
END:VEVENT
BEGIN:VEVENT
UID:10717868@ezleagues.ezfacility.com
DTSTAMP:20260424T032032Z
CREATED:20260424T032032Z
DTSTART:20171117T005000Z
DTEND:20171117T013000Z
LOCATION:zClarkson 
CONTACT:
SUMMARY:I - Savs VS. Mixed Nutz
DESCRIPTION:League Name: MSL Basketball League - Thursday\nGame Type: Regul
 ar\nGame Status: Complete\nHome Team: I - Savs\nAway Team: Mixed Nutz\nHom
 e Score: 51\nAway Score: 38
END:VEVENT
BEGIN:VEVENT
UID:10717875@ezleagues.ezfacility.com
DTSTAMP:20260424T032032Z
CREATED:20260424T032032Z
DTSTART:20171124T023000Z
DTEND:20171124T031000Z
LOCATION:zClarkson 
CONTACT:
SUMMARY:OD Paints VS. I - Savs
DESCRIPTION:League Name: MSL Basketball League - Thursday\nGame Type: Regul
 ar\nGame Status: Complete\nHome Team: OD Paints\nAway Team: I - Savs\nHome
  Score: 69\nAway Score: 63
END:VEVENT
BEGIN:VEVENT
UID:10717877@ezleagues.ezfacility.com
DTSTAMP:20260424T032032Z
CREATED:20260424T032032Z
DTSTART:20171201T000000Z
DTEND:20171201T004000Z
LOCATION:zClarkson 
CONTACT:
SUMMARY:I - Money VS. I - Savs
DESCRIPTION:League Name: MSL Basketball League - Thursday\nGame Type: Regul
 ar\nGame Status: Complete\nHome Team: I - Money\nAway Team: I - Savs\nHome
  Score: 43\nAway Score: 54
END:VEVENT
BEGIN:VEVENT
UID:10717881@ezleagues.ezfacility.com
DTSTAMP:20260424T032032Z
CREATED:20260424T032032Z
DTSTART:20171208T014000Z
DTEND:20171208T022000Z
LOCATION:zClarkson 
CONTACT:
SUMMARY:I - Savs VS. Warriors
DESCRIPTION:League Name: MSL Basketball League - Thursday\nGame Type: Regul
 ar\nGame Status: Complete\nHome Team: I - Savs\nAway Team: Warriors\nHome 
 Score: 53\nAway Score: 57
END:VEVENT
BEGIN:VEVENT
UID:10717887@ezleagues.ezfacility.com
DTSTAMP:20260424T032032Z
CREATED:20260424T032032Z
DTSTART:20171215T005000Z
DTEND:20171215T013000Z
LOCATION:zClarkson 
CONTACT:
SUMMARY:I - Savs VS. Ducks
DESCRIPTION:League Name: MSL Basketball League - Thursday\nGame Type: Regul
 ar\nGame Status: Complete\nHome Team: I - Savs\nAway Team: Ducks\nHome Sco
 re: 70\nAway Score: 46
END:VEVENT
BEGIN:VEVENT
UID:10717895@ezleagues.ezfacility.com
DTSTAMP:20260424T032032Z
CREATED:20260424T032032Z
DTSTART:20171222T032000Z
DTEND:20171222T040000Z
LOCATION:zClarkson 
CONTACT:
SUMMARY:Mixed Nutz VS. I - Savs
DESCRIPTION:League Name: MSL Basketball League - Thursday\nGame Type: Regul
 ar\nGame Status: Complete\nHome Team: Mixed Nutz\nAway Team: I - Savs\nHom
 e Score: 37\nAway Score: 56
END:VEVENT
BEGIN:VEVENT
UID:10717896@ezleagues.ezfacility.com
DTSTAMP:20260424T032032Z
CREATED:20260424T032032Z
DTSTART:20180105T032000Z
DTEND:20180105T040000Z
LOCATION:zClarkson 
CONTACT:
SUMMARY:I - The Veterans VS. I - Savs
DESCRIPTION:League Name: MSL Basketball League - Thursday\nGame Type: Posts
 eason\nGame Status: Complete\nHome Team: I - The Veterans\nAway Team: I - 
 Savs\nHome Score: 0\nAway Score: 1
END:VEVENT
BEGIN:VEVENT
UID:11081645@ezleagues.ezfacility.com
DTSTAMP:20260424T032032Z
CREATED:20260424T032032Z
DTSTART:20180112T014000Z
DTEND:20180112T022000Z
LOCATION:zClarkson 
CONTACT:
SUMMARY:OD Paints VS. I - Savs
DESCRIPTION:League Name: MSL Basketball League - Thursday\nGame Type: Posts
 eason\nGame Status: Pending\nHome Team: OD Paints\nAway Team: I - Savs\n
END:VEVENT
END:VCALENDAR
